{"text_format":"1","workbook":"xlsx","n_sheets":3,"sheets":["Calculator","Data","Life Expectancy"],"not_rendered":{"charts":0,"images":0,"macros":1,"external_links":0,"defined_names":4,"comments":0,"pivot_tables":0},"unopened":[],"bounds":{"document_bytes":16777216,"sheet_cells":100000,"rows_first":2000,"rows_last":500,"rows_between":2000,"halvings":0,"cell_chars":16384,"cell_head_chars":4096},"cells_cut":0,"cells_raw":0,"read":"whole","date_system":"1900"}

{"sheet":"Calculator","index":0,"n_rows":15,"n_cols":9,"rows_kept":15,"cut":false,"hidden":false,"merged":[[2,2,2,7]]}
[]
[]
[null,null,"COLA Suspension Calculator"]
[]
[]
[null,null,"Member Type:",null,{"$f":"IF(D6=\"\",\"*\",\"\")","v":"*"}]
[]
[null,null,"Date of Birth:",null,{"$f":"IF(DoB=\"\",\"*\",\"\")","v":"*"},null,{"$f":"IF(D6=\"Active\",\"Expected Retirement Date:\",\"\")","v":""},null,{"$f":"IF(AND(D6=\"Active\",H8=\"\"),\"*\",\"\")","v":""}]
[]
[null,null,{"$f":"IF(D6=\"ACTIVE\",\"Age at Retirement:\",\"Current Age:\")","v":"Current Age:"},{"$f":"IF(AND(D6=\"Active\",DoB<>\"\",H8<>\"\"),ROUNDDOWN((DATEDIF(D8,H8,\"m\")/12),0),IF(AND(D6=\"Retired\",DoB<>\"\"),ROUNDDOWN((DATEDIF(DoB,NOW(),\"m\")/12),0),\"\"))","v":""},null,null,{"$f":"IF(D6=\"Active\",\"Expected Monthly Annuity:\",\"Current Monthly Annuity:\")","v":"Current Monthly Annuity:"},null,{"$f":"IF(H10=\"\",\"*\",\"\")","v":"*"}]
[]
[]
[null,null,"Loss of Income with 5 Year COLA Suspension",null,null,null,null,{"$f":"IFERROR((SUM(Data!G3:G616)-SUM(Data!N3:N616)),\"\")","v":""}]
[]
[null,null,"Loss of Income with Lifetime COLA Suspension",null,null,null,null,{"$f":"IFERROR((SUM(Data!G3:G616)-SUM(Data!U3:U616)),\"\")","v":""}]

{"sheet":"Data","index":1,"n_rows":616,"n_cols":21,"rows_kept":616,"cut":false,"hidden":true,"merged":[[0,1,0,6],[0,8,0,13],[0,15,0,20]]}
[null,"Current COLA Calculation",null,null,null,null,null,null,"COLA Calculation with 5 Year Suspension",null,null,null,null,null,null,"COLA Calculation with Complete Suspension"]
[null,"Age","Date","Count","Amount","COLA","Amount",null,"Age","Date","Count","Amount","COLA","Amount",null,"Age","Date","Count","Amount","COLA","Amount"]
[null,{"$f":"Age_at_Retirement","v":""},{"$f":"IF(Calculator!$D$6=\"Active\",Calculator!$H$8,EDATE(DATE(YEAR(NOW()),MONTH(NOW()),DAY(1)),1))","v":"2017-12-01"},1,{"$f":"Calculator!$H$10","v":0},0,{"$f":"E3+F3","v":0},null,{"$f":"Age_at_Retirement","v":""},{"$f":"IF(Calculator!$D$6=\"Active\",Calculator!$H$8,EDATE(DATE(YEAR(NOW()),MONTH(NOW()),DAY(1)),1))","v":"2017-12-01"},1,{"$f":"Calculator!$H$10","v":0},0,{"$f":"L3+M3","v":0},null,{"$f":"Age_at_Retirement","v":""},{"$f":"IF(Calculator!$D$6=\"Active\",Calculator!$H$8,EDATE(DATE(YEAR(NOW()),MONTH(NOW()),DAY(1)),1))","v":"2017-12-01"},1,{"$f":"Calculator!$H$10","v":0},{"$f":"0","v":0},{"$f":"S3+T3","v":0}]
[null,{"$f":"IF(MONTH(DoB)=MONTH(C3),B3+1,B3)","v":""},{"$f":"EDATE(C3,1)","v":"2018-01-01"},{"$f":"IF(B4>=VLOOKUP(Age_at_Retirement,Life_Expectancy_Table,3,FALSE),\"\",(D3+1))","v":{"$error":"#N/A"}},{"$f":"IF(D4=\"\",0,G3)","v":{"$error":"#N/A"}},{"$f":"IF(AND(Calculator!$D$6=\"Active\",MONTH(C4)=7,D4<12),ROUND(E4*0.015*(D4/12),2),IF(AND(MONTH(C4)=7,OR(Calculator!$D$6=\"Retired\",D4>=12)),ROUND(E4*0.015,2),0))","v":{"$error":"#N/A"}},{"$f":"E4+F4","v":{"$error":"#N/A"}},null,{"$f":"IF(MONTH(DoB)=MONTH(J3),I3+1,I3)","v":""},{"$f":"EDATE(J3,1)","v":"2018-01-01"},{"$f":"IF(I4>=VLOOKUP(Age_at_Retirement,Life_Expectancy_Table,3,FALSE),\"\",(K3+1))","v":{"$error":"#N/A"}},{"$f":"IF(K4=\"\",0,N3)","v":{"$error":"#N/A"}},{"$f":"IF(AND(MONTH(J4)=7,K4>61),ROUND(L4*0.015,2),0)","v":{"$error":"#N/A"}},{"$f":"L4+M4","v":{"$error":"#N/A"}},null,{"$f":"IF(MONTH(DoB)=MONTH(Q3),P3+1,P3)","v":""},{"$f":"EDATE(Q3,1)","v":"2018-01-01"},{"$f":"IF(P4>=VLOOKUP(Age_at_Retirement,Life_Expectancy_Table,3,FALSE),\"\",(R3+1))","v":{"$error":"#N/A"}},{"$f":"IF(R4=\"\",0,U3)","v":{"$error":"#N/A"}},{"$f":"0","v":0},{"$f":"S4+T4","v":{"$error":"#N/A"}}]
[null,{"$error":"#VALUE!"},{"$f":"EDATE(C4,1)","v":"2018-02-01"},{"$error":"#VALUE!"},{"$f":"IF(D5=\"\",0,G4)","v":{"$error":"#VALUE!"}},{"$f":"IF(AND(Calculator!$D$6=\"Active\",MONTH(C5)=7,D5<12),ROUND(E5*0.015*(D5/12),2),IF(AND(MONTH(C5)=7,OR(Calculator!$D$6=\"Retired\",D5>=12)),ROUND(E5*0.015,2),0))","v":{"$error":"#VALUE!"}},{"$f":"E5+F5","v":{"$error":"#VALUE!"}},null,{"$error":"#VALUE!"},{"$f":"EDATE(J4,1)","v":"2018-02-01"},{"$error":"#VALUE!"},{"$f":"IF(K5=\"\",0,N4)","v":{"$error":"#VALUE!"}},{"$error":"#VALUE!"},{"$f":"L5+M5","v":{"$error":"#VALUE!"}},null,{"$error":"#VALUE!"},{"$f":"EDATE(Q4,1)","v":"2018-02-01"},{"$error":"#VALUE!"},{"$f":"IF(R5=\"\",0,U4)","v":{"$error":"#VALUE!"}},{"$f":"0","v":0},{"$f":"S5+T5","v":{"$error":"#VALUE!"}}]
[null,{"$error":"#VALUE!"},{"$f":"EDATE(C5,1)","v":"2018-03-01"},{"$error":"#VALUE!"},{"$error":"#VALUE!"},{"$f":"IF(AND(Calculator!$D$6=\"Active\",MONTH(C6)=7,D6<12),ROUND(E6*0.015*(D6/12),2),IF(AND(MONTH(C6)=7,OR(Calculator!$D$6=\"Retired\",D6>=12)),ROUND(E6*0.015,2),0))","v":{"$error":"#VALUE!"}},{"$error":"#VALUE!"},null,{"$error":"#VALUE!"},{"$f":"EDATE(J5,1)","v":"2018-03-01"},{"$error":"#VALUE!"},{"$error":"#VALUE!"},{"$error":"#VALUE!"},{"$error":"#VALUE!"},null,{"$error":"#VALUE!"},{"$f":"EDATE(Q5,1)","v":"2018-03-01"},{"$error":"#VALUE!"},{"$error":"#VALUE!"},{"$f":"0","v":0},{"$error":"#VALUE!"}]
[null,{"$error":"#VALUE!"},"2018-04-01",{"$error":"#VALUE!"},{"$error":"#VALUE!"},{"$f":"IF(AND(Calculator!$D$6=\"Active\",MONTH(C7)=7,D7<12),ROUND(E7*0.015*(D7/12),2),IF(AND(MONTH(C7)=7,OR(Calculator!$D$6=\"Retired\",D7>=12)),ROUND(E7*0.015,2),0))","v":{"$error":"#VALUE!"}},{"$error":"#VALUE!"},null,{"$error":"#VALUE!"},"2018-04-01",{"$error":"#VALUE!"},{"$error":"#VALUE!"},{"$error":"#VALUE!"},{"$error":"#VALUE!"},null,{"$error":"#VALUE!"},"2018-04-01",{"$error":"#VALUE!"},{"$error":"#VALUE!"},{"$f":"0","v":0},{"$error":"#VALUE!"}]
[null,{"$error":"#VALUE!"},"2018-05-01",{"$error":"#VALUE!"},{"$error":"#VALUE!"},{"$f":"IF(AND(Calculator!$D$6=\"Active\",MONTH(C8)=7,D8<12),ROUND(E8*0.015*(D8/12),2),IF(AND(MONTH(C8)=7,OR(Calculator!$D$6=\"Retired\",D8>=12)),ROUND(E8*0.015,2),0))","v":{"$error":"#VALUE!"}},{"$error":"#VALUE!"},null,{"$error":"#VALUE!"},"2018-05-01",{"$error":"#VALUE!"},{"$error":"#VALUE!"},{"$error":"#VALUE!"},{"$error":"#VALUE!"},null,{"$error":"#VALUE!"},"2018-05-01",{"$error":"#VALUE!"},{"$error":"#VALUE!"},{"$f":"0","v":0},{"$error":"#VALUE!"}]
[null,{"$error":"#VALUE!"},"2018-06-01",{"$error":"#VALUE!"},{"$error":"#VALUE!"},{"$f":"IF(AND(Calculator!$D$6=\"Active\",MONTH(C9)=7,D9<12),ROUND(E9*0.015*(D9/12),2),IF(AND(MONTH(C9)=7,OR(Calculator!$D$6=\"Retired\",D9>=12)),ROUND(E9*0.015,2),0))","v":{"$error":"#VALUE!"}},{"$error":"#VALUE!"},null,{"$error":"#VALUE!"},"2018-06-01",{"$error":"#VALUE!"},{"$error":"#VALUE!"},{"$error":"#VALUE!"},{"$error":"#VALUE!"},null,{"$error":"#VALUE!"},"2018-06-01",{"$error":"#VALUE!"},{"$error":"#VALUE!"},{"$f":"0","v":0},{"$error":"#VALUE!"}]
[null,{"$error":"#VALUE!"},"2018-07-01",{"$error":"#VALUE!"},{"$error":"#VALUE!"},{"$f":"IF(AND(Calculator!$D$6=\"Active\",MONTH(C10)=7,D10<12),ROUND(E10*0.015*(D10/12),2),IF(AND(MONTH(C10)=7,OR(Calculator!$D$6=\"Retired\",D10>=12)),ROUND(E10*0.015,2),0))","v":{"$error":"#VALUE!"}},{"$error":"#VALUE!"},null,{"$error":"#VALUE!"},"2018-07-01",{"$error":"#VALUE!"},{"$error":"#VALUE!"},{"$error":"#VALUE!"},{"$error":"#VALUE!"},null,{"$error":"#VALUE!"},"2018-07-01",{"$error":"#VALUE!"},{"$error":"#VALUE!"},{"$f":"0","v":0},{"$error":"#VALUE!"}]
[null,{"$error":"#VALUE!"},"2018-08-01",{"$error":"#VALUE!"},{"$error":"#VALUE!"},{"$f":"IF(AND(Calculator!$D$6=\"Active\",MONTH(C11)=7,D11<12),ROUND(E11*0.015*(D11/12),2),IF(AND(MONTH(C11)=7,OR(Calculator!$D$6=\"Retired\",D11>=12)),ROUND(E11*0.015,2),0))","v":{"$error":"#VALUE!"}},{"$error":"#VALUE!"},null,{"$error":"#VALUE!"},"2018-08-01",{"$error":"#VALUE!"},{"$error":"#VALUE!"},{"$error":"#VALUE!"},{"$error":"#VALUE!"},null,{"$error":"#VALUE!"},"2018-08-01",{"$error":"#VALUE!"},{"$error":"#VALUE!"},{"$f":"0","v":0},{"$error":"#VALUE!"}]
[null,{"$error":"#VALUE!"},"2018-09-01",{"$error":"#VALUE!"},{"$error":"#VALUE!"},{"$f":"IF(AND(Calculator!$D$6=\"Active\",MONTH(C12)=7,D12<12),ROUND(E12*0.015*(D12/12),2),IF(AND(MONTH(C12)=7,OR(Calculator!$D$6=\"Retired\",D12>=12)),ROUND(E12*0.015,2),0))","v":{"$error":"#VALUE!"}},{"$error":"#VALUE!"},null,{"$error":"#VALUE!"},"2018-09-01",{"$error":"#VALUE!"},{"$error":"#VALUE!"},{"$error":"#VALUE!"},{"$error":"#VALUE!"},null,{"$error":"#VALUE!"},"2018-09-01",{"$error":"#VALUE!"},{"$error":"#VALUE!"},{"$f":"0","v":0},{"$error":"#VALUE!"}]
[null,{"$error":"#VALUE!"},"2018-10-01",{"$error":"#VALUE!"},{"$error":"#VALUE!"},{"$f":"IF(AND(Calculator!$D$6=\"Active\",MONTH(C13)=7,D13<12),ROUND(E13*0.015*(D13/12),2),IF(AND(MONTH(C13)=7,OR(Calculator!$D$6=\"Retired\",D13>=12)),ROUND(E13*0.015,2),0))","v":{"$error":"#VALUE!"}},{"$error":"#VALUE!"},null,{"$error":"#VALUE!"},"2018-10-01",{"$error":"#VALUE!"},{"$error":"#VALUE!"},{"$error":"#VALUE!"},{"$error":"#VALUE!"},null,{"$error":"#VALUE!"},"2018-10-01",{"$error":"#VALUE!"},{"$error":"#VALUE!"},{"$f":"0","v":0},{"$error":"#VALUE!"}]
[null,{"$error":"#VALUE!"},"2018-11-01",{"$error":"#VALUE!"},{"$error":"#VALUE!"},{"$f":"IF(AND(Calculator!$D$6=\"Active\",MONTH(C14)=7,D14<12),ROUND(E14*0.015*(D14/12),2),IF(AND(MONTH(C14)=7,OR(Calculator!$D$6=\"Retired\",D14>=12)),ROUND(E14*0.015,2),0))","v":{"$error":"#VALUE!"}},{"$error":"#VALUE!"},null,{"$error":"#VALUE!"},"2018-11-01",{"$error":"#VALUE!"},{"$error":"#VALUE!"},{"$error":"#VALUE!"},{"$error":"#VALUE!"},null,{"$error":"#VALUE!"},"2018-11-01",{"$error":"#VALUE!"},{"$error":"#VALUE!"},{"$f":"0","v":0},{"$error":"#VALUE!"}]
[null,{"$error":"#VALUE!"},"2018-12-01",{"$error":"#VALUE!"},{"$error":"#VALUE!"},{"$f":"IF(AND(Calculator!$D$6=\"Active\",MONTH(C15)=7,D15<12),ROUND(E15*0.015*(D15/12),2),IF(AND(MONTH(C15)=7,OR(Calculator!$D$6=\"Retired\",D15>=12)),ROUND(E15*0.015,2),0))","v":{"$error":"#VALUE!"}},{"$error":"#VALUE!"},null,{"$error":"#VALUE!"},"2018-12-01",{"$error":"#VALUE!"},{"$error":"#VALUE!"},{"$error":"#VALUE!"},{"$error":"#VALUE!"},null,{"$error":"#VALUE!"},"2018-12-01",{"$error":"#VALUE!"},{"$error":"#VALUE!"},{"$f":"0","v":0},{"$error":"#VALUE!"}]
[null,{"$error":"#VALUE!"},{"$f":"EDATE(C15,1)","v":"2019-01-01"},{"$error":"#VALUE!"},{"$error":"#VALUE!"},{"$f":"IF(AND(Calculator!$D$6=\"Active\",MONTH(C16)=7,D16<12),ROUND(E16*0.015*(D16/12),2),IF(AND(MONTH(C16)=7,OR(Calculator!$D$6=\"Retired\",D16>=12)),ROUND(E16*0.015,2),0))","v":{"$error":"#VALUE!"}},{"$error":"#VALUE!"},null,{"$error":"#VALUE!"},"2019-01-01",{"$error":"#VALUE!"},{"$error":"#VALUE!"},{"$error":"#VALUE!"},{"$error":"#VALUE!"},null,{"$error":"#VALUE!"},"2019-01-01",{"$error":"#VALUE!"},{"$error":"#VALUE!"},{"$f":"0","v":0},{"$error":"#VALUE!"}]
[null,{"$error":"#VALUE!"},"2019-02-01",{"$error":"#VALUE!"},{"$error":"#VALUE!"},{"$f":"IF(AND(Calculator!$D$6=\"Active\",MONTH(C17)=7,D17<12),ROUND(E17*0.015*(D17/12),2),IF(AND(MONTH(C17)=7,OR(Calculator!$D$6=\"Retired\",D17>=12)),ROUND(E17*0.015,2),0))","v":{"$error":"#VALUE!"}},{"$error":"#VALUE!"},null,{"$error":"#VALUE!"},"2019-02-01",{"$error":"#VALUE!"},{"$error":"#VALUE!"},{"$error":"#VALUE!"},{"$error":"#VALUE!"},null,{"$error":"#VALUE!"},"2019-02-01",{"$error":"#VALUE!"},{"$error":"#VALUE!"},{"$f":"0","v":0},{"$error":"#VALUE!"}]
[null,{"$error":"#VALUE!"},"2019-03-01",{"$error":"#VALUE!"},{"$error":"#VALUE!"},{"$f":"IF(AND(Calculator!$D$6=\"Active\",MONTH(C18)=7,D18<12),ROUND(E18*0.015*(D18/12),2),IF(AND(MONTH(C18)=7,OR(Calculator!$D$6=\"Retired\",D18>=12)),ROUND(E18*0.015,2),0))","v":{"$error":"#VALUE!"}},{"$error":"#VALUE!"},null,{"$error":"#VALUE!"},"2019-03-01",{"$error":"#VALUE!"},{"$error":"#VALUE!"},{"$error":"#VALUE!"},{"$error":"#VALUE!"},null,{"$error":"#VALUE!"},"2019-03-01",{"$error":"#VALUE!"},{"$error":"#VALUE!"},{"$f":"0","v":0},{"$error":"#VALUE!"}]
[null,{"$error":"#VALUE!"},{"$f":"EDATE(C18,1)","v":"2019-04-01"},{"$error":"#VALUE!"},{"$error":"#VALUE!"},{"$f":"IF(AND(Calculator!$D$6=\"Active\",MONTH(C19)=7,D19<12),ROUND(E19*0.015*(D19/12),2),IF(AND(MONTH(C19)=7,OR(Calculator!$D$6=\"Retired\",D19>=12)),ROUND(E19*0.015,2),0))","v":{"$error":"#VALUE!"}},{"$f":"E19+F19","v":{"$error":"#VALUE!"}},null,{"$error":"#VALUE!"},"2019-04-01",{"$error":"#VALUE!"},{"$error":"#VALUE!"},{"$error":"#VALUE!"},{"$error":"#VALUE!"},null,{"$error":"#VALUE!"},"2019-04-01",{"$error":"#VALUE!"},{"$error":"#VALUE!"},{"$f":"0","v":0},{"$error":"#VALUE!"}]
[null,{"$error":"#VALUE!"},"2019-05-01",{"$error":"#VALUE!"},{"$error":"#VALUE!"},{"$f":"IF(AND(Calculator!$D$6=\"Active\",MONTH(C20)=7,D20<12),ROUND(E20*0.015*(D20/12),2),IF(AND(MONTH(C20)=7,OR(Calculator!$D$6=\"Retired\",D20>=12)),ROUND(E20*0.015,2),0))","v":{"$error":"#VALUE!"}},{"$error":"#VALUE!"},null,{"$error":"#VALUE!"},"2019-05-01",{"$error":"#VALUE!"},{"$error":"#VALUE!"},{"$error":"#VALUE!"},{"$error":"#VALUE!"},null,{"$error":"#VALUE!"},"2019-05-01",{"$error":"#VALUE!"},{"$error":"#VALUE!"},{"$f":"0","v":0},{"$error":"#VALUE!"}]
[null,{"$error":"#VALUE!"},"2019-06-01",{"$error":"#VALUE!"},{"$error":"#VALUE!"},{"$f":"IF(AND(Calculator!$D$6=\"Active\",MONTH(C21)=7,D21<12),ROUND(E21*0.015*(D21/12),2),IF(AND(MONTH(C21)=7,OR(Calculator!$D$6=\"Retired\",D21>=12)),ROUND(E21*0.015,2),0))","v":{"$error":"#VALUE!"}},{"$error":"#VALUE!"},null,{"$error":"#VALUE!"},"2019-06-01",{"$error":"#VALUE!"},{"$error":"#VALUE!"},{"$error":"#VALUE!"},{"$error":"#VALUE!"},null,{"$error":"#VALUE!"},"2019-06-01",{"$error":"#VALUE!"},{"$error":"#VALUE!"},{"$f":"0","v":0},{"$error":"#VALUE!"}]
[null,{"$error":"#VALUE!"},"2019-07-01",{"$error":"#VALUE!"},{"$error":"#VALUE!"},{"$f":"IF(AND(Calculator!$D$6=\"Active\",MONTH(C22)=7,D22<12),ROUND(E22*0.015*(D22/12),2),IF(AND(MONTH(C22)=7,OR(Calculator!$D$6=\"Retired\",D22>=12)),ROUND(E22*0.015,2),0))","v":{"$error":"#VALUE!"}},{"$error":"#VALUE!"},null,{"$error":"#VALUE!"},"2019-07-01",{"$error":"#VALUE!"},{"$error":"#VALUE!"},{"$error":"#VALUE!"},{"$error":"#VALUE!"},null,{"$error":"#VALUE!"},"2019-07-01",{"$error":"#VALUE!"},{"$error":"#VALUE!"},{"$f":"0","v":0},{"$error":"#VALUE!"}]
[null,{"$error":"#VALUE!"},"2019-08-01",{"$error":"#VALUE!"},{"$error":"#VALUE!"},{"$f":"IF(AND(Calculator!$D$6=\"Active\",MONTH(C23)=7,D23<12),ROUND(E23*0.015*(D23/12),2),IF(AND(MONTH(C23)=7,OR(Calculator!$D$6=\"Retired\",D23>=12)),ROUND(E23*0.015,2),0))","v":{"$error":"#VALUE!"}},{"$error":"#VALUE!"},null,{"$error":"#VALUE!"},"2019-08-01",{"$error":"#VALUE!"},{"$error":"#VALUE!"},{"$error":"#VALUE!"},{"$error":"#VALUE!"},null,{"$error":"#VALUE!"},"2019-08-01",{"$error":"#VALUE!"},{"$error":"#VALUE!"},{"$f":"0","v":0},{"$error":"#VALUE!"}]
[null,{"$error":"#VALUE!"},"2019-09-01",{"$error":"#VALUE!"},{"$error":"#VALUE!"},{"$f":"IF(AND(Calculator!$D$6=\"Active\",MONTH(C24)=7,D24<12),ROUND(E24*0.015*(D24/12),2),IF(AND(MONTH(C24)=7,OR(Calculator!$D$6=\"Retired\",D24>=12)),ROUND(E24*0.015,2),0))","v":{"$error":"#VALUE!"}},{"$error":"#VALUE!"},null,{"$error":"#VALUE!"},"2019-09-01",{"$error":"#VALUE!"},{"$error":"#VALUE!"},{"$error":"#VALUE!"},{"$error":"#VALUE!"},null,{"$error":"#VALUE!"},"2019-09-01",{"$error":"#VALUE!"},{"$error":"#VALUE!"},{"$f":"0","v":0},{"$error":"#VALUE!"}]
[null,{"$error":"#VALUE!"},"2019-10-01",{"$error":"#VALUE!"},{"$error":"#VALUE!"},{"$f":"IF(AND(Calculator!$D$6=\"Active\",MONTH(C25)=7,D25<12),ROUND(E25*0.015*(D25/12),2),IF(AND(MONTH(C25)=7,OR(Calculator!$D$6=\"Retired\",D25>=12)),ROUND(E25*0.015,2),0))","v":{"$error":"#VALUE!"}},{"$error":"#VALUE!"},null,{"$error":"#VALUE!"},"2019-10-01",{"$error":"#VALUE!"},{"$error":"#VALUE!"},{"$error":"#VALUE!"},{"$error":"#VALUE!"},null,{"$error":"#VALUE!"},"2019-10-01",{"$error":"#VALUE!"},{"$error":"#VALUE!"},{"$f":"0","v":0},{"$error":"#VALUE!"}]
[null,{"$error":"#VALUE!"},"2019-11-01",{"$error":"#VALUE!"},{"$error":"#VALUE!"},{"$f":"IF(AND(Calculator!$D$6=\"Active\",MONTH(C26)=7,D26<12),ROUND(E26*0.015*(D26/12),2),IF(AND(MONTH(C26)=7,OR(Calculator!$D$6=\"Retired\",D26>=12)),ROUND(E26*0.015,2),0))","v":{"$error":"#VALUE!"}},{"$error":"#VALUE!"},null,{"$error":"#VALUE!"},"2019-11-01",{"$error":"#VALUE!"},{"$error":"#VALUE!"},{"$error":"#VALUE!"},{"$error":"#VALUE!"},null,{"$error":"#VALUE!"},"2019-11-01",{"$error":"#VALUE!"},{"$error":"#VALUE!"},{"$f":"0","v":0},{"$error":"#VALUE!"}]
[null,{"$error":"#VALUE!"},"2019-12-01",{"$error":"#VALUE!"},{"$error":"#VALUE!"},{"$f":"IF(AND(Calculator!$D$6=\"Active\",MONTH(C27)=7,D27<12),ROUND(E27*0.015*(D27/12),2),IF(AND(MONTH(C27)=7,OR(Calculator!$D$6=\"Retired\",D27>=12)),ROUND(E27*0.015,2),0))","v":{"$error":"#VALUE!"}},{"$error":"#VALUE!"},null,{"$error":"#VALUE!"},"2019-12-01",{"$error":"#VALUE!"},{"$error":"#VALUE!"},{"$error":"#VALUE!"},{"$error":"#VALUE!"},null,{"$error":"#VALUE!"},"2019-12-01",{"$error":"#VALUE!"},{"$error":"#VALUE!"},{"$f":"0","v":0},{"$error":"#VALUE!"}]
[null,{"$error":"#VALUE!"},"2020-01-01",{"$error":"#VALUE!"},{"$error":"#VALUE!"},{"$f":"IF(AND(Calculator!$D$6=\"Active\",MONTH(C28)=7,D28<12),ROUND(E28*0.015*(D28/12),2),IF(AND(MONTH(C28)=7,OR(Calculator!$D$6=\"Retired\",D28>=12)),ROUND(E28*0.015,2),0))","v":{"$error":"#VALUE!"}},{"$error":"#VALUE!"},null,{"$error":"#VALUE!"},"2020-01-01",{"$error":"#VALUE!"},{"$error":"#VALUE!"},{"$error":"#VALUE!"},{"$error":"#VALUE!"},null,{"$error":"#VALUE!"},"2020-01-01",{"$error":"#VALUE!"},{"$error":"#VALUE!"},{"$f":"0","v":0},{"$error":"#VALUE!"}]
[null,{"$error":"#VALUE!"},"2020-02-01",{"$error":"#VALUE!"},{"$error":"#VALUE!"},{"$f":"IF(AND(Calculator!$D$6=\"Active\",MONTH(C29)=7,D29<12),ROUND(E29*0.015*(D29/12),2),IF(AND(MONTH(C29)=7,OR(Calculator!$D$6=\"Retired\",D29>=12)),ROUND(E29*0.015,2),0))","v":{"$error":"#VALUE!"}},{"$error":"#VALUE!"},null,{"$error":"#VALUE!"},"2020-02-01",{"$error":"#VALUE!"},{"$error":"#VALUE!"},{"$error":"#VALUE!"},{"$error":"#VALUE!"},null,{"$error":"#VALUE!"},"2020-02-01",{"$error":"#VALUE!"},{"$error":"#VALUE!"},{"$f":"0","v":0},{"$error":"#VALUE!"}]
[null,{"$error":"#VALUE!"},"2020-03-01",{"$error":"#VALUE!"},{"$error":"#VALUE!"},{"$f":"IF(AND(Calculator!$D$6=\"Active\",MONTH(C30)=7,D30<12),ROUND(E30*0.015*(D30/12),2),IF(AND(MONTH(C30)=7,OR(Calculator!$D$6=\"Retired\",D30>=12)),ROUND(E30*0.015,2),0))","v":{"$error":"#VALUE!"}},{"$error":"#VALUE!"},null,{"$error":"#VALUE!"},"2020-03-01",{"$error":"#VALUE!"},{"$error":"#VALUE!"},{"$error":"#VALUE!"},{"$error":"#VALUE!"},null,{"$error":"#VALUE!"},"2020-03-01",{"$error":"#VALUE!"},{"$error":"#VALUE!"},{"$f":"0","v":0},{"$error":"#VALUE!"}]
[null,{"$error":"#VALUE!"},"2020-04-01",{"$error":"#VALUE!"},{"$error":"#VALUE!"},{"$f":"IF(AND(Calculator!$D$6=\"Active\",MONTH(C31)=7,D31<12),ROUND(E31*0.015*(D31/12),2),IF(AND(MONTH(C31)=7,OR(Calculator!$D$6=\"Retired\",D31>=12)),ROUND(E31*0.015,2),0))","v":{"$error":"#VALUE!"}},{"$error":"#VALUE!"},null,{"$error":"#VALUE!"},"2020-04-01",{"$error":"#VALUE!"},{"$error":"#VALUE!"},{"$error":"#VALUE!"},{"$error":"#VALUE!"},null,{"$error":"#VALUE!"},"2020-04-01",{"$error":"#VALUE!"},{"$error":"#VALUE!"},{"$f":"0","v":0},{"$error":"#VALUE!"}]
[null,{"$error":"#VALUE!"},"2020-05-01",{"$error":"#VALUE!"},{"$error":"#VALUE!"},{"$f":"IF(AND(Calculator!$D$6=\"Active\",MONTH(C32)=7,D32<12),ROUND(E32*0.015*(D32/12),2),IF(AND(MONTH(C32)=7,OR(Calculator!$D$6=\"Retired\",D32>=12)),ROUND(E32*0.015,2),0))","v":{"$error":"#VALUE!"}},{"$error":"#VALUE!"},null,{"$error":"#VALUE!"},"2020-05-01",{"$error":"#VALUE!"},{"$error":"#VALUE!"},{"$error":"#VALUE!"},{"$error":"#VALUE!"},null,{"$error":"#VALUE!"},"2020-05-01",{"$error":"#VALUE!"},{"$error":"#VALUE!"},{"$f":"0","v":0},{"$error":"#VALUE!"}]
[null,{"$error":"#VALUE!"},"2020-06-01",{"$error":"#VALUE!"},{"$error":"#VALUE!"},{"$f":"IF(AND(Calculator!$D$6=\"Active\",MONTH(C33)=7,D33<12),ROUND(E33*0.015*(D33/12),2),IF(AND(MONTH(C33)=7,OR(Calculator!$D$6=\"Retired\",D33>=12)),ROUND(E33*0.015,2),0))","v":{"$error":"#VALUE!"}},{"$error":"#VALUE!"},null,{"$error":"#VALUE!"},"2020-06-01",{"$error":"#VALUE!"},{"$error":"#VALUE!"},{"$error":"#VALUE!"},{"$error":"#VALUE!"},null,{"$error":"#VALUE!"},"2020-06-01",{"$error":"#VALUE!"},{"$error":"#VALUE!"},{"$f":"0","v":0},{"$error":"#VALUE!"}]
[null,{"$error":"#VALUE!"},"2020-07-01",{"$error":"#VALUE!"},{"$error":"#VALUE!"},{"$f":"IF(AND(Calculator!$D$6=\"Active\",MONTH(C34)=7,D34<12),ROUND(E34*0.015*(D34/12),2),IF(AND(MONTH(C34)=7,OR(Calculator!$D$6=\"Retired\",D34>=12)),ROUND(E34*0.015,2),0))","v":{"$error":"#VALUE!"}},{"$error":"#VALUE!"},null,{"$error":"#VALUE!"},"2020-07-01",{"$error":"#VALUE!"},{"$error":"#VALUE!"},{"$error":"#VALUE!"},{"$error":"#VALUE!"},null,{"$error":"#VALUE!"},"2020-07-01",{"$error":"#VALUE!"},{"$error":"#VALUE!"},{"$f":"0","v":0},{"$error":"#VALUE!"}]
[null,{"$error":"#VALUE!"},"2020-08-01",{"$error":"#VALUE!"},{"$error":"#VALUE!"},{"$f":"IF(AND(Calculator!$D$6=\"Active\",MONTH(C35)=7,D35<12),ROUND(E35*0.015*(D35/12),2),IF(AND(MONTH(C35)=7,OR(Calculator!$D$6=\"Retired\",D35>=12)),ROUND(E35*0.015,2),0))","v":{"$error":"#VALUE!"}},{"$error":"#VALUE!"},null,{"$error":"#VALUE!"},"2020-08-01",{"$error":"#VALUE!"},{"$error":"#VALUE!"},{"$error":"#VALUE!"},{"$error":"#VALUE!"},null,{"$error":"#VALUE!"},"2020-08-01",{"$error":"#VALUE!"},{"$error":"#VALUE!"},{"$f":"0","v":0},{"$error":"#VALUE!"}]
[null,{"$error":"#VALUE!"},"2020-09-01",{"$error":"#VALUE!"},{"$error":"#VALUE!"},{"$f":"IF(AND(Calculator!$D$6=\"Active\",MONTH(C36)=7,D36<12),ROUND(E36*0.015*(D36/12),2),IF(AND(MONTH(C36)=7,OR(Calculator!$D$6=\"Retired\",D36>=12)),ROUND(E36*0.015,2),0))","v":{"$error":"#VALUE!"}},{"$error":"#VALUE!"},null,{"$error":"#VALUE!"},"2020-09-01",{"$error":"#VALUE!"},{"$error":"#VALUE!"},{"$error":"#VALUE!"},{"$error":"#VALUE!"},null,{"$error":"#VALUE!"},"2020-09-01",{"$error":"#VALUE!"},{"$error":"#VALUE!"},{"$f":"0","v":0},{"$error":"#VALUE!"}]
[null,{"$error":"#VALUE!"},"2020-10-01",{"$error":"#VALUE!"},{"$error":"#VALUE!"},{"$f":"IF(AND(Calculator!$D$6=\"Active\",MONTH(C37)=7,D37<12),ROUND(E37*0.015*(D37/12),2),IF(AND(MONTH(C37)=7,OR(Calculator!$D$6=\"Retired\",D37>=12)),ROUND(E37*0.015,2),0))","v":{"$error":"#VALUE!"}},{"$error":"#VALUE!"},null,{"$error":"#VALUE!"},"2020-10-01",{"$error":"#VALUE!"},{"$error":"#VALUE!"},{"$error":"#VALUE!"},{"$error":"#VALUE!"},null,{"$error":"#VALUE!"},"2020-10-01",{"$error":"#VALUE!"},{"$error":"#VALUE!"},{"$f":"0","v":0},{"$error":"#VALUE!"}]
[null,{"$error":"#VALUE!"},"2020-11-01",{"$error":"#VALUE!"},{"$error":"#VALUE!"},{"$f":"IF(AND(Calculator!$D$6=\"Active\",MONTH(C38)=7,D38<12),ROUND(E38*0.015*(D38/12),2),IF(AND(MONTH(C38)=7,OR(Calculator!$D$6=\"Retired\",D38>=12)),ROUND(E38*0.015,2),0))","v":{"$error":"#VALUE!"}},{"$error":"#VALUE!"},null,{"$error":"#VALUE!"},"2020-11-01",{"$error":"#VALUE!"},{"$error":"#VALUE!"},{"$error":"#VALUE!"},{"$error":"#VALUE!"},null,{"$error":"#VALUE!"},"2020-11-01",{"$error":"#VALUE!"},{"$error":"#VALUE!"},{"$f":"0","v":0},{"$error":"#VALUE!"}]
[null,{"$error":"#VALUE!"},"2020-12-01",{"$error":"#VALUE!"},{"$error":"#VALUE!"},{"$f":"IF(AND(Calculator!$D$6=\"Active\",MONTH(C39)=7,D39<12),ROUND(E39*0.015*(D39/12),2),IF(AND(MONTH(C39)=7,OR(Calculator!$D$6=\"Retired\",D39>=12)),ROUND(E39*0.015,2),0))","v":{"$error":"#VALUE!"}},{"$error":"#VALUE!"},null,{"$error":"#VALUE!"},"2020-12-01",{"$error":"#VALUE!"},{"$error":"#VALUE!"},{"$error":"#VALUE!"},{"$error":"#VALUE!"},null,{"$error":"#VALUE!"},"2020-12-01",{"$error":"#VALUE!"},{"$error":"#VALUE!"},{"$f":"0","v":0},{"$error":"#VALUE!"}]
[null,{"$error":"#VALUE!"},"2021-01-01",{"$error":"#VALUE!"},{"$error":"#VALUE!"},{"$f":"IF(AND(Calculator!$D$6=\"Active\",MONTH(C40)=7,D40<12),ROUND(E40*0.015*(D40/12),2),IF(AND(MONTH(C40)=7,OR(Calculator!$D$6=\"Retired\",D40>=12)),ROUND(E40*0.015,2),0))","v":{"$error":"#VALUE!"}},{"$error":"#VALUE!"},null,{"$error":"#VALUE!"},"2021-01-01",{"$error":"#VALUE!"},{"$error":"#VALUE!"},{"$error":"#VALUE!"},{"$error":"#VALUE!"},null,{"$error":"#VALUE!"},"2021-01-01",{"$error":"#VALUE!"},{"$error":"#VALUE!"},{"$f":"0","v":0},{"$error":"#VALUE!"}]
[null,{"$error":"#VALUE!"},"2021-02-01",{"$error":"#VALUE!"},{"$error":"#VALUE!"},{"$f":"IF(AND(Calculator!$D$6=\"Active\",MONTH(C41)=7,D41<12),ROUND(E41*0.015*(D41/12),2),IF(AND(MONTH(C41)=7,OR(Calculator!$D$6=\"Retired\",D41>=12)),ROUND(E41*0.015,2),0))","v":{"$error":"#VALUE!"}},{"$error":"#VALUE!"},null,{"$error":"#VALUE!"},"2021-02-01",{"$error":"#VALUE!"},{"$error":"#VALUE!"},{"$error":"#VALUE!"},{"$error":"#VALUE!"},null,{"$error":"#VALUE!"},"2021-02-01",{"$error":"#VALUE!"},{"$error":"#VALUE!"},{"$f":"0","v":0},{"$error":"#VALUE!"}]
[null,{"$error":"#VALUE!"},"2021-03-01",{"$error":"#VALUE!"},{"$error":"#VALUE!"},{"$f":"IF(AND(Calculator!$D$6=\"Active\",MONTH(C42)=7,D42<12),ROUND(E42*0.015*(D42/12),2),IF(AND(MONTH(C42)=7,OR(Calculator!$D$6=\"Retired\",D42>=12)),ROUND(E42*0.015,2),0))","v":{"$error":"#VALUE!"}},{"$error":"#VALUE!"},null,{"$error":"#VALUE!"},"2021-03-01",{"$error":"#VALUE!"},{"$error":"#VALUE!"},{"$error":"#VALUE!"},{"$error":"#VALUE!"},null,{"$error":"#VALUE!"},"2021-03-01",{"$error":"#VALUE!"},{"$error":"#VALUE!"},{"$f":"0","v":0},{"$error":"#VALUE!"}]
[null,{"$error":"#VALUE!"},"2021-04-01",{"$error":"#VALUE!"},{"$error":"#VALUE!"},{"$f":"IF(AND(Calculator!$D$6=\"Active\",MONTH(C43)=7,D43<12),ROUND(E43*0.015*(D43/12),2),IF(AND(MONTH(C43)=7,OR(Calculator!$D$6=\"Retired\",D43>=12)),ROUND(E43*0.015,2),0))","v":{"$error":"#VALUE!"}},{"$error":"#VALUE!"},null,{"$error":"#VALUE!"},"2021-04-01",{"$error":"#VALUE!"},{"$error":"#VALUE!"},{"$error":"#VALUE!"},{"$error":"#VALUE!"},null,{"$error":"#VALUE!"},"2021-04-01",{"$error":"#VALUE!"},{"$error":"#VALUE!"},{"$f":"0","v":0},{"$error":"#VALUE!"}]
[null,{"$error":"#VALUE!"},"2021-05-01",{"$error":"#VALUE!"},{"$error":"#VALUE!"},{"$f":"IF(AND(Calculator!$D$6=\"Active\",MONTH(C44)=7,D44<12),ROUND(E44*0.015*(D44/12),2),IF(AND(MONTH(C44)=7,OR(Calculator!$D$6=\"Retired\",D44>=12)),ROUND(E44*0.015,2),0))","v":{"$error":"#VALUE!"}},{"$error":"#VALUE!"},null,{"$error":"#VALUE!"},"2021-05-01",{"$error":"#VALUE!"},{"$error":"#VALUE!"},{"$error":"#VALUE!"},{"$error":"#VALUE!"},null,{"$error":"#VALUE!"},"2021-05-01",{"$error":"#VALUE!"},{"$error":"#VALUE!"},{"$f":"0","v":0},{"$error":"#VALUE!"}]
[null,{"$error":"#VALUE!"},"2021-06-01",{"$error":"#VALUE!"},{"$error":"#VALUE!"},{"$f":"IF(AND(Calculator!$D$6=\"Active\",MONTH(C45)=7,D45<12),ROUND(E45*0.015*(D45/12),2),IF(AND(MONTH(C45)=7,OR(Calculator!$D$6=\"Retired\",D45>=12)),ROUND(E45*0.015,2),0))","v":{"$error":"#VALUE!"}},{"$error":"#VALUE!"},null,{"$error":"#VALUE!"},"2021-06-01",{"$error":"#VALUE!"},{"$error":"#VALUE!"},{"$error":"#VALUE!"},{"$error":"#VALUE!"},null,{"$error":"#VALUE!"},"2021-06-01",{"$error":"#VALUE!"},{"$error":"#VALUE!"},{"$f":"0","v":0},{"$error":"#VALUE!"}]
[null,{"$error":"#VALUE!"},"2021-07-01",{"$error":"#VALUE!"},{"$error":"#VALUE!"},{"$f":"IF(AND(Calculator!$D$6=\"Active\",MONTH(C46)=7,D46<12),ROUND(E46*0.015*(D46/12),2),IF(AND(MONTH(C46)=7,OR(Calculator!$D$6=\"Retired\",D46>=12)),ROUND(E46*0.015,2),0))","v":{"$error":"#VALUE!"}},{"$error":"#VALUE!"},null,{"$error":"#VALUE!"},"2021-07-01",{"$error":"#VALUE!"},{"$error":"#VALUE!"},{"$error":"#VALUE!"},{"$error":"#VALUE!"},null,{"$error":"#VALUE!"},"2021-07-01",{"$error":"#VALUE!"},{"$error":"#VALUE!"},{"$f":"0","v":0},{"$error":"#VALUE!"}]
[null,{"$error":"#VALUE!"},"2021-08-01",{"$error":"#VALUE!"},{"$error":"#VALUE!"},{"$f":"IF(AND(Calculator!$D$6=\"Active\",MONTH(C47)=7,D47<12),ROUND(E47*0.015*(D47/12),2),IF(AND(MONTH(C47)=7,OR(Calculator!$D$6=\"Retired\",D47>=12)),ROUND(E47*0.015,2),0))","v":{"$error":"#VALUE!"}},{"$error":"#VALUE!"},null,{"$error":"#VALUE!"},"2021-08-01",{"$error":"#VALUE!"},{"$error":"#VALUE!"},{"$error":"#VALUE!"},{"$error":"#VALUE!"},null,{"$error":"#VALUE!"},"2021-08-01",{"$error":"#VALUE!"},{"$error":"#VALUE!"},{"$f":"0","v":0},{"$error":"#VALUE!"}]
[null,{"$error":"#VALUE!"},"2021-09-01",{"$error":"#VALUE!"},{"$error":"#VALUE!"},{"$f":"IF(AND(Calculator!$D$6=\"Active\",MONTH(C48)=7,D48<12),ROUND(E48*0.015*(D48/12),2),IF(AND(MONTH(C48)=7,OR(Calculator!$D$6=\"Retired\",D48>=12)),ROUND(E48*0.015,2),0))","v":{"$error":"#VALUE!"}},{"$error":"#VALUE!"},null,{"$error":"#VALUE!"},"2021-09-01",{"$error":"#VALUE!"},{"$error":"#VALUE!"},{"$error":"#VALUE!"},{"$error":"#VALUE!"},null,{"$error":"#VALUE!"},"2021-09-01",{"$error":"#VALUE!"},{"$error":"#VALUE!"},{"$f":"0","v":0},{"$error":"#VALUE!"}]
[null,{"$error":"#VALUE!"},"2021-10-01",{"$error":"#VALUE!"},{"$error":"#VALUE!"},{"$f":"IF(AND(Calculator!$D$6=\"Active\",MONTH(C49)=7,D49<12),ROUND(E49*0.015*(D49/12),2),IF(AND(MONTH(C49)=7,OR(Calculator!$D$6=\"Retired\",D49>=12)),ROUND(E49*0.015,2),0))","v":{"$error":"#VALUE!"}},{"$error":"#VALUE!"},null,{"$error":"#VALUE!"},"2021-10-01",{"$error":"#VALUE!"},{"$error":"#VALUE!"},{"$error":"#VALUE!"},{"$error":"#VALUE!"},null,{"$error":"#VALUE!"},"2021-10-01",{"$error":"#VALUE!"},{"$error":"#VALUE!"},{"$f":"0","v":0},{"$error":"#VALUE!"}]
[null,{"$error":"#VALUE!"},"2021-11-01",{"$error":"#VALUE!"},{"$error":"#VALUE!"},{"$f":"IF(AND(Calculator!$D$6=\"Active\",MONTH(C50)=7,D50<12),ROUND(E50*0.015*(D50/12),2),IF(AND(MONTH(C50)=7,OR(Calculator!$D$6=\"Retired\",D50>=12)),ROUND(E50*0.015,2),0))","v":{"$error":"#VALUE!"}},{"$error":"#VALUE!"},null,{"$error":"#VALUE!"},"2021-11-01",{"$error":"#VALUE!"},{"$error":"#VALUE!"},{"$error":"#VALUE!"},{"$error":"#VALUE!"},null,{"$error":"#VALUE!"},"2021-11-01",{"$error":"#VALUE!"},{"$error":"#VALUE!"},{"$f":"0","v":0},{"$error":"#VALUE!"}]
[null,{"$error":"#VALUE!"},"2021-12-01",{"$error":"#VALUE!"},{"$error":"#VALUE!"},{"$f":"IF(AND(Calculator!$D$6=\"Active\",MONTH(C51)=7,D51<12),ROUND(E51*0.015*(D51/12),2),IF(AND(MONTH(C51)=7,OR(Calculator!$D$6=\"Retired\",D51>=12)),ROUND(E51*0.015,2),0))","v":{"$error":"#VALUE!"}},{"$error":"#VALUE!"},null,{"$error":"#VALUE!"},"2021-12-01",{"$error":"#VALUE!"},{"$error":"#VALUE!"},{"$error":"#VALUE!"},{"$error":"#VALUE!"},null,{"$error":"#VALUE!"},"2021-12-01",{"$error":"#VALUE!"},{"$error":"#VALUE!"},{"$f":"0","v":0},{"$error":"#VALUE!"}]
[null,{"$error":"#VALUE!"},"2022-01-01",{"$error":"#VALUE!"},{"$error":"#VALUE!"},{"$f":"IF(AND(Calculator!$D$6=\"Active\",MONTH(C52)=7,D52<12),ROUND(E52*0.015*(D52/12),2),IF(AND(MONTH(C52)=7,OR(Calculator!$D$6=\"Retired\",D52>=12)),ROUND(E52*0.015,2),0))","v":{"$error":"#VALUE!"}},{"$error":"#VALUE!"},null,{"$error":"#VALUE!"},"2022-01-01",{"$error":"#VALUE!"},{"$error":"#VALUE!"},{"$error":"#VALUE!"},{"$error":"#VALUE!"},null,{"$error":"#VALUE!"},"2022-01-01",{"$error":"#VALUE!"},{"$error":"#VALUE!"},{"$f":"0","v":0},{"$error":"#VALUE!"}]
[null,{"$error":"#VALUE!"},"2022-02-01",{"$error":"#VALUE!"},{"$error":"#VALUE!"},{"$f":"IF(AND(Calculator!$D$6=\"Active\",MONTH(C53)=7,D53<12),ROUND(E53*0.015*(D53/12),2),IF(AND(MONTH(C53)=7,OR(Calculator!$D$6=\"Retired\",D53>=12)),ROUND(E53*0.015,2),0))","v":{"$error":"#VALUE!"}},{"$error":"#VALUE!"},null,{"$error":"#VALUE!"},"2022-02-01",{"$error":"#VALUE!"},{"$error":"#VALUE!"},{"$error":"#VALUE!"},{"$error":"#VALUE!"},null,{"$error":"#VALUE!"},"2022-02-01",{"$error":"#VALUE!"},{"$error":"#VALUE!"},{"$f":"0","v":0},{"$error":"#VALUE!"}]
[null,{"$error":"#VALUE!"},"2022-03-01",{"$error":"#VALUE!"},{"$error":"#VALUE!"},{"$f":"IF(AND(Calculator!$D$6=\"Active\",MONTH(C54)=7,D54<12),ROUND(E54*0.015*(D54/12),2),IF(AND(MONTH(C54)=7,OR(Calculator!$D$6=\"Retired\",D54>=12)),ROUND(E54*0.015,2),0))","v":{"$error":"#VALUE!"}},{"$error":"#VALUE!"},null,{"$error":"#VALUE!"},"2022-03-01",{"$error":"#VALUE!"},{"$error":"#VALUE!"},{"$error":"#VALUE!"},{"$error":"#VALUE!"},null,{"$error":"#VALUE!"},"2022-03-01",{"$error":"#VALUE!"},{"$error":"#VALUE!"},{"$f":"0","v":0},{"$error":"#VALUE!"}]
[null,{"$error":"#VALUE!"},"2022-04-01",{"$error":"#VALUE!"},{"$error":"#VALUE!"},{"$f":"IF(AND(Calculator!$D$6=\"Active\",MONTH(C55)=7,D55<12),ROUND(E55*0.015*(D55/12),2),IF(AND(MONTH(C55)=7,OR(Calculator!$D$6=\"Retired\",D55>=12)),ROUND(E55*0.015,2),0))","v":{"$error":"#VALUE!"}},{"$error":"#VALUE!"},null,{"$error":"#VALUE!"},"2022-04-01",{"$error":"#VALUE!"},{"$error":"#VALUE!"},{"$error":"#VALUE!"},{"$error":"#VALUE!"},null,{"$error":"#VALUE!"},"2022-04-01",{"$error":"#VALUE!"},{"$error":"#VALUE!"},{"$f":"0","v":0},{"$error":"#VALUE!"}]
[null,{"$error":"#VALUE!"},"2022-05-01",{"$error":"#VALUE!"},{"$error":"#VALUE!"},{"$f":"IF(AND(Calculator!$D$6=\"Active\",MONTH(C56)=7,D56<12),ROUND(E56*0.015*(D56/12),2),IF(AND(MONTH(C56)=7,OR(Calculator!$D$6=\"Retired\",D56>=12)),ROUND(E56*0.015,2),0))","v":{"$error":"#VALUE!"}},{"$error":"#VALUE!"},null,{"$error":"#VALUE!"},"2022-05-01",{"$error":"#VALUE!"},{"$error":"#VALUE!"},{"$error":"#VALUE!"},{"$error":"#VALUE!"},null,{"$error":"#VALUE!"},"2022-05-01",{"$error":"#VALUE!"},{"$error":"#VALUE!"},{"$f":"0","v":0},{"$error":"#VALUE!"}]
[null,{"$error":"#VALUE!"},"2022-06-01",{"$error":"#VALUE!"},{"$error":"#VALUE!"},{"$f":"IF(AND(Calculator!$D$6=\"Active\",MONTH(C57)=7,D57<12),ROUND(E57*0.015*(D57/12),2),IF(AND(MONTH(C57)=7,OR(Calculator!$D$6=\"Retired\",D57>=12)),ROUND(E57*0.015,2),0))","v":{"$error":"#VALUE!"}},{"$error":"#VALUE!"},null,{"$error":"#VALUE!"},"2022-06-01",{"$error":"#VALUE!"},{"$error":"#VALUE!"},{"$error":"#VALUE!"},{"$error":"#VALUE!"},null,{"$error":"#VALUE!"},"2022-06-01",{"$error":"#VALUE!"},{"$error":"#VALUE!"},{"$f":"0","v":0},{"$error":"#VALUE!"}]
[null,{"$error":"#VALUE!"},"2022-07-01",{"$error":"#VALUE!"},{"$error":"#VALUE!"},{"$f":"IF(AND(Calculator!$D$6=\"Active\",MONTH(C58)=7,D58<12),ROUND(E58*0.015*(D58/12),2),IF(AND(MONTH(C58)=7,OR(Calculator!$D$6=\"Retired\",D58>=12)),ROUND(E58*0.015,2),0))","v":{"$error":"#VALUE!"}},{"$error":"#VALUE!"},null,{"$error":"#VALUE!"},"2022-07-01",{"$error":"#VALUE!"},{"$error":"#VALUE!"},{"$error":"#VALUE!"},{"$error":"#VALUE!"},null,{"$error":"#VALUE!"},"2022-07-01",{"$error":"#VALUE!"},{"$error":"#VALUE!"},{"$f":"0","v":0},{"$error":"#VALUE!"}]
[null,{"$error":"#VALUE!"},"2022-08-01",{"$error":"#VALUE!"},{"$error":"#VALUE!"},{"$f":"IF(AND(Calculator!$D$6=\"Active\",MONTH(C59)=7,D59<12),ROUND(E59*0.015*(D59/12),2),IF(AND(MONTH(C59)=7,OR(Calculator!$D$6=\"Retired\",D59>=12)),ROUND(E59*0.015,2),0))","v":{"$error":"#VALUE!"}},{"$error":"#VALUE!"},null,{"$error":"#VALUE!"},"2022-08-01",{"$error":"#VALUE!"},{"$error":"#VALUE!"},{"$error":"#VALUE!"},{"$error":"#VALUE!"},null,{"$error":"#VALUE!"},"2022-08-01",{"$error":"#VALUE!"},{"$error":"#VALUE!"},{"$f":"0","v":0},{"$error":"#VALUE!"}]
[null,{"$error":"#VALUE!"},"2022-09-01",{"$error":"#VALUE!"},{"$error":"#VALUE!"},{"$f":"IF(AND(Calculator!$D$6=\"Active\",MONTH(C60)=7,D60<12),ROUND(E60*0.015*(D60/12),2),IF(AND(MONTH(C60)=7,OR(Calculator!$D$6=\"Retired\",D60>=12)),ROUND(E60*0.015,2),0))","v":{"$error":"#VALUE!"}},{"$error":"#VALUE!"},null,{"$error":"#VALUE!"},"2022-09-01",{"$error":"#VALUE!"},{"$error":"#VALUE!"},{"$error":"#VALUE!"},{"$error":"#VALUE!"},null,{"$error":"#VALUE!"},"2022-09-01",{"$error":"#VALUE!"},{"$error":"#VALUE!"},{"$f":"0","v":0},{"$error":"#VALUE!"}]
[null,{"$error":"#VALUE!"},"2022-10-01",{"$error":"#VALUE!"},{"$error":"#VALUE!"},{"$f":"IF(AND(Calculator!$D$6=\"Active\",MONTH(C61)=7,D61<12),ROUND(E61*0.015*(D61/12),2),IF(AND(MONTH(C61)=7,OR(Calculator!$D$6=\"Retired\",D61>=12)),ROUND(E61*0.015,2),0))","v":{"$error":"#VALUE!"}},{"$error":"#VALUE!"},null,{"$error":"#VALUE!"},"2022-10-01",{"$error":"#VALUE!"},{"$error":"#VALUE!"},{"$error":"#VALUE!"},{"$error":"#VALUE!"},null,{"$error":"#VALUE!"},"2022-10-01",{"$error":"#VALUE!"},{"$error":"#VALUE!"},{"$f":"0","v":0},{"$error":"#VALUE!"}]
[null,{"$error":"#VALUE!"},"2022-11-01",{"$error":"#VALUE!"},{"$error":"#VALUE!"},{"$f":"IF(AND(Calculator!$D$6=\"Active\",MONTH(C62)=7,D62<12),ROUND(E62*0.015*(D62/12),2),IF(AND(MONTH(C62)=7,OR(Calculator!$D$6=\"Retired\",D62>=12)),ROUND(E62*0.015,2),0))","v":{"$error":"#VALUE!"}},{"$error":"#VALUE!"},null,{"$error":"#VALUE!"},"2022-11-01",{"$error":"#VALUE!"},{"$error":"#VALUE!"},{"$error":"#VALUE!"},{"$error":"#VALUE!"},null,{"$error":"#VALUE!"},"2022-11-01",{"$error":"#VALUE!"},{"$error":"#VALUE!"},{"$f":"0","v":0},{"$error":"#VALUE!"}]
[null,{"$error":"#VALUE!"},"2022-12-01",{"$error":"#VALUE!"},{"$error":"#VALUE!"},{"$f":"IF(AND(Calculator!$D$6=\"Active\",MONTH(C63)=7,D63<12),ROUND(E63*0.015*(D63/12),2),IF(AND(MONTH(C63)=7,OR(Calculator!$D$6=\"Retired\",D63>=12)),ROUND(E63*0.015,2),0))","v":{"$error":"#VALUE!"}},{"$error":"#VALUE!"},null,{"$error":"#VALUE!"},"2022-12-01",{"$error":"#VALUE!"},{"$error":"#VALUE!"},{"$f":"IF(AND(MONTH(J63)=7,K63>61),ROUND(L63*0.015,2),0)","v":{"$error":"#VALUE!"}},{"$error":"#VALUE!"},null,{"$error":"#VALUE!"},"2022-12-01",{"$error":"#VALUE!"},{"$error":"#VALUE!"},{"$f":"0","v":0},{"$error":"#VALUE!"}]
[null,{"$error":"#VALUE!"},"2023-01-01",{"$error":"#VALUE!"},{"$error":"#VALUE!"},{"$f":"IF(AND(Calculator!$D$6=\"Active\",MONTH(C64)=7,D64<12),ROUND(E64*0.015*(D64/12),2),IF(AND(MONTH(C64)=7,OR(Calculator!$D$6=\"Retired\",D64>=12)),ROUND(E64*0.015,2),0))","v":{"$error":"#VALUE!"}},{"$error":"#VALUE!"},null,{"$error":"#VALUE!"},"2023-01-01",{"$error":"#VALUE!"},{"$error":"#VALUE!"},{"$f":"IF(AND(MONTH(J64)=7,K64>61),ROUND(L64*0.015,2),0)","v":{"$error":"#VALUE!"}},{"$error":"#VALUE!"},null,{"$error":"#VALUE!"},"2023-01-01",{"$error":"#VALUE!"},{"$error":"#VALUE!"},{"$f":"0","v":0},{"$error":"#VALUE!"}]
[null,{"$error":"#VALUE!"},"2023-02-01",{"$error":"#VALUE!"},{"$error":"#VALUE!"},{"$f":"IF(AND(Calculator!$D$6=\"Active\",MONTH(C65)=7,D65<12),ROUND(E65*0.015*(D65/12),2),IF(AND(MONTH(C65)=7,OR(Calculator!$D$6=\"Retired\",D65>=12)),ROUND(E65*0.015,2),0))","v":{"$error":"#VALUE!"}},{"$error":"#VALUE!"},null,{"$error":"#VALUE!"},"2023-02-01",{"$error":"#VALUE!"},{"$error":"#VALUE!"},{"$error":"#VALUE!"},{"$error":"#VALUE!"},null,{"$error":"#VALUE!"},"2023-02-01",{"$error":"#VALUE!"},{"$error":"#VALUE!"},{"$f":"0","v":0},{"$error":"#VALUE!"}]
[null,{"$error":"#VALUE!"},"2023-03-01",{"$error":"#VALUE!"},{"$error":"#VALUE!"},{"$f":"IF(AND(Calculator!$D$6=\"Active\",MONTH(C66)=7,D66<12),ROUND(E66*0.015*(D66/12),2),IF(AND(MONTH(C66)=7,OR(Calculator!$D$6=\"Retired\",D66>=12)),ROUND(E66*0.015,2),0))","v":{"$error":"#VALUE!"}},{"$error":"#VALUE!"},null,{"$error":"#VALUE!"},"2023-03-01",{"$error":"#VALUE!"},{"$error":"#VALUE!"},{"$error":"#VALUE!"},{"$error":"#VALUE!"},null,{"$error":"#VALUE!"},"2023-03-01",{"$error":"#VALUE!"},{"$error":"#VALUE!"},{"$f":"0","v":0},{"$error":"#VALUE!"}]
[null,{"$error":"#VALUE!"},"2023-04-01",{"$error":"#VALUE!"},{"$error":"#VALUE!"},{"$f":"IF(AND(Calculator!$D$6=\"Active\",MONTH(C67)=7,D67<12),ROUND(E67*0.015*(D67/12),2),IF(AND(MONTH(C67)=7,OR(Calculator!$D$6=\"Retired\",D67>=12)),ROUND(E67*0.015,2),0))","v":{"$error":"#VALUE!"}},{"$error":"#VALUE!"},null,{"$error":"#VALUE!"},"2023-04-01",{"$error":"#VALUE!"},{"$error":"#VALUE!"},{"$error":"#VALUE!"},{"$error":"#VALUE!"},null,{"$error":"#VALUE!"},"2023-04-01",{"$error":"#VALUE!"},{"$error":"#VALUE!"},{"$f":"0","v":0},{"$error":"#VALUE!"}]
[null,{"$f":"IF(MONTH(DoB)=MONTH(C67),B67+1,B67)","v":{"$error":"#VALUE!"}},"2023-05-01",{"$f":"IF(B68>=VLOOKUP(Age_at_Retirement,Life_Expectancy_Table,3,FALSE),\"\",(D67+1))","v":{"$error":"#VALUE!"}},{"$error":"#VALUE!"},{"$f":"IF(AND(Calculator!$D$6=\"Active\",MONTH(C68)=7,D68<12),ROUND(E68*0.015*(D68/12),2),IF(AND(MONTH(C68)=7,OR(Calculator!$D$6=\"Retired\",D68>=12)),ROUND(E68*0.015,2),0))","v":{"$error":"#VALUE!"}},{"$error":"#VALUE!"},null,{"$f":"IF(MONTH(DoB)=MONTH(J67),I67+1,I67)","v":{"$error":"#VALUE!"}},"2023-05-01",{"$f":"IF(I68>=VLOOKUP(Age_at_Retirement,Life_Expectancy_Table,3,FALSE),\"\",(K67+1))","v":{"$error":"#VALUE!"}},{"$error":"#VALUE!"},{"$error":"#VALUE!"},{"$error":"#VALUE!"},null,{"$f":"IF(MONTH(DoB)=MONTH(Q67),P67+1,P67)","v":{"$error":"#VALUE!"}},"2023-05-01",{"$f":"IF(P68>=VLOOKUP(Age_at_Retirement,Life_Expectancy_Table,3,FALSE),\"\",(R67+1))","v":{"$error":"#VALUE!"}},{"$error":"#VALUE!"},{"$f":"0","v":0},{"$error":"#VALUE!"}]
[null,{"$error":"#VALUE!"},"2023-06-01",{"$error":"#VALUE!"},{"$f":"IF(D69=\"\",0,G68)","v":{"$error":"#VALUE!"}},{"$f":"IF(AND(Calculator!$D$6=\"Active\",MONTH(C69)=7,D69<12),ROUND(E69*0.015*(D69/12),2),IF(AND(MONTH(C69)=7,OR(Calculator!$D$6=\"Retired\",D69>=12)),ROUND(E69*0.015,2),0))","v":{"$error":"#VALUE!"}},{"$error":"#VALUE!"},null,{"$error":"#VALUE!"},"2023-06-01",{"$error":"#VALUE!"},{"$f":"IF(K69=\"\",0,N68)","v":{"$error":"#VALUE!"}},{"$error":"#VALUE!"},{"$f":"L69+M69","v":{"$error":"#VALUE!"}},null,{"$error":"#VALUE!"},"2023-06-01",{"$error":"#VALUE!"},{"$f":"IF(R69=\"\",0,U68)","v":{"$error":"#VALUE!"}},{"$f":"0","v":0},{"$f":"S69+T69","v":{"$error":"#VALUE!"}}]
[null,{"$error":"#VALUE!"},"2023-07-01",{"$error":"#VALUE!"},{"$error":"#VALUE!"},{"$f":"IF(AND(Calculator!$D$6=\"Active\",MONTH(C70)=7,D70<12),ROUND(E70*0.015*(D70/12),2),IF(AND(MONTH(C70)=7,OR(Calculator!$D$6=\"Retired\",D70>=12)),ROUND(E70*0.015,2),0))","v":{"$error":"#VALUE!"}},{"$error":"#VALUE!"},null,{"$error":"#VALUE!"},{"$f":"EDATE(J69,1)","v":"2023-07-01"},{"$error":"#VALUE!"},{"$error":"#VALUE!"},{"$error":"#VALUE!"},{"$error":"#VALUE!"},null,{"$error":"#VALUE!"},{"$f":"EDATE(Q69,1)","v":"2023-07-01"},{"$error":"#VALUE!"},{"$error":"#VALUE!"},{"$f":"0","v":0},{"$error":"#VALUE!"}]
[null,{"$error":"#VALUE!"},"2023-08-01",{"$error":"#VALUE!"},{"$error":"#VALUE!"},{"$f":"IF(AND(Calculator!$D$6=\"Active\",MONTH(C71)=7,D71<12),ROUND(E71*0.015*(D71/12),2),IF(AND(MONTH(C71)=7,OR(Calculator!$D$6=\"Retired\",D71>=12)),ROUND(E71*0.015,2),0))","v":{"$error":"#VALUE!"}},{"$error":"#VALUE!"},null,{"$error":"#VALUE!"},"2023-08-01",{"$error":"#VALUE!"},{"$error":"#VALUE!"},{"$error":"#VALUE!"},{"$error":"#VALUE!"},null,{"$error":"#VALUE!"},"2023-08-01",{"$error":"#VALUE!"},{"$error":"#VALUE!"},{"$f":"0","v":0},{"$error":"#VALUE!"}]
[null,{"$error":"#VALUE!"},"2023-09-01",{"$error":"#VALUE!"},{"$error":"#VALUE!"},{"$f":"IF(AND(Calculator!$D$6=\"Active\",MONTH(C72)=7,D72<12),ROUND(E72*0.015*(D72/12),2),IF(AND(MONTH(C72)=7,OR(Calculator!$D$6=\"Retired\",D72>=12)),ROUND(E72*0.015,2),0))","v":{"$error":"#VALUE!"}},{"$error":"#VALUE!"},null,{"$error":"#VALUE!"},"2023-09-01",{"$error":"#VALUE!"},{"$error":"#VALUE!"},{"$error":"#VALUE!"},{"$error":"#VALUE!"},null,{"$error":"#VALUE!"},"2023-09-01",{"$error":"#VALUE!"},{"$error":"#VALUE!"},{"$f":"0","v":0},{"$error":"#VALUE!"}]
[null,{"$error":"#VALUE!"},"2023-10-01",{"$error":"#VALUE!"},{"$error":"#VALUE!"},{"$f":"IF(AND(Calculator!$D$6=\"Active\",MONTH(C73)=7,D73<12),ROUND(E73*0.015*(D73/12),2),IF(AND(MONTH(C73)=7,OR(Calculator!$D$6=\"Retired\",D73>=12)),ROUND(E73*0.015,2),0))","v":{"$error":"#VALUE!"}},{"$error":"#VALUE!"},null,{"$error":"#VALUE!"},"2023-10-01",{"$error":"#VALUE!"},{"$error":"#VALUE!"},{"$error":"#VALUE!"},{"$error":"#VALUE!"},null,{"$error":"#VALUE!"},"2023-10-01",{"$error":"#VALUE!"},{"$error":"#VALUE!"},{"$f":"0","v":0},{"$error":"#VALUE!"}]
[null,{"$error":"#VALUE!"},"2023-11-01",{"$error":"#VALUE!"},{"$error":"#VALUE!"},{"$f":"IF(AND(Calculator!$D$6=\"Active\",MONTH(C74)=7,D74<12),ROUND(E74*0.015*(D74/12),2),IF(AND(MONTH(C74)=7,OR(Calculator!$D$6=\"Retired\",D74>=12)),ROUND(E74*0.015,2),0))","v":{"$error":"#VALUE!"}},{"$error":"#VALUE!"},null,{"$error":"#VALUE!"},"2023-11-01",{"$error":"#VALUE!"},{"$error":"#VALUE!"},{"$error":"#VALUE!"},{"$error":"#VALUE!"},null,{"$error":"#VALUE!"},"2023-11-01",{"$error":"#VALUE!"},{"$error":"#VALUE!"},{"$f":"0","v":0},{"$error":"#VALUE!"}]
[null,{"$error":"#VALUE!"},"2023-12-01",{"$error":"#VALUE!"},{"$error":"#VALUE!"},{"$f":"IF(AND(Calculator!$D$6=\"Active\",MONTH(C75)=7,D75<12),ROUND(E75*0.015*(D75/12),2),IF(AND(MONTH(C75)=7,OR(Calculator!$D$6=\"Retired\",D75>=12)),ROUND(E75*0.015,2),0))","v":{"$error":"#VALUE!"}},{"$error":"#VALUE!"},null,{"$error":"#VALUE!"},"2023-12-01",{"$error":"#VALUE!"},{"$error":"#VALUE!"},{"$error":"#VALUE!"},{"$error":"#VALUE!"},null,{"$error":"#VALUE!"},"2023-12-01",{"$error":"#VALUE!"},{"$error":"#VALUE!"},{"$f":"0","v":0},{"$error":"#VALUE!"}]
[null,{"$error":"#VALUE!"},"2024-01-01",{"$error":"#VALUE!"},{"$error":"#VALUE!"},{"$f":"IF(AND(Calculator!$D$6=\"Active\",MONTH(C76)=7,D76<12),ROUND(E76*0.015*(D76/12),2),IF(AND(MONTH(C76)=7,OR(Calculator!$D$6=\"Retired\",D76>=12)),ROUND(E76*0.015,2),0))","v":{"$error":"#VALUE!"}},{"$error":"#VALUE!"},null,{"$error":"#VALUE!"},"2024-01-01",{"$error":"#VALUE!"},{"$error":"#VALUE!"},{"$error":"#VALUE!"},{"$error":"#VALUE!"},null,{"$error":"#VALUE!"},"2024-01-01",{"$error":"#VALUE!"},{"$error":"#VALUE!"},{"$f":"0","v":0},{"$error":"#VALUE!"}]
[null,{"$error":"#VALUE!"},"2024-02-01",{"$error":"#VALUE!"},{"$error":"#VALUE!"},{"$f":"IF(AND(Calculator!$D$6=\"Active\",MONTH(C77)=7,D77<12),ROUND(E77*0.015*(D77/12),2),IF(AND(MONTH(C77)=7,OR(Calculator!$D$6=\"Retired\",D77>=12)),ROUND(E77*0.015,2),0))","v":{"$error":"#VALUE!"}},{"$error":"#VALUE!"},null,{"$error":"#VALUE!"},"2024-02-01",{"$error":"#VALUE!"},{"$error":"#VALUE!"},{"$error":"#VALUE!"},{"$error":"#VALUE!"},null,{"$error":"#VALUE!"},"2024-02-01",{"$error":"#VALUE!"},{"$error":"#VALUE!"},{"$f":"0","v":0},{"$error":"#VALUE!"}]
[null,{"$error":"#VALUE!"},"2024-03-01",{"$error":"#VALUE!"},{"$error":"#VALUE!"},{"$f":"IF(AND(Calculator!$D$6=\"Active\",MONTH(C78)=7,D78<12),ROUND(E78*0.015*(D78/12),2),IF(AND(MONTH(C78)=7,OR(Calculator!$D$6=\"Retired\",D78>=12)),ROUND(E78*0.015,2),0))","v":{"$error":"#VALUE!"}},{"$error":"#VALUE!"},null,{"$error":"#VALUE!"},"2024-03-01",{"$error":"#VALUE!"},{"$error":"#VALUE!"},{"$error":"#VALUE!"},{"$error":"#VALUE!"},null,{"$error":"#VALUE!"},"2024-03-01",{"$error":"#VALUE!"},{"$error":"#VALUE!"},{"$f":"0","v":0},{"$error":"#VALUE!"}]
[null,{"$error":"#VALUE!"},"2024-04-01",{"$error":"#VALUE!"},{"$error":"#VALUE!"},{"$f":"IF(AND(Calculator!$D$6=\"Active\",MONTH(C79)=7,D79<12),ROUND(E79*0.015*(D79/12),2),IF(AND(MONTH(C79)=7,OR(Calculator!$D$6=\"Retired\",D79>=12)),ROUND(E79*0.015,2),0))","v":{"$error":"#VALUE!"}},{"$error":"#VALUE!"},null,{"$error":"#VALUE!"},"2024-04-01",{"$error":"#VALUE!"},{"$error":"#VALUE!"},{"$error":"#VALUE!"},{"$error":"#VALUE!"},null,{"$error":"#VALUE!"},"2024-04-01",{"$error":"#VALUE!"},{"$error":"#VALUE!"},{"$f":"0","v":0},{"$error":"#VALUE!"}]
[null,{"$error":"#VALUE!"},"2024-05-01",{"$error":"#VALUE!"},{"$error":"#VALUE!"},{"$f":"IF(AND(Calculator!$D$6=\"Active\",MONTH(C80)=7,D80<12),ROUND(E80*0.015*(D80/12),2),IF(AND(MONTH(C80)=7,OR(Calculator!$D$6=\"Retired\",D80>=12)),ROUND(E80*0.015,2),0))","v":{"$error":"#VALUE!"}},{"$error":"#VALUE!"},null,{"$error":"#VALUE!"},"2024-05-01",{"$error":"#VALUE!"},{"$error":"#VALUE!"},{"$error":"#VALUE!"},{"$error":"#VALUE!"},null,{"$error":"#VALUE!"},"2024-05-01",{"$error":"#VALUE!"},{"$error":"#VALUE!"},{"$f":"0","v":0},{"$error":"#VALUE!"}]
[null,{"$error":"#VALUE!"},"2024-06-01",{"$error":"#VALUE!"},{"$error":"#VALUE!"},{"$f":"IF(AND(Calculator!$D$6=\"Active\",MONTH(C81)=7,D81<12),ROUND(E81*0.015*(D81/12),2),IF(AND(MONTH(C81)=7,OR(Calculator!$D$6=\"Retired\",D81>=12)),ROUND(E81*0.015,2),0))","v":{"$error":"#VALUE!"}},{"$error":"#VALUE!"},null,{"$error":"#VALUE!"},"2024-06-01",{"$error":"#VALUE!"},{"$error":"#VALUE!"},{"$error":"#VALUE!"},{"$error":"#VALUE!"},null,{"$error":"#VALUE!"},"2024-06-01",{"$error":"#VALUE!"},{"$error":"#VALUE!"},{"$f":"0","v":0},{"$error":"#VALUE!"}]
[null,{"$error":"#VALUE!"},"2024-07-01",{"$error":"#VALUE!"},{"$error":"#VALUE!"},{"$f":"IF(AND(Calculator!$D$6=\"Active\",MONTH(C82)=7,D82<12),ROUND(E82*0.015*(D82/12),2),IF(AND(MONTH(C82)=7,OR(Calculator!$D$6=\"Retired\",D82>=12)),ROUND(E82*0.015,2),0))","v":{"$error":"#VALUE!"}},{"$error":"#VALUE!"},null,{"$error":"#VALUE!"},"2024-07-01",{"$error":"#VALUE!"},{"$error":"#VALUE!"},{"$error":"#VALUE!"},{"$error":"#VALUE!"},null,{"$error":"#VALUE!"},"2024-07-01",{"$error":"#VALUE!"},{"$error":"#VALUE!"},{"$f":"0","v":0},{"$error":"#VALUE!"}]
[null,{"$error":"#VALUE!"},{"$f":"EDATE(C82,1)","v":"2024-08-01"},{"$error":"#VALUE!"},{"$error":"#VALUE!"},{"$f":"IF(AND(Calculator!$D$6=\"Active\",MONTH(C83)=7,D83<12),ROUND(E83*0.015*(D83/12),2),IF(AND(MONTH(C83)=7,OR(Calculator!$D$6=\"Retired\",D83>=12)),ROUND(E83*0.015,2),0))","v":{"$error":"#VALUE!"}},{"$f":"E83+F83","v":{"$error":"#VALUE!"}},null,{"$error":"#VALUE!"},"2024-08-01",{"$error":"#VALUE!"},{"$error":"#VALUE!"},{"$error":"#VALUE!"},{"$error":"#VALUE!"},null,{"$error":"#VALUE!"},"2024-08-01",{"$error":"#VALUE!"},{"$error":"#VALUE!"},{"$f":"0","v":0},{"$error":"#VALUE!"}]
[null,{"$error":"#VALUE!"},"2024-09-01",{"$error":"#VALUE!"},{"$error":"#VALUE!"},{"$f":"IF(AND(Calculator!$D$6=\"Active\",MONTH(C84)=7,D84<12),ROUND(E84*0.015*(D84/12),2),IF(AND(MONTH(C84)=7,OR(Calculator!$D$6=\"Retired\",D84>=12)),ROUND(E84*0.015,2),0))","v":{"$error":"#VALUE!"}},{"$error":"#VALUE!"},null,{"$error":"#VALUE!"},"2024-09-01",{"$error":"#VALUE!"},{"$error":"#VALUE!"},{"$error":"#VALUE!"},{"$error":"#VALUE!"},null,{"$error":"#VALUE!"},"2024-09-01",{"$error":"#VALUE!"},{"$error":"#VALUE!"},{"$f":"0","v":0},{"$error":"#VALUE!"}]
[null,{"$error":"#VALUE!"},"2024-10-01",{"$error":"#VALUE!"},{"$error":"#VALUE!"},{"$f":"IF(AND(Calculator!$D$6=\"Active\",MONTH(C85)=7,D85<12),ROUND(E85*0.015*(D85/12),2),IF(AND(MONTH(C85)=7,OR(Calculator!$D$6=\"Retired\",D85>=12)),ROUND(E85*0.015,2),0))","v":{"$error":"#VALUE!"}},{"$error":"#VALUE!"},null,{"$error":"#VALUE!"},"2024-10-01",{"$error":"#VALUE!"},{"$error":"#VALUE!"},{"$error":"#VALUE!"},{"$error":"#VALUE!"},null,{"$error":"#VALUE!"},"2024-10-01",{"$error":"#VALUE!"},{"$error":"#VALUE!"},{"$f":"0","v":0},{"$error":"#VALUE!"}]
[null,{"$error":"#VALUE!"},"2024-11-01",{"$error":"#VALUE!"},{"$error":"#VALUE!"},{"$f":"IF(AND(Calculator!$D$6=\"Active\",MONTH(C86)=7,D86<12),ROUND(E86*0.015*(D86/12),2),IF(AND(MONTH(C86)=7,OR(Calculator!$D$6=\"Retired\",D86>=12)),ROUND(E86*0.015,2),0))","v":{"$error":"#VALUE!"}},{"$error":"#VALUE!"},null,{"$error":"#VALUE!"},"2024-11-01",{"$error":"#VALUE!"},{"$error":"#VALUE!"},{"$error":"#VALUE!"},{"$error":"#VALUE!"},null,{"$error":"#VALUE!"},"2024-11-01",{"$error":"#VALUE!"},{"$error":"#VALUE!"},{"$f":"0","v":0},{"$error":"#VALUE!"}]
[null,{"$error":"#VALUE!"},"2024-12-01",{"$error":"#VALUE!"},{"$error":"#VALUE!"},{"$f":"IF(AND(Calculator!$D$6=\"Active\",MONTH(C87)=7,D87<12),ROUND(E87*0.015*(D87/12),2),IF(AND(MONTH(C87)=7,OR(Calculator!$D$6=\"Retired\",D87>=12)),ROUND(E87*0.015,2),0))","v":{"$error":"#VALUE!"}},{"$error":"#VALUE!"},null,{"$error":"#VALUE!"},"2024-12-01",{"$error":"#VALUE!"},{"$error":"#VALUE!"},{"$error":"#VALUE!"},{"$error":"#VALUE!"},null,{"$error":"#VALUE!"},"2024-12-01",{"$error":"#VALUE!"},{"$error":"#VALUE!"},{"$f":"0","v":0},{"$error":"#VALUE!"}]
[null,{"$error":"#VALUE!"},"2025-01-01",{"$error":"#VALUE!"},{"$error":"#VALUE!"},{"$f":"IF(AND(Calculator!$D$6=\"Active\",MONTH(C88)=7,D88<12),ROUND(E88*0.015*(D88/12),2),IF(AND(MONTH(C88)=7,OR(Calculator!$D$6=\"Retired\",D88>=12)),ROUND(E88*0.015,2),0))","v":{"$error":"#VALUE!"}},{"$error":"#VALUE!"},null,{"$error":"#VALUE!"},"2025-01-01",{"$error":"#VALUE!"},{"$error":"#VALUE!"},{"$error":"#VALUE!"},{"$error":"#VALUE!"},null,{"$error":"#VALUE!"},"2025-01-01",{"$error":"#VALUE!"},{"$error":"#VALUE!"},{"$f":"0","v":0},{"$error":"#VALUE!"}]
[null,{"$error":"#VALUE!"},"2025-02-01",{"$error":"#VALUE!"},{"$error":"#VALUE!"},{"$f":"IF(AND(Calculator!$D$6=\"Active\",MONTH(C89)=7,D89<12),ROUND(E89*0.015*(D89/12),2),IF(AND(MONTH(C89)=7,OR(Calculator!$D$6=\"Retired\",D89>=12)),ROUND(E89*0.015,2),0))","v":{"$error":"#VALUE!"}},{"$error":"#VALUE!"},null,{"$error":"#VALUE!"},"2025-02-01",{"$error":"#VALUE!"},{"$error":"#VALUE!"},{"$error":"#VALUE!"},{"$error":"#VALUE!"},null,{"$error":"#VALUE!"},"2025-02-01",{"$error":"#VALUE!"},{"$error":"#VALUE!"},{"$f":"0","v":0},{"$error":"#VALUE!"}]
[null,{"$error":"#VALUE!"},"2025-03-01",{"$error":"#VALUE!"},{"$error":"#VALUE!"},{"$f":"IF(AND(Calculator!$D$6=\"Active\",MONTH(C90)=7,D90<12),ROUND(E90*0.015*(D90/12),2),IF(AND(MONTH(C90)=7,OR(Calculator!$D$6=\"Retired\",D90>=12)),ROUND(E90*0.015,2),0))","v":{"$error":"#VALUE!"}},{"$error":"#VALUE!"},null,{"$error":"#VALUE!"},"2025-03-01",{"$error":"#VALUE!"},{"$error":"#VALUE!"},{"$error":"#VALUE!"},{"$error":"#VALUE!"},null,{"$error":"#VALUE!"},"2025-03-01",{"$error":"#VALUE!"},{"$error":"#VALUE!"},{"$f":"0","v":0},{"$error":"#VALUE!"}]
[null,{"$error":"#VALUE!"},"2025-04-01",{"$error":"#VALUE!"},{"$error":"#VALUE!"},{"$f":"IF(AND(Calculator!$D$6=\"Active\",MONTH(C91)=7,D91<12),ROUND(E91*0.015*(D91/12),2),IF(AND(MONTH(C91)=7,OR(Calculator!$D$6=\"Retired\",D91>=12)),ROUND(E91*0.015,2),0))","v":{"$error":"#VALUE!"}},{"$error":"#VALUE!"},null,{"$error":"#VALUE!"},"2025-04-01",{"$error":"#VALUE!"},{"$error":"#VALUE!"},{"$error":"#VALUE!"},{"$error":"#VALUE!"},null,{"$error":"#VALUE!"},"2025-04-01",{"$error":"#VALUE!"},{"$error":"#VALUE!"},{"$f":"0","v":0},{"$error":"#VALUE!"}]
[null,{"$error":"#VALUE!"},"2025-05-01",{"$error":"#VALUE!"},{"$error":"#VALUE!"},{"$f":"IF(AND(Calculator!$D$6=\"Active\",MONTH(C92)=7,D92<12),ROUND(E92*0.015*(D92/12),2),IF(AND(MONTH(C92)=7,OR(Calculator!$D$6=\"Retired\",D92>=12)),ROUND(E92*0.015,2),0))","v":{"$error":"#VALUE!"}},{"$error":"#VALUE!"},null,{"$error":"#VALUE!"},"2025-05-01",{"$error":"#VALUE!"},{"$error":"#VALUE!"},{"$error":"#VALUE!"},{"$error":"#VALUE!"},null,{"$error":"#VALUE!"},"2025-05-01",{"$error":"#VALUE!"},{"$error":"#VALUE!"},{"$f":"0","v":0},{"$error":"#VALUE!"}]
[null,{"$error":"#VALUE!"},"2025-06-01",{"$error":"#VALUE!"},{"$error":"#VALUE!"},{"$f":"IF(AND(Calculator!$D$6=\"Active\",MONTH(C93)=7,D93<12),ROUND(E93*0.015*(D93/12),2),IF(AND(MONTH(C93)=7,OR(Calculator!$D$6=\"Retired\",D93>=12)),ROUND(E93*0.015,2),0))","v":{"$error":"#VALUE!"}},{"$error":"#VALUE!"},null,{"$error":"#VALUE!"},"2025-06-01",{"$error":"#VALUE!"},{"$error":"#VALUE!"},{"$error":"#VALUE!"},{"$error":"#VALUE!"},null,{"$error":"#VALUE!"},"2025-06-01",{"$error":"#VALUE!"},{"$error":"#VALUE!"},{"$f":"0","v":0},{"$error":"#VALUE!"}]
[null,{"$error":"#VALUE!"},"2025-07-01",{"$error":"#VALUE!"},{"$error":"#VALUE!"},{"$f":"IF(AND(Calculator!$D$6=\"Active\",MONTH(C94)=7,D94<12),ROUND(E94*0.015*(D94/12),2),IF(AND(MONTH(C94)=7,OR(Calculator!$D$6=\"Retired\",D94>=12)),ROUND(E94*0.015,2),0))","v":{"$error":"#VALUE!"}},{"$error":"#VALUE!"},null,{"$error":"#VALUE!"},"2025-07-01",{"$error":"#VALUE!"},{"$error":"#VALUE!"},{"$error":"#VALUE!"},{"$error":"#VALUE!"},null,{"$error":"#VALUE!"},"2025-07-01",{"$error":"#VALUE!"},{"$error":"#VALUE!"},{"$f":"0","v":0},{"$error":"#VALUE!"}]
[null,{"$error":"#VALUE!"},"2025-08-01",{"$error":"#VALUE!"},{"$error":"#VALUE!"},{"$f":"IF(AND(Calculator!$D$6=\"Active\",MONTH(C95)=7,D95<12),ROUND(E95*0.015*(D95/12),2),IF(AND(MONTH(C95)=7,OR(Calculator!$D$6=\"Retired\",D95>=12)),ROUND(E95*0.015,2),0))","v":{"$error":"#VALUE!"}},{"$error":"#VALUE!"},null,{"$error":"#VALUE!"},"2025-08-01",{"$error":"#VALUE!"},{"$error":"#VALUE!"},{"$error":"#VALUE!"},{"$error":"#VALUE!"},null,{"$error":"#VALUE!"},"2025-08-01",{"$error":"#VALUE!"},{"$error":"#VALUE!"},{"$f":"0","v":0},{"$error":"#VALUE!"}]
[null,{"$error":"#VALUE!"},"2025-09-01",{"$error":"#VALUE!"},{"$error":"#VALUE!"},{"$f":"IF(AND(Calculator!$D$6=\"Active\",MONTH(C96)=7,D96<12),ROUND(E96*0.015*(D96/12),2),IF(AND(MONTH(C96)=7,OR(Calculator!$D$6=\"Retired\",D96>=12)),ROUND(E96*0.015,2),0))","v":{"$error":"#VALUE!"}},{"$error":"#VALUE!"},null,{"$error":"#VALUE!"},"2025-09-01",{"$error":"#VALUE!"},{"$error":"#VALUE!"},{"$error":"#VALUE!"},{"$error":"#VALUE!"},null,{"$error":"#VALUE!"},"2025-09-01",{"$error":"#VALUE!"},{"$error":"#VALUE!"},{"$f":"0","v":0},{"$error":"#VALUE!"}]
[null,{"$error":"#VALUE!"},"2025-10-01",{"$error":"#VALUE!"},{"$error":"#VALUE!"},{"$f":"IF(AND(Calculator!$D$6=\"Active\",MONTH(C97)=7,D97<12),ROUND(E97*0.015*(D97/12),2),IF(AND(MONTH(C97)=7,OR(Calculator!$D$6=\"Retired\",D97>=12)),ROUND(E97*0.015,2),0))","v":{"$error":"#VALUE!"}},{"$error":"#VALUE!"},null,{"$error":"#VALUE!"},"2025-10-01",{"$error":"#VALUE!"},{"$error":"#VALUE!"},{"$error":"#VALUE!"},{"$error":"#VALUE!"},null,{"$error":"#VALUE!"},"2025-10-01",{"$error":"#VALUE!"},{"$error":"#VALUE!"},{"$f":"0","v":0},{"$error":"#VALUE!"}]
[null,{"$error":"#VALUE!"},"2025-11-01",{"$error":"#VALUE!"},{"$error":"#VALUE!"},{"$f":"IF(AND(Calculator!$D$6=\"Active\",MONTH(C98)=7,D98<12),ROUND(E98*0.015*(D98/12),2),IF(AND(MONTH(C98)=7,OR(Calculator!$D$6=\"Retired\",D98>=12)),ROUND(E98*0.015,2),0))","v":{"$error":"#VALUE!"}},{"$error":"#VALUE!"},null,{"$error":"#VALUE!"},"2025-11-01",{"$error":"#VALUE!"},{"$error":"#VALUE!"},{"$error":"#VALUE!"},{"$error":"#VALUE!"},null,{"$error":"#VALUE!"},"2025-11-01",{"$error":"#VALUE!"},{"$error":"#VALUE!"},{"$f":"0","v":0},{"$error":"#VALUE!"}]
[null,{"$error":"#VALUE!"},"2025-12-01",{"$error":"#VALUE!"},{"$error":"#VALUE!"},{"$f":"IF(AND(Calculator!$D$6=\"Active\",MONTH(C99)=7,D99<12),ROUND(E99*0.015*(D99/12),2),IF(AND(MONTH(C99)=7,OR(Calculator!$D$6=\"Retired\",D99>=12)),ROUND(E99*0.015,2),0))","v":{"$error":"#VALUE!"}},{"$error":"#VALUE!"},null,{"$error":"#VALUE!"},"2025-12-01",{"$error":"#VALUE!"},{"$error":"#VALUE!"},{"$error":"#VALUE!"},{"$error":"#VALUE!"},null,{"$error":"#VALUE!"},"2025-12-01",{"$error":"#VALUE!"},{"$error":"#VALUE!"},{"$f":"0","v":0},{"$error":"#VALUE!"}]
[null,{"$error":"#VALUE!"},"2026-01-01",{"$error":"#VALUE!"},{"$error":"#VALUE!"},{"$f":"IF(AND(Calculator!$D$6=\"Active\",MONTH(C100)=7,D100<12),ROUND(E100*0.015*(D100/12),2),IF(AND(MONTH(C100)=7,OR(Calculator!$D$6=\"Retired\",D100>=12)),ROUND(E100*0.015,2),0))","v":{"$error":"#VALUE!"}},{"$error":"#VALUE!"},null,{"$error":"#VALUE!"},"2026-01-01",{"$error":"#VALUE!"},{"$error":"#VALUE!"},{"$error":"#VALUE!"},{"$error":"#VALUE!"},null,{"$error":"#VALUE!"},"2026-01-01",{"$error":"#VALUE!"},{"$error":"#VALUE!"},{"$f":"0","v":0},{"$error":"#VALUE!"}]
[null,{"$error":"#VALUE!"},"2026-02-01",{"$error":"#VALUE!"},{"$error":"#VALUE!"},{"$f":"IF(AND(Calculator!$D$6=\"Active\",MONTH(C101)=7,D101<12),ROUND(E101*0.015*(D101/12),2),IF(AND(MONTH(C101)=7,OR(Calculator!$D$6=\"Retired\",D101>=12)),ROUND(E101*0.015,2),0))","v":{"$error":"#VALUE!"}},{"$error":"#VALUE!"},null,{"$error":"#VALUE!"},"2026-02-01",{"$error":"#VALUE!"},{"$error":"#VALUE!"},{"$error":"#VALUE!"},{"$error":"#VALUE!"},null,{"$error":"#VALUE!"},"2026-02-01",{"$error":"#VALUE!"},{"$error":"#VALUE!"},{"$f":"0","v":0},{"$error":"#VALUE!"}]
[null,{"$error":"#VALUE!"},"2026-03-01",{"$error":"#VALUE!"},{"$error":"#VALUE!"},{"$f":"IF(AND(Calculator!$D$6=\"Active\",MONTH(C102)=7,D102<12),ROUND(E102*0.015*(D102/12),2),IF(AND(MONTH(C102)=7,OR(Calculator!$D$6=\"Retired\",D102>=12)),ROUND(E102*0.015,2),0))","v":{"$error":"#VALUE!"}},{"$error":"#VALUE!"},null,{"$error":"#VALUE!"},"2026-03-01",{"$error":"#VALUE!"},{"$error":"#VALUE!"},{"$error":"#VALUE!"},{"$error":"#VALUE!"},null,{"$error":"#VALUE!"},"2026-03-01",{"$error":"#VALUE!"},{"$error":"#VALUE!"},{"$f":"0","v":0},{"$error":"#VALUE!"}]
[null,{"$error":"#VALUE!"},"2026-04-01",{"$error":"#VALUE!"},{"$error":"#VALUE!"},{"$f":"IF(AND(Calculator!$D$6=\"Active\",MONTH(C103)=7,D103<12),ROUND(E103*0.015*(D103/12),2),IF(AND(MONTH(C103)=7,OR(Calculator!$D$6=\"Retired\",D103>=12)),ROUND(E103*0.015,2),0))","v":{"$error":"#VALUE!"}},{"$error":"#VALUE!"},null,{"$error":"#VALUE!"},"2026-04-01",{"$error":"#VALUE!"},{"$error":"#VALUE!"},{"$error":"#VALUE!"},{"$error":"#VALUE!"},null,{"$error":"#VALUE!"},"2026-04-01",{"$error":"#VALUE!"},{"$error":"#VALUE!"},{"$f":"0","v":0},{"$error":"#VALUE!"}]
[null,{"$error":"#VALUE!"},"2026-05-01",{"$error":"#VALUE!"},{"$error":"#VALUE!"},{"$f":"IF(AND(Calculator!$D$6=\"Active\",MONTH(C104)=7,D104<12),ROUND(E104*0.015*(D104/12),2),IF(AND(MONTH(C104)=7,OR(Calculator!$D$6=\"Retired\",D104>=12)),ROUND(E104*0.015,2),0))","v":{"$error":"#VALUE!"}},{"$error":"#VALUE!"},null,{"$error":"#VALUE!"},"2026-05-01",{"$error":"#VALUE!"},{"$error":"#VALUE!"},{"$error":"#VALUE!"},{"$error":"#VALUE!"},null,{"$error":"#VALUE!"},"2026-05-01",{"$error":"#VALUE!"},{"$error":"#VALUE!"},{"$f":"0","v":0},{"$error":"#VALUE!"}]
[null,{"$error":"#VALUE!"},"2026-06-01",{"$error":"#VALUE!"},{"$error":"#VALUE!"},{"$f":"IF(AND(Calculator!$D$6=\"Active\",MONTH(C105)=7,D105<12),ROUND(E105*0.015*(D105/12),2),IF(AND(MONTH(C105)=7,OR(Calculator!$D$6=\"Retired\",D105>=12)),ROUND(E105*0.015,2),0))","v":{"$error":"#VALUE!"}},{"$error":"#VALUE!"},null,{"$error":"#VALUE!"},"2026-06-01",{"$error":"#VALUE!"},{"$error":"#VALUE!"},{"$error":"#VALUE!"},{"$error":"#VALUE!"},null,{"$error":"#VALUE!"},"2026-06-01",{"$error":"#VALUE!"},{"$error":"#VALUE!"},{"$f":"0","v":0},{"$error":"#VALUE!"}]
[null,{"$error":"#VALUE!"},"2026-07-01",{"$error":"#VALUE!"},{"$error":"#VALUE!"},{"$f":"IF(AND(Calculator!$D$6=\"Active\",MONTH(C106)=7,D106<12),ROUND(E106*0.015*(D106/12),2),IF(AND(MONTH(C106)=7,OR(Calculator!$D$6=\"Retired\",D106>=12)),ROUND(E106*0.015,2),0))","v":{"$error":"#VALUE!"}},{"$error":"#VALUE!"},null,{"$error":"#VALUE!"},"2026-07-01",{"$error":"#VALUE!"},{"$error":"#VALUE!"},{"$error":"#VALUE!"},{"$error":"#VALUE!"},null,{"$error":"#VALUE!"},"2026-07-01",{"$error":"#VALUE!"},{"$error":"#VALUE!"},{"$f":"0","v":0},{"$error":"#VALUE!"}]
[null,{"$error":"#VALUE!"},"2026-08-01",{"$error":"#VALUE!"},{"$error":"#VALUE!"},{"$f":"IF(AND(Calculator!$D$6=\"Active\",MONTH(C107)=7,D107<12),ROUND(E107*0.015*(D107/12),2),IF(AND(MONTH(C107)=7,OR(Calculator!$D$6=\"Retired\",D107>=12)),ROUND(E107*0.015,2),0))","v":{"$error":"#VALUE!"}},{"$error":"#VALUE!"},null,{"$error":"#VALUE!"},"2026-08-01",{"$error":"#VALUE!"},{"$error":"#VALUE!"},{"$error":"#VALUE!"},{"$error":"#VALUE!"},null,{"$error":"#VALUE!"},"2026-08-01",{"$error":"#VALUE!"},{"$error":"#VALUE!"},{"$f":"0","v":0},{"$error":"#VALUE!"}]
[null,{"$error":"#VALUE!"},"2026-09-01",{"$error":"#VALUE!"},{"$error":"#VALUE!"},{"$f":"IF(AND(Calculator!$D$6=\"Active\",MONTH(C108)=7,D108<12),ROUND(E108*0.015*(D108/12),2),IF(AND(MONTH(C108)=7,OR(Calculator!$D$6=\"Retired\",D108>=12)),ROUND(E108*0.015,2),0))","v":{"$error":"#VALUE!"}},{"$error":"#VALUE!"},null,{"$error":"#VALUE!"},"2026-09-01",{"$error":"#VALUE!"},{"$error":"#VALUE!"},{"$error":"#VALUE!"},{"$error":"#VALUE!"},null,{"$error":"#VALUE!"},"2026-09-01",{"$error":"#VALUE!"},{"$error":"#VALUE!"},{"$f":"0","v":0},{"$error":"#VALUE!"}]
[null,{"$error":"#VALUE!"},"2026-10-01",{"$error":"#VALUE!"},{"$error":"#VALUE!"},{"$f":"IF(AND(Calculator!$D$6=\"Active\",MONTH(C109)=7,D109<12),ROUND(E109*0.015*(D109/12),2),IF(AND(MONTH(C109)=7,OR(Calculator!$D$6=\"Retired\",D109>=12)),ROUND(E109*0.015,2),0))","v":{"$error":"#VALUE!"}},{"$error":"#VALUE!"},null,{"$error":"#VALUE!"},"2026-10-01",{"$error":"#VALUE!"},{"$error":"#VALUE!"},{"$error":"#VALUE!"},{"$error":"#VALUE!"},null,{"$error":"#VALUE!"},"2026-10-01",{"$error":"#VALUE!"},{"$error":"#VALUE!"},{"$f":"0","v":0},{"$error":"#VALUE!"}]
[null,{"$error":"#VALUE!"},"2026-11-01",{"$error":"#VALUE!"},{"$error":"#VALUE!"},{"$f":"IF(AND(Calculator!$D$6=\"Active\",MONTH(C110)=7,D110<12),ROUND(E110*0.015*(D110/12),2),IF(AND(MONTH(C110)=7,OR(Calculator!$D$6=\"Retired\",D110>=12)),ROUND(E110*0.015,2),0))","v":{"$error":"#VALUE!"}},{"$error":"#VALUE!"},null,{"$error":"#VALUE!"},"2026-11-01",{"$error":"#VALUE!"},{"$error":"#VALUE!"},{"$error":"#VALUE!"},{"$error":"#VALUE!"},null,{"$error":"#VALUE!"},"2026-11-01",{"$error":"#VALUE!"},{"$error":"#VALUE!"},{"$f":"0","v":0},{"$error":"#VALUE!"}]
[null,{"$error":"#VALUE!"},"2026-12-01",{"$error":"#VALUE!"},{"$error":"#VALUE!"},{"$f":"IF(AND(Calculator!$D$6=\"Active\",MONTH(C111)=7,D111<12),ROUND(E111*0.015*(D111/12),2),IF(AND(MONTH(C111)=7,OR(Calculator!$D$6=\"Retired\",D111>=12)),ROUND(E111*0.015,2),0))","v":{"$error":"#VALUE!"}},{"$error":"#VALUE!"},null,{"$error":"#VALUE!"},"2026-12-01",{"$error":"#VALUE!"},{"$error":"#VALUE!"},{"$error":"#VALUE!"},{"$error":"#VALUE!"},null,{"$error":"#VALUE!"},"2026-12-01",{"$error":"#VALUE!"},{"$error":"#VALUE!"},{"$f":"0","v":0},{"$error":"#VALUE!"}]
[null,{"$error":"#VALUE!"},"2027-01-01",{"$error":"#VALUE!"},{"$error":"#VALUE!"},{"$f":"IF(AND(Calculator!$D$6=\"Active\",MONTH(C112)=7,D112<12),ROUND(E112*0.015*(D112/12),2),IF(AND(MONTH(C112)=7,OR(Calculator!$D$6=\"Retired\",D112>=12)),ROUND(E112*0.015,2),0))","v":{"$error":"#VALUE!"}},{"$error":"#VALUE!"},null,{"$error":"#VALUE!"},"2027-01-01",{"$error":"#VALUE!"},{"$error":"#VALUE!"},{"$error":"#VALUE!"},{"$error":"#VALUE!"},null,{"$error":"#VALUE!"},"2027-01-01",{"$error":"#VALUE!"},{"$error":"#VALUE!"},{"$f":"0","v":0},{"$error":"#VALUE!"}]
[null,{"$error":"#VALUE!"},"2027-02-01",{"$error":"#VALUE!"},{"$error":"#VALUE!"},{"$f":"IF(AND(Calculator!$D$6=\"Active\",MONTH(C113)=7,D113<12),ROUND(E113*0.015*(D113/12),2),IF(AND(MONTH(C113)=7,OR(Calculator!$D$6=\"Retired\",D113>=12)),ROUND(E113*0.015,2),0))","v":{"$error":"#VALUE!"}},{"$error":"#VALUE!"},null,{"$error":"#VALUE!"},"2027-02-01",{"$error":"#VALUE!"},{"$error":"#VALUE!"},{"$error":"#VALUE!"},{"$error":"#VALUE!"},null,{"$error":"#VALUE!"},"2027-02-01",{"$error":"#VALUE!"},{"$error":"#VALUE!"},{"$f":"0","v":0},{"$error":"#VALUE!"}]
[null,{"$error":"#VALUE!"},"2027-03-01",{"$error":"#VALUE!"},{"$error":"#VALUE!"},{"$f":"IF(AND(Calculator!$D$6=\"Active\",MONTH(C114)=7,D114<12),ROUND(E114*0.015*(D114/12),2),IF(AND(MONTH(C114)=7,OR(Calculator!$D$6=\"Retired\",D114>=12)),ROUND(E114*0.015,2),0))","v":{"$error":"#VALUE!"}},{"$error":"#VALUE!"},null,{"$error":"#VALUE!"},"2027-03-01",{"$error":"#VALUE!"},{"$error":"#VALUE!"},{"$error":"#VALUE!"},{"$error":"#VALUE!"},null,{"$error":"#VALUE!"},"2027-03-01",{"$error":"#VALUE!"},{"$error":"#VALUE!"},{"$f":"0","v":0},{"$error":"#VALUE!"}]
[null,{"$error":"#VALUE!"},"2027-04-01",{"$error":"#VALUE!"},{"$error":"#VALUE!"},{"$f":"IF(AND(Calculator!$D$6=\"Active\",MONTH(C115)=7,D115<12),ROUND(E115*0.015*(D115/12),2),IF(AND(MONTH(C115)=7,OR(Calculator!$D$6=\"Retired\",D115>=12)),ROUND(E115*0.015,2),0))","v":{"$error":"#VALUE!"}},{"$error":"#VALUE!"},null,{"$error":"#VALUE!"},"2027-04-01",{"$error":"#VALUE!"},{"$error":"#VALUE!"},{"$error":"#VALUE!"},{"$error":"#VALUE!"},null,{"$error":"#VALUE!"},"2027-04-01",{"$error":"#VALUE!"},{"$error":"#VALUE!"},{"$f":"0","v":0},{"$error":"#VALUE!"}]
[null,{"$error":"#VALUE!"},"2027-05-01",{"$error":"#VALUE!"},{"$error":"#VALUE!"},{"$f":"IF(AND(Calculator!$D$6=\"Active\",MONTH(C116)=7,D116<12),ROUND(E116*0.015*(D116/12),2),IF(AND(MONTH(C116)=7,OR(Calculator!$D$6=\"Retired\",D116>=12)),ROUND(E116*0.015,2),0))","v":{"$error":"#VALUE!"}},{"$error":"#VALUE!"},null,{"$error":"#VALUE!"},"2027-05-01",{"$error":"#VALUE!"},{"$error":"#VALUE!"},{"$error":"#VALUE!"},{"$error":"#VALUE!"},null,{"$error":"#VALUE!"},"2027-05-01",{"$error":"#VALUE!"},{"$error":"#VALUE!"},{"$f":"0","v":0},{"$error":"#VALUE!"}]
[null,{"$error":"#VALUE!"},"2027-06-01",{"$error":"#VALUE!"},{"$error":"#VALUE!"},{"$f":"IF(AND(Calculator!$D$6=\"Active\",MONTH(C117)=7,D117<12),ROUND(E117*0.015*(D117/12),2),IF(AND(MONTH(C117)=7,OR(Calculator!$D$6=\"Retired\",D117>=12)),ROUND(E117*0.015,2),0))","v":{"$error":"#VALUE!"}},{"$error":"#VALUE!"},null,{"$error":"#VALUE!"},"2027-06-01",{"$error":"#VALUE!"},{"$error":"#VALUE!"},{"$error":"#VALUE!"},{"$error":"#VALUE!"},null,{"$error":"#VALUE!"},"2027-06-01",{"$error":"#VALUE!"},{"$error":"#VALUE!"},{"$f":"0","v":0},{"$error":"#VALUE!"}]
[null,{"$error":"#VALUE!"},"2027-07-01",{"$error":"#VALUE!"},{"$error":"#VALUE!"},{"$f":"IF(AND(Calculator!$D$6=\"Active\",MONTH(C118)=7,D118<12),ROUND(E118*0.015*(D118/12),2),IF(AND(MONTH(C118)=7,OR(Calculator!$D$6=\"Retired\",D118>=12)),ROUND(E118*0.015,2),0))","v":{"$error":"#VALUE!"}},{"$error":"#VALUE!"},null,{"$error":"#VALUE!"},"2027-07-01",{"$error":"#VALUE!"},{"$error":"#VALUE!"},{"$error":"#VALUE!"},{"$error":"#VALUE!"},null,{"$error":"#VALUE!"},"2027-07-01",{"$error":"#VALUE!"},{"$error":"#VALUE!"},{"$f":"0","v":0},{"$error":"#VALUE!"}]
[null,{"$error":"#VALUE!"},"2027-08-01",{"$error":"#VALUE!"},{"$error":"#VALUE!"},{"$f":"IF(AND(Calculator!$D$6=\"Active\",MONTH(C119)=7,D119<12),ROUND(E119*0.015*(D119/12),2),IF(AND(MONTH(C119)=7,OR(Calculator!$D$6=\"Retired\",D119>=12)),ROUND(E119*0.015,2),0))","v":{"$error":"#VALUE!"}},{"$error":"#VALUE!"},null,{"$error":"#VALUE!"},"2027-08-01",{"$error":"#VALUE!"},{"$error":"#VALUE!"},{"$error":"#VALUE!"},{"$error":"#VALUE!"},null,{"$error":"#VALUE!"},"2027-08-01",{"$error":"#VALUE!"},{"$error":"#VALUE!"},{"$f":"0","v":0},{"$error":"#VALUE!"}]
[null,{"$error":"#VALUE!"},"2027-09-01",{"$error":"#VALUE!"},{"$error":"#VALUE!"},{"$f":"IF(AND(Calculator!$D$6=\"Active\",MONTH(C120)=7,D120<12),ROUND(E120*0.015*(D120/12),2),IF(AND(MONTH(C120)=7,OR(Calculator!$D$6=\"Retired\",D120>=12)),ROUND(E120*0.015,2),0))","v":{"$error":"#VALUE!"}},{"$error":"#VALUE!"},null,{"$error":"#VALUE!"},"2027-09-01",{"$error":"#VALUE!"},{"$error":"#VALUE!"},{"$error":"#VALUE!"},{"$error":"#VALUE!"},null,{"$error":"#VALUE!"},"2027-09-01",{"$error":"#VALUE!"},{"$error":"#VALUE!"},{"$f":"0","v":0},{"$error":"#VALUE!"}]
[null,{"$error":"#VALUE!"},"2027-10-01",{"$error":"#VALUE!"},{"$error":"#VALUE!"},{"$f":"IF(AND(Calculator!$D$6=\"Active\",MONTH(C121)=7,D121<12),ROUND(E121*0.015*(D121/12),2),IF(AND(MONTH(C121)=7,OR(Calculator!$D$6=\"Retired\",D121>=12)),ROUND(E121*0.015,2),0))","v":{"$error":"#VALUE!"}},{"$error":"#VALUE!"},null,{"$error":"#VALUE!"},"2027-10-01",{"$error":"#VALUE!"},{"$error":"#VALUE!"},{"$error":"#VALUE!"},{"$error":"#VALUE!"},null,{"$error":"#VALUE!"},"2027-10-01",{"$error":"#VALUE!"},{"$error":"#VALUE!"},{"$f":"0","v":0},{"$error":"#VALUE!"}]
[null,{"$error":"#VALUE!"},"2027-11-01",{"$error":"#VALUE!"},{"$error":"#VALUE!"},{"$f":"IF(AND(Calculator!$D$6=\"Active\",MONTH(C122)=7,D122<12),ROUND(E122*0.015*(D122/12),2),IF(AND(MONTH(C122)=7,OR(Calculator!$D$6=\"Retired\",D122>=12)),ROUND(E122*0.015,2),0))","v":{"$error":"#VALUE!"}},{"$error":"#VALUE!"},null,{"$error":"#VALUE!"},"2027-11-01",{"$error":"#VALUE!"},{"$error":"#VALUE!"},{"$error":"#VALUE!"},{"$error":"#VALUE!"},null,{"$error":"#VALUE!"},"2027-11-01",{"$error":"#VALUE!"},{"$error":"#VALUE!"},{"$f":"0","v":0},{"$error":"#VALUE!"}]
[null,{"$error":"#VALUE!"},"2027-12-01",{"$error":"#VALUE!"},{"$error":"#VALUE!"},{"$f":"IF(AND(Calculator!$D$6=\"Active\",MONTH(C123)=7,D123<12),ROUND(E123*0.015*(D123/12),2),IF(AND(MONTH(C123)=7,OR(Calculator!$D$6=\"Retired\",D123>=12)),ROUND(E123*0.015,2),0))","v":{"$error":"#VALUE!"}},{"$error":"#VALUE!"},null,{"$error":"#VALUE!"},"2027-12-01",{"$error":"#VALUE!"},{"$error":"#VALUE!"},{"$error":"#VALUE!"},{"$error":"#VALUE!"},null,{"$error":"#VALUE!"},"2027-12-01",{"$error":"#VALUE!"},{"$error":"#VALUE!"},{"$f":"0","v":0},{"$error":"#VALUE!"}]
[null,{"$error":"#VALUE!"},"2028-01-01",{"$error":"#VALUE!"},{"$error":"#VALUE!"},{"$f":"IF(AND(Calculator!$D$6=\"Active\",MONTH(C124)=7,D124<12),ROUND(E124*0.015*(D124/12),2),IF(AND(MONTH(C124)=7,OR(Calculator!$D$6=\"Retired\",D124>=12)),ROUND(E124*0.015,2),0))","v":{"$error":"#VALUE!"}},{"$error":"#VALUE!"},null,{"$error":"#VALUE!"},"2028-01-01",{"$error":"#VALUE!"},{"$error":"#VALUE!"},{"$error":"#VALUE!"},{"$error":"#VALUE!"},null,{"$error":"#VALUE!"},"2028-01-01",{"$error":"#VALUE!"},{"$error":"#VALUE!"},{"$f":"0","v":0},{"$error":"#VALUE!"}]
[null,{"$error":"#VALUE!"},"2028-02-01",{"$error":"#VALUE!"},{"$error":"#VALUE!"},{"$f":"IF(AND(Calculator!$D$6=\"Active\",MONTH(C125)=7,D125<12),ROUND(E125*0.015*(D125/12),2),IF(AND(MONTH(C125)=7,OR(Calculator!$D$6=\"Retired\",D125>=12)),ROUND(E125*0.015,2),0))","v":{"$error":"#VALUE!"}},{"$error":"#VALUE!"},null,{"$error":"#VALUE!"},"2028-02-01",{"$error":"#VALUE!"},{"$error":"#VALUE!"},{"$error":"#VALUE!"},{"$error":"#VALUE!"},null,{"$error":"#VALUE!"},"2028-02-01",{"$error":"#VALUE!"},{"$error":"#VALUE!"},{"$f":"0","v":0},{"$error":"#VALUE!"}]
[null,{"$error":"#VALUE!"},"2028-03-01",{"$error":"#VALUE!"},{"$error":"#VALUE!"},{"$f":"IF(AND(Calculator!$D$6=\"Active\",MONTH(C126)=7,D126<12),ROUND(E126*0.015*(D126/12),2),IF(AND(MONTH(C126)=7,OR(Calculator!$D$6=\"Retired\",D126>=12)),ROUND(E126*0.015,2),0))","v":{"$error":"#VALUE!"}},{"$error":"#VALUE!"},null,{"$error":"#VALUE!"},"2028-03-01",{"$error":"#VALUE!"},{"$error":"#VALUE!"},{"$error":"#VALUE!"},{"$error":"#VALUE!"},null,{"$error":"#VALUE!"},"2028-03-01",{"$error":"#VALUE!"},{"$error":"#VALUE!"},{"$f":"0","v":0},{"$error":"#VALUE!"}]
[null,{"$error":"#VALUE!"},"2028-04-01",{"$error":"#VALUE!"},{"$error":"#VALUE!"},{"$f":"IF(AND(Calculator!$D$6=\"Active\",MONTH(C127)=7,D127<12),ROUND(E127*0.015*(D127/12),2),IF(AND(MONTH(C127)=7,OR(Calculator!$D$6=\"Retired\",D127>=12)),ROUND(E127*0.015,2),0))","v":{"$error":"#VALUE!"}},{"$error":"#VALUE!"},null,{"$error":"#VALUE!"},"2028-04-01",{"$error":"#VALUE!"},{"$error":"#VALUE!"},{"$error":"#VALUE!"},{"$error":"#VALUE!"},null,{"$error":"#VALUE!"},"2028-04-01",{"$error":"#VALUE!"},{"$error":"#VALUE!"},{"$f":"0","v":0},{"$error":"#VALUE!"}]
[null,{"$error":"#VALUE!"},"2028-05-01",{"$error":"#VALUE!"},{"$error":"#VALUE!"},{"$f":"IF(AND(Calculator!$D$6=\"Active\",MONTH(C128)=7,D128<12),ROUND(E128*0.015*(D128/12),2),IF(AND(MONTH(C128)=7,OR(Calculator!$D$6=\"Retired\",D128>=12)),ROUND(E128*0.015,2),0))","v":{"$error":"#VALUE!"}},{"$error":"#VALUE!"},null,{"$error":"#VALUE!"},"2028-05-01",{"$error":"#VALUE!"},{"$error":"#VALUE!"},{"$f":"IF(AND(MONTH(J128)=7,K128>61),ROUND(L128*0.015,2),0)","v":{"$error":"#VALUE!"}},{"$error":"#VALUE!"},null,{"$error":"#VALUE!"},"2028-05-01",{"$error":"#VALUE!"},{"$error":"#VALUE!"},{"$f":"0","v":0},{"$error":"#VALUE!"}]
[null,{"$error":"#VALUE!"},"2028-06-01",{"$error":"#VALUE!"},{"$error":"#VALUE!"},{"$f":"IF(AND(Calculator!$D$6=\"Active\",MONTH(C129)=7,D129<12),ROUND(E129*0.015*(D129/12),2),IF(AND(MONTH(C129)=7,OR(Calculator!$D$6=\"Retired\",D129>=12)),ROUND(E129*0.015,2),0))","v":{"$error":"#VALUE!"}},{"$error":"#VALUE!"},null,{"$error":"#VALUE!"},"2028-06-01",{"$error":"#VALUE!"},{"$error":"#VALUE!"},{"$error":"#VALUE!"},{"$error":"#VALUE!"},null,{"$error":"#VALUE!"},"2028-06-01",{"$error":"#VALUE!"},{"$error":"#VALUE!"},{"$f":"0","v":0},{"$error":"#VALUE!"}]
[null,{"$error":"#VALUE!"},"2028-07-01",{"$error":"#VALUE!"},{"$error":"#VALUE!"},{"$f":"IF(AND(Calculator!$D$6=\"Active\",MONTH(C130)=7,D130<12),ROUND(E130*0.015*(D130/12),2),IF(AND(MONTH(C130)=7,OR(Calculator!$D$6=\"Retired\",D130>=12)),ROUND(E130*0.015,2),0))","v":{"$error":"#VALUE!"}},{"$error":"#VALUE!"},null,{"$error":"#VALUE!"},"2028-07-01",{"$error":"#VALUE!"},{"$error":"#VALUE!"},{"$error":"#VALUE!"},{"$error":"#VALUE!"},null,{"$error":"#VALUE!"},"2028-07-01",{"$error":"#VALUE!"},{"$error":"#VALUE!"},{"$f":"0","v":0},{"$error":"#VALUE!"}]
[null,{"$error":"#VALUE!"},"2028-08-01",{"$error":"#VALUE!"},{"$error":"#VALUE!"},{"$f":"IF(AND(Calculator!$D$6=\"Active\",MONTH(C131)=7,D131<12),ROUND(E131*0.015*(D131/12),2),IF(AND(MONTH(C131)=7,OR(Calculator!$D$6=\"Retired\",D131>=12)),ROUND(E131*0.015,2),0))","v":{"$error":"#VALUE!"}},{"$error":"#VALUE!"},null,{"$error":"#VALUE!"},"2028-08-01",{"$error":"#VALUE!"},{"$error":"#VALUE!"},{"$error":"#VALUE!"},{"$error":"#VALUE!"},null,{"$error":"#VALUE!"},"2028-08-01",{"$error":"#VALUE!"},{"$error":"#VALUE!"},{"$f":"0","v":0},{"$error":"#VALUE!"}]
[null,{"$f":"IF(MONTH(DoB)=MONTH(C131),B131+1,B131)","v":{"$error":"#VALUE!"}},"2028-09-01",{"$f":"IF(B132>=VLOOKUP(Age_at_Retirement,Life_Expectancy_Table,3,FALSE),\"\",(D131+1))","v":{"$error":"#VALUE!"}},{"$error":"#VALUE!"},{"$f":"IF(AND(Calculator!$D$6=\"Active\",MONTH(C132)=7,D132<12),ROUND(E132*0.015*(D132/12),2),IF(AND(MONTH(C132)=7,OR(Calculator!$D$6=\"Retired\",D132>=12)),ROUND(E132*0.015,2),0))","v":{"$error":"#VALUE!"}},{"$error":"#VALUE!"},null,{"$f":"IF(MONTH(DoB)=MONTH(J131),I131+1,I131)","v":{"$error":"#VALUE!"}},"2028-09-01",{"$f":"IF(I132>=VLOOKUP(Age_at_Retirement,Life_Expectancy_Table,3,FALSE),\"\",(K131+1))","v":{"$error":"#VALUE!"}},{"$error":"#VALUE!"},{"$error":"#VALUE!"},{"$error":"#VALUE!"},null,{"$f":"IF(MONTH(DoB)=MONTH(Q131),P131+1,P131)","v":{"$error":"#VALUE!"}},"2028-09-01",{"$f":"IF(P132>=VLOOKUP(Age_at_Retirement,Life_Expectancy_Table,3,FALSE),\"\",(R131+1))","v":{"$error":"#VALUE!"}},{"$error":"#VALUE!"},{"$f":"0","v":0},{"$error":"#VALUE!"}]
[null,{"$error":"#VALUE!"},"2028-10-01",{"$error":"#VALUE!"},{"$f":"IF(D133=\"\",0,G132)","v":{"$error":"#VALUE!"}},{"$f":"IF(AND(Calculator!$D$6=\"Active\",MONTH(C133)=7,D133<12),ROUND(E133*0.015*(D133/12),2),IF(AND(MONTH(C133)=7,OR(Calculator!$D$6=\"Retired\",D133>=12)),ROUND(E133*0.015,2),0))","v":{"$error":"#VALUE!"}},{"$error":"#VALUE!"},null,{"$error":"#VALUE!"},"2028-10-01",{"$error":"#VALUE!"},{"$f":"IF(K133=\"\",0,N132)","v":{"$error":"#VALUE!"}},{"$error":"#VALUE!"},{"$f":"L133+M133","v":{"$error":"#VALUE!"}},null,{"$error":"#VALUE!"},"2028-10-01",{"$error":"#VALUE!"},{"$f":"IF(R133=\"\",0,U132)","v":{"$error":"#VALUE!"}},{"$f":"0","v":0},{"$f":"S133+T133","v":{"$error":"#VALUE!"}}]
[null,{"$error":"#VALUE!"},"2028-11-01",{"$error":"#VALUE!"},{"$error":"#VALUE!"},{"$f":"IF(AND(Calculator!$D$6=\"Active\",MONTH(C134)=7,D134<12),ROUND(E134*0.015*(D134/12),2),IF(AND(MONTH(C134)=7,OR(Calculator!$D$6=\"Retired\",D134>=12)),ROUND(E134*0.015,2),0))","v":{"$error":"#VALUE!"}},{"$error":"#VALUE!"},null,{"$error":"#VALUE!"},{"$f":"EDATE(J133,1)","v":"2028-11-01"},{"$error":"#VALUE!"},{"$error":"#VALUE!"},{"$error":"#VALUE!"},{"$error":"#VALUE!"},null,{"$error":"#VALUE!"},{"$f":"EDATE(Q133,1)","v":"2028-11-01"},{"$error":"#VALUE!"},{"$error":"#VALUE!"},{"$f":"0","v":0},{"$error":"#VALUE!"}]
[null,{"$error":"#VALUE!"},"2028-12-01",{"$error":"#VALUE!"},{"$error":"#VALUE!"},{"$f":"IF(AND(Calculator!$D$6=\"Active\",MONTH(C135)=7,D135<12),ROUND(E135*0.015*(D135/12),2),IF(AND(MONTH(C135)=7,OR(Calculator!$D$6=\"Retired\",D135>=12)),ROUND(E135*0.015,2),0))","v":{"$error":"#VALUE!"}},{"$error":"#VALUE!"},null,{"$error":"#VALUE!"},"2028-12-01",{"$error":"#VALUE!"},{"$error":"#VALUE!"},{"$error":"#VALUE!"},{"$error":"#VALUE!"},null,{"$error":"#VALUE!"},"2028-12-01",{"$error":"#VALUE!"},{"$error":"#VALUE!"},{"$f":"0","v":0},{"$error":"#VALUE!"}]
[null,{"$error":"#VALUE!"},"2029-01-01",{"$error":"#VALUE!"},{"$error":"#VALUE!"},{"$f":"IF(AND(Calculator!$D$6=\"Active\",MONTH(C136)=7,D136<12),ROUND(E136*0.015*(D136/12),2),IF(AND(MONTH(C136)=7,OR(Calculator!$D$6=\"Retired\",D136>=12)),ROUND(E136*0.015,2),0))","v":{"$error":"#VALUE!"}},{"$error":"#VALUE!"},null,{"$error":"#VALUE!"},"2029-01-01",{"$error":"#VALUE!"},{"$error":"#VALUE!"},{"$error":"#VALUE!"},{"$error":"#VALUE!"},null,{"$error":"#VALUE!"},"2029-01-01",{"$error":"#VALUE!"},{"$error":"#VALUE!"},{"$f":"0","v":0},{"$error":"#VALUE!"}]
[null,{"$error":"#VALUE!"},"2029-02-01",{"$error":"#VALUE!"},{"$error":"#VALUE!"},{"$f":"IF(AND(Calculator!$D$6=\"Active\",MONTH(C137)=7,D137<12),ROUND(E137*0.015*(D137/12),2),IF(AND(MONTH(C137)=7,OR(Calculator!$D$6=\"Retired\",D137>=12)),ROUND(E137*0.015,2),0))","v":{"$error":"#VALUE!"}},{"$error":"#VALUE!"},null,{"$error":"#VALUE!"},"2029-02-01",{"$error":"#VALUE!"},{"$error":"#VALUE!"},{"$error":"#VALUE!"},{"$error":"#VALUE!"},null,{"$error":"#VALUE!"},"2029-02-01",{"$error":"#VALUE!"},{"$error":"#VALUE!"},{"$f":"0","v":0},{"$error":"#VALUE!"}]
[null,{"$error":"#VALUE!"},"2029-03-01",{"$error":"#VALUE!"},{"$error":"#VALUE!"},{"$f":"IF(AND(Calculator!$D$6=\"Active\",MONTH(C138)=7,D138<12),ROUND(E138*0.015*(D138/12),2),IF(AND(MONTH(C138)=7,OR(Calculator!$D$6=\"Retired\",D138>=12)),ROUND(E138*0.015,2),0))","v":{"$error":"#VALUE!"}},{"$error":"#VALUE!"},null,{"$error":"#VALUE!"},"2029-03-01",{"$error":"#VALUE!"},{"$error":"#VALUE!"},{"$error":"#VALUE!"},{"$error":"#VALUE!"},null,{"$error":"#VALUE!"},"2029-03-01",{"$error":"#VALUE!"},{"$error":"#VALUE!"},{"$f":"0","v":0},{"$error":"#VALUE!"}]
[null,{"$error":"#VALUE!"},"2029-04-01",{"$error":"#VALUE!"},{"$error":"#VALUE!"},{"$f":"IF(AND(Calculator!$D$6=\"Active\",MONTH(C139)=7,D139<12),ROUND(E139*0.015*(D139/12),2),IF(AND(MONTH(C139)=7,OR(Calculator!$D$6=\"Retired\",D139>=12)),ROUND(E139*0.015,2),0))","v":{"$error":"#VALUE!"}},{"$error":"#VALUE!"},null,{"$error":"#VALUE!"},"2029-04-01",{"$error":"#VALUE!"},{"$error":"#VALUE!"},{"$error":"#VALUE!"},{"$error":"#VALUE!"},null,{"$error":"#VALUE!"},"2029-04-01",{"$error":"#VALUE!"},{"$error":"#VALUE!"},{"$f":"0","v":0},{"$error":"#VALUE!"}]
[null,{"$error":"#VALUE!"},"2029-05-01",{"$error":"#VALUE!"},{"$error":"#VALUE!"},{"$f":"IF(AND(Calculator!$D$6=\"Active\",MONTH(C140)=7,D140<12),ROUND(E140*0.015*(D140/12),2),IF(AND(MONTH(C140)=7,OR(Calculator!$D$6=\"Retired\",D140>=12)),ROUND(E140*0.015,2),0))","v":{"$error":"#VALUE!"}},{"$error":"#VALUE!"},null,{"$error":"#VALUE!"},"2029-05-01",{"$error":"#VALUE!"},{"$error":"#VALUE!"},{"$error":"#VALUE!"},{"$error":"#VALUE!"},null,{"$error":"#VALUE!"},"2029-05-01",{"$error":"#VALUE!"},{"$error":"#VALUE!"},{"$f":"0","v":0},{"$error":"#VALUE!"}]
[null,{"$error":"#VALUE!"},"2029-06-01",{"$error":"#VALUE!"},{"$error":"#VALUE!"},{"$f":"IF(AND(Calculator!$D$6=\"Active\",MONTH(C141)=7,D141<12),ROUND(E141*0.015*(D141/12),2),IF(AND(MONTH(C141)=7,OR(Calculator!$D$6=\"Retired\",D141>=12)),ROUND(E141*0.015,2),0))","v":{"$error":"#VALUE!"}},{"$error":"#VALUE!"},null,{"$error":"#VALUE!"},"2029-06-01",{"$error":"#VALUE!"},{"$error":"#VALUE!"},{"$error":"#VALUE!"},{"$error":"#VALUE!"},null,{"$error":"#VALUE!"},"2029-06-01",{"$error":"#VALUE!"},{"$error":"#VALUE!"},{"$f":"0","v":0},{"$error":"#VALUE!"}]
[null,{"$error":"#VALUE!"},"2029-07-01",{"$error":"#VALUE!"},{"$error":"#VALUE!"},{"$f":"IF(AND(Calculator!$D$6=\"Active\",MONTH(C142)=7,D142<12),ROUND(E142*0.015*(D142/12),2),IF(AND(MONTH(C142)=7,OR(Calculator!$D$6=\"Retired\",D142>=12)),ROUND(E142*0.015,2),0))","v":{"$error":"#VALUE!"}},{"$error":"#VALUE!"},null,{"$error":"#VALUE!"},"2029-07-01",{"$error":"#VALUE!"},{"$error":"#VALUE!"},{"$error":"#VALUE!"},{"$error":"#VALUE!"},null,{"$error":"#VALUE!"},"2029-07-01",{"$error":"#VALUE!"},{"$error":"#VALUE!"},{"$f":"0","v":0},{"$error":"#VALUE!"}]
[null,{"$error":"#VALUE!"},"2029-08-01",{"$error":"#VALUE!"},{"$error":"#VALUE!"},{"$f":"IF(AND(Calculator!$D$6=\"Active\",MONTH(C143)=7,D143<12),ROUND(E143*0.015*(D143/12),2),IF(AND(MONTH(C143)=7,OR(Calculator!$D$6=\"Retired\",D143>=12)),ROUND(E143*0.015,2),0))","v":{"$error":"#VALUE!"}},{"$error":"#VALUE!"},null,{"$error":"#VALUE!"},"2029-08-01",{"$error":"#VALUE!"},{"$error":"#VALUE!"},{"$error":"#VALUE!"},{"$error":"#VALUE!"},null,{"$error":"#VALUE!"},"2029-08-01",{"$error":"#VALUE!"},{"$error":"#VALUE!"},{"$f":"0","v":0},{"$error":"#VALUE!"}]
[null,{"$error":"#VALUE!"},"2029-09-01",{"$error":"#VALUE!"},{"$error":"#VALUE!"},{"$f":"IF(AND(Calculator!$D$6=\"Active\",MONTH(C144)=7,D144<12),ROUND(E144*0.015*(D144/12),2),IF(AND(MONTH(C144)=7,OR(Calculator!$D$6=\"Retired\",D144>=12)),ROUND(E144*0.015,2),0))","v":{"$error":"#VALUE!"}},{"$error":"#VALUE!"},null,{"$error":"#VALUE!"},"2029-09-01",{"$error":"#VALUE!"},{"$error":"#VALUE!"},{"$error":"#VALUE!"},{"$error":"#VALUE!"},null,{"$error":"#VALUE!"},"2029-09-01",{"$error":"#VALUE!"},{"$error":"#VALUE!"},{"$f":"0","v":0},{"$error":"#VALUE!"}]
[null,{"$error":"#VALUE!"},"2029-10-01",{"$error":"#VALUE!"},{"$error":"#VALUE!"},{"$f":"IF(AND(Calculator!$D$6=\"Active\",MONTH(C145)=7,D145<12),ROUND(E145*0.015*(D145/12),2),IF(AND(MONTH(C145)=7,OR(Calculator!$D$6=\"Retired\",D145>=12)),ROUND(E145*0.015,2),0))","v":{"$error":"#VALUE!"}},{"$error":"#VALUE!"},null,{"$error":"#VALUE!"},"2029-10-01",{"$error":"#VALUE!"},{"$error":"#VALUE!"},{"$error":"#VALUE!"},{"$error":"#VALUE!"},null,{"$error":"#VALUE!"},"2029-10-01",{"$error":"#VALUE!"},{"$error":"#VALUE!"},{"$f":"0","v":0},{"$error":"#VALUE!"}]
[null,{"$error":"#VALUE!"},"2029-11-01",{"$error":"#VALUE!"},{"$error":"#VALUE!"},{"$f":"IF(AND(Calculator!$D$6=\"Active\",MONTH(C146)=7,D146<12),ROUND(E146*0.015*(D146/12),2),IF(AND(MONTH(C146)=7,OR(Calculator!$D$6=\"Retired\",D146>=12)),ROUND(E146*0.015,2),0))","v":{"$error":"#VALUE!"}},{"$error":"#VALUE!"},null,{"$error":"#VALUE!"},"2029-11-01",{"$error":"#VALUE!"},{"$error":"#VALUE!"},{"$error":"#VALUE!"},{"$error":"#VALUE!"},null,{"$error":"#VALUE!"},"2029-11-01",{"$error":"#VALUE!"},{"$error":"#VALUE!"},{"$f":"0","v":0},{"$error":"#VALUE!"}]
[null,{"$error":"#VALUE!"},{"$f":"EDATE(C146,1)","v":"2029-12-01"},{"$error":"#VALUE!"},{"$error":"#VALUE!"},{"$f":"IF(AND(Calculator!$D$6=\"Active\",MONTH(C147)=7,D147<12),ROUND(E147*0.015*(D147/12),2),IF(AND(MONTH(C147)=7,OR(Calculator!$D$6=\"Retired\",D147>=12)),ROUND(E147*0.015,2),0))","v":{"$error":"#VALUE!"}},{"$f":"E147+F147","v":{"$error":"#VALUE!"}},null,{"$error":"#VALUE!"},"2029-12-01",{"$error":"#VALUE!"},{"$error":"#VALUE!"},{"$error":"#VALUE!"},{"$error":"#VALUE!"},null,{"$error":"#VALUE!"},"2029-12-01",{"$error":"#VALUE!"},{"$error":"#VALUE!"},{"$f":"0","v":0},{"$error":"#VALUE!"}]
[null,{"$error":"#VALUE!"},"2030-01-01",{"$error":"#VALUE!"},{"$error":"#VALUE!"},{"$f":"IF(AND(Calculator!$D$6=\"Active\",MONTH(C148)=7,D148<12),ROUND(E148*0.015*(D148/12),2),IF(AND(MONTH(C148)=7,OR(Calculator!$D$6=\"Retired\",D148>=12)),ROUND(E148*0.015,2),0))","v":{"$error":"#VALUE!"}},{"$error":"#VALUE!"},null,{"$error":"#VALUE!"},"2030-01-01",{"$error":"#VALUE!"},{"$error":"#VALUE!"},{"$error":"#VALUE!"},{"$error":"#VALUE!"},null,{"$error":"#VALUE!"},"2030-01-01",{"$error":"#VALUE!"},{"$error":"#VALUE!"},{"$f":"0","v":0},{"$error":"#VALUE!"}]
[null,{"$error":"#VALUE!"},"2030-02-01",{"$error":"#VALUE!"},{"$error":"#VALUE!"},{"$f":"IF(AND(Calculator!$D$6=\"Active\",MONTH(C149)=7,D149<12),ROUND(E149*0.015*(D149/12),2),IF(AND(MONTH(C149)=7,OR(Calculator!$D$6=\"Retired\",D149>=12)),ROUND(E149*0.015,2),0))","v":{"$error":"#VALUE!"}},{"$error":"#VALUE!"},null,{"$error":"#VALUE!"},"2030-02-01",{"$error":"#VALUE!"},{"$error":"#VALUE!"},{"$error":"#VALUE!"},{"$error":"#VALUE!"},null,{"$error":"#VALUE!"},"2030-02-01",{"$error":"#VALUE!"},{"$error":"#VALUE!"},{"$f":"0","v":0},{"$error":"#VALUE!"}]
[null,{"$error":"#VALUE!"},"2030-03-01",{"$error":"#VALUE!"},{"$error":"#VALUE!"},{"$f":"IF(AND(Calculator!$D$6=\"Active\",MONTH(C150)=7,D150<12),ROUND(E150*0.015*(D150/12),2),IF(AND(MONTH(C150)=7,OR(Calculator!$D$6=\"Retired\",D150>=12)),ROUND(E150*0.015,2),0))","v":{"$error":"#VALUE!"}},{"$error":"#VALUE!"},null,{"$error":"#VALUE!"},"2030-03-01",{"$error":"#VALUE!"},{"$error":"#VALUE!"},{"$error":"#VALUE!"},{"$error":"#VALUE!"},null,{"$error":"#VALUE!"},"2030-03-01",{"$error":"#VALUE!"},{"$error":"#VALUE!"},{"$f":"0","v":0},{"$error":"#VALUE!"}]
[null,{"$error":"#VALUE!"},"2030-04-01",{"$error":"#VALUE!"},{"$error":"#VALUE!"},{"$f":"IF(AND(Calculator!$D$6=\"Active\",MONTH(C151)=7,D151<12),ROUND(E151*0.015*(D151/12),2),IF(AND(MONTH(C151)=7,OR(Calculator!$D$6=\"Retired\",D151>=12)),ROUND(E151*0.015,2),0))","v":{"$error":"#VALUE!"}},{"$error":"#VALUE!"},null,{"$error":"#VALUE!"},"2030-04-01",{"$error":"#VALUE!"},{"$error":"#VALUE!"},{"$error":"#VALUE!"},{"$error":"#VALUE!"},null,{"$error":"#VALUE!"},"2030-04-01",{"$error":"#VALUE!"},{"$error":"#VALUE!"},{"$f":"0","v":0},{"$error":"#VALUE!"}]
[null,{"$error":"#VALUE!"},"2030-05-01",{"$error":"#VALUE!"},{"$error":"#VALUE!"},{"$f":"IF(AND(Calculator!$D$6=\"Active\",MONTH(C152)=7,D152<12),ROUND(E152*0.015*(D152/12),2),IF(AND(MONTH(C152)=7,OR(Calculator!$D$6=\"Retired\",D152>=12)),ROUND(E152*0.015,2),0))","v":{"$error":"#VALUE!"}},{"$error":"#VALUE!"},null,{"$error":"#VALUE!"},"2030-05-01",{"$error":"#VALUE!"},{"$error":"#VALUE!"},{"$error":"#VALUE!"},{"$error":"#VALUE!"},null,{"$error":"#VALUE!"},"2030-05-01",{"$error":"#VALUE!"},{"$error":"#VALUE!"},{"$f":"0","v":0},{"$error":"#VALUE!"}]
[null,{"$error":"#VALUE!"},"2030-06-01",{"$error":"#VALUE!"},{"$error":"#VALUE!"},{"$f":"IF(AND(Calculator!$D$6=\"Active\",MONTH(C153)=7,D153<12),ROUND(E153*0.015*(D153/12),2),IF(AND(MONTH(C153)=7,OR(Calculator!$D$6=\"Retired\",D153>=12)),ROUND(E153*0.015,2),0))","v":{"$error":"#VALUE!"}},{"$error":"#VALUE!"},null,{"$error":"#VALUE!"},"2030-06-01",{"$error":"#VALUE!"},{"$error":"#VALUE!"},{"$error":"#VALUE!"},{"$error":"#VALUE!"},null,{"$error":"#VALUE!"},"2030-06-01",{"$error":"#VALUE!"},{"$error":"#VALUE!"},{"$f":"0","v":0},{"$error":"#VALUE!"}]
[null,{"$error":"#VALUE!"},"2030-07-01",{"$error":"#VALUE!"},{"$error":"#VALUE!"},{"$f":"IF(AND(Calculator!$D$6=\"Active\",MONTH(C154)=7,D154<12),ROUND(E154*0.015*(D154/12),2),IF(AND(MONTH(C154)=7,OR(Calculator!$D$6=\"Retired\",D154>=12)),ROUND(E154*0.015,2),0))","v":{"$error":"#VALUE!"}},{"$error":"#VALUE!"},null,{"$error":"#VALUE!"},"2030-07-01",{"$error":"#VALUE!"},{"$error":"#VALUE!"},{"$error":"#VALUE!"},{"$error":"#VALUE!"},null,{"$error":"#VALUE!"},"2030-07-01",{"$error":"#VALUE!"},{"$error":"#VALUE!"},{"$f":"0","v":0},{"$error":"#VALUE!"}]
[null,{"$error":"#VALUE!"},"2030-08-01",{"$error":"#VALUE!"},{"$error":"#VALUE!"},{"$f":"IF(AND(Calculator!$D$6=\"Active\",MONTH(C155)=7,D155<12),ROUND(E155*0.015*(D155/12),2),IF(AND(MONTH(C155)=7,OR(Calculator!$D$6=\"Retired\",D155>=12)),ROUND(E155*0.015,2),0))","v":{"$error":"#VALUE!"}},{"$error":"#VALUE!"},null,{"$error":"#VALUE!"},"2030-08-01",{"$error":"#VALUE!"},{"$error":"#VALUE!"},{"$error":"#VALUE!"},{"$error":"#VALUE!"},null,{"$error":"#VALUE!"},"2030-08-01",{"$error":"#VALUE!"},{"$error":"#VALUE!"},{"$f":"0","v":0},{"$error":"#VALUE!"}]
[null,{"$error":"#VALUE!"},"2030-09-01",{"$error":"#VALUE!"},{"$error":"#VALUE!"},{"$f":"IF(AND(Calculator!$D$6=\"Active\",MONTH(C156)=7,D156<12),ROUND(E156*0.015*(D156/12),2),IF(AND(MONTH(C156)=7,OR(Calculator!$D$6=\"Retired\",D156>=12)),ROUND(E156*0.015,2),0))","v":{"$error":"#VALUE!"}},{"$error":"#VALUE!"},null,{"$error":"#VALUE!"},"2030-09-01",{"$error":"#VALUE!"},{"$error":"#VALUE!"},{"$error":"#VALUE!"},{"$error":"#VALUE!"},null,{"$error":"#VALUE!"},"2030-09-01",{"$error":"#VALUE!"},{"$error":"#VALUE!"},{"$f":"0","v":0},{"$error":"#VALUE!"}]
[null,{"$error":"#VALUE!"},"2030-10-01",{"$error":"#VALUE!"},{"$error":"#VALUE!"},{"$f":"IF(AND(Calculator!$D$6=\"Active\",MONTH(C157)=7,D157<12),ROUND(E157*0.015*(D157/12),2),IF(AND(MONTH(C157)=7,OR(Calculator!$D$6=\"Retired\",D157>=12)),ROUND(E157*0.015,2),0))","v":{"$error":"#VALUE!"}},{"$error":"#VALUE!"},null,{"$error":"#VALUE!"},"2030-10-01",{"$error":"#VALUE!"},{"$error":"#VALUE!"},{"$error":"#VALUE!"},{"$error":"#VALUE!"},null,{"$error":"#VALUE!"},"2030-10-01",{"$error":"#VALUE!"},{"$error":"#VALUE!"},{"$f":"0","v":0},{"$error":"#VALUE!"}]
[null,{"$error":"#VALUE!"},"2030-11-01",{"$error":"#VALUE!"},{"$error":"#VALUE!"},{"$f":"IF(AND(Calculator!$D$6=\"Active\",MONTH(C158)=7,D158<12),ROUND(E158*0.015*(D158/12),2),IF(AND(MONTH(C158)=7,OR(Calculator!$D$6=\"Retired\",D158>=12)),ROUND(E158*0.015,2),0))","v":{"$error":"#VALUE!"}},{"$error":"#VALUE!"},null,{"$error":"#VALUE!"},"2030-11-01",{"$error":"#VALUE!"},{"$error":"#VALUE!"},{"$error":"#VALUE!"},{"$error":"#VALUE!"},null,{"$error":"#VALUE!"},"2030-11-01",{"$error":"#VALUE!"},{"$error":"#VALUE!"},{"$f":"0","v":0},{"$error":"#VALUE!"}]
[null,{"$error":"#VALUE!"},"2030-12-01",{"$error":"#VALUE!"},{"$error":"#VALUE!"},{"$f":"IF(AND(Calculator!$D$6=\"Active\",MONTH(C159)=7,D159<12),ROUND(E159*0.015*(D159/12),2),IF(AND(MONTH(C159)=7,OR(Calculator!$D$6=\"Retired\",D159>=12)),ROUND(E159*0.015,2),0))","v":{"$error":"#VALUE!"}},{"$error":"#VALUE!"},null,{"$error":"#VALUE!"},"2030-12-01",{"$error":"#VALUE!"},{"$error":"#VALUE!"},{"$error":"#VALUE!"},{"$error":"#VALUE!"},null,{"$error":"#VALUE!"},"2030-12-01",{"$error":"#VALUE!"},{"$error":"#VALUE!"},{"$f":"0","v":0},{"$error":"#VALUE!"}]
[null,{"$error":"#VALUE!"},"2031-01-01",{"$error":"#VALUE!"},{"$error":"#VALUE!"},{"$f":"IF(AND(Calculator!$D$6=\"Active\",MONTH(C160)=7,D160<12),ROUND(E160*0.015*(D160/12),2),IF(AND(MONTH(C160)=7,OR(Calculator!$D$6=\"Retired\",D160>=12)),ROUND(E160*0.015,2),0))","v":{"$error":"#VALUE!"}},{"$error":"#VALUE!"},null,{"$error":"#VALUE!"},"2031-01-01",{"$error":"#VALUE!"},{"$error":"#VALUE!"},{"$error":"#VALUE!"},{"$error":"#VALUE!"},null,{"$error":"#VALUE!"},"2031-01-01",{"$error":"#VALUE!"},{"$error":"#VALUE!"},{"$f":"0","v":0},{"$error":"#VALUE!"}]
[null,{"$error":"#VALUE!"},"2031-02-01",{"$error":"#VALUE!"},{"$error":"#VALUE!"},{"$f":"IF(AND(Calculator!$D$6=\"Active\",MONTH(C161)=7,D161<12),ROUND(E161*0.015*(D161/12),2),IF(AND(MONTH(C161)=7,OR(Calculator!$D$6=\"Retired\",D161>=12)),ROUND(E161*0.015,2),0))","v":{"$error":"#VALUE!"}},{"$error":"#VALUE!"},null,{"$error":"#VALUE!"},"2031-02-01",{"$error":"#VALUE!"},{"$error":"#VALUE!"},{"$error":"#VALUE!"},{"$error":"#VALUE!"},null,{"$error":"#VALUE!"},"2031-02-01",{"$error":"#VALUE!"},{"$error":"#VALUE!"},{"$f":"0","v":0},{"$error":"#VALUE!"}]
[null,{"$error":"#VALUE!"},"2031-03-01",{"$error":"#VALUE!"},{"$error":"#VALUE!"},{"$f":"IF(AND(Calculator!$D$6=\"Active\",MONTH(C162)=7,D162<12),ROUND(E162*0.015*(D162/12),2),IF(AND(MONTH(C162)=7,OR(Calculator!$D$6=\"Retired\",D162>=12)),ROUND(E162*0.015,2),0))","v":{"$error":"#VALUE!"}},{"$error":"#VALUE!"},null,{"$error":"#VALUE!"},"2031-03-01",{"$error":"#VALUE!"},{"$error":"#VALUE!"},{"$error":"#VALUE!"},{"$error":"#VALUE!"},null,{"$error":"#VALUE!"},"2031-03-01",{"$error":"#VALUE!"},{"$error":"#VALUE!"},{"$f":"0","v":0},{"$error":"#VALUE!"}]
[null,{"$error":"#VALUE!"},"2031-04-01",{"$error":"#VALUE!"},{"$error":"#VALUE!"},{"$f":"IF(AND(Calculator!$D$6=\"Active\",MONTH(C163)=7,D163<12),ROUND(E163*0.015*(D163/12),2),IF(AND(MONTH(C163)=7,OR(Calculator!$D$6=\"Retired\",D163>=12)),ROUND(E163*0.015,2),0))","v":{"$error":"#VALUE!"}},{"$error":"#VALUE!"},null,{"$error":"#VALUE!"},"2031-04-01",{"$error":"#VALUE!"},{"$error":"#VALUE!"},{"$error":"#VALUE!"},{"$error":"#VALUE!"},null,{"$error":"#VALUE!"},"2031-04-01",{"$error":"#VALUE!"},{"$error":"#VALUE!"},{"$f":"0","v":0},{"$error":"#VALUE!"}]
[null,{"$error":"#VALUE!"},"2031-05-01",{"$error":"#VALUE!"},{"$error":"#VALUE!"},{"$f":"IF(AND(Calculator!$D$6=\"Active\",MONTH(C164)=7,D164<12),ROUND(E164*0.015*(D164/12),2),IF(AND(MONTH(C164)=7,OR(Calculator!$D$6=\"Retired\",D164>=12)),ROUND(E164*0.015,2),0))","v":{"$error":"#VALUE!"}},{"$error":"#VALUE!"},null,{"$error":"#VALUE!"},"2031-05-01",{"$error":"#VALUE!"},{"$error":"#VALUE!"},{"$error":"#VALUE!"},{"$error":"#VALUE!"},null,{"$error":"#VALUE!"},"2031-05-01",{"$error":"#VALUE!"},{"$error":"#VALUE!"},{"$f":"0","v":0},{"$error":"#VALUE!"}]
[null,{"$error":"#VALUE!"},"2031-06-01",{"$error":"#VALUE!"},{"$error":"#VALUE!"},{"$f":"IF(AND(Calculator!$D$6=\"Active\",MONTH(C165)=7,D165<12),ROUND(E165*0.015*(D165/12),2),IF(AND(MONTH(C165)=7,OR(Calculator!$D$6=\"Retired\",D165>=12)),ROUND(E165*0.015,2),0))","v":{"$error":"#VALUE!"}},{"$error":"#VALUE!"},null,{"$error":"#VALUE!"},"2031-06-01",{"$error":"#VALUE!"},{"$error":"#VALUE!"},{"$error":"#VALUE!"},{"$error":"#VALUE!"},null,{"$error":"#VALUE!"},"2031-06-01",{"$error":"#VALUE!"},{"$error":"#VALUE!"},{"$f":"0","v":0},{"$error":"#VALUE!"}]
[null,{"$error":"#VALUE!"},"2031-07-01",{"$error":"#VALUE!"},{"$error":"#VALUE!"},{"$f":"IF(AND(Calculator!$D$6=\"Active\",MONTH(C166)=7,D166<12),ROUND(E166*0.015*(D166/12),2),IF(AND(MONTH(C166)=7,OR(Calculator!$D$6=\"Retired\",D166>=12)),ROUND(E166*0.015,2),0))","v":{"$error":"#VALUE!"}},{"$error":"#VALUE!"},null,{"$error":"#VALUE!"},"2031-07-01",{"$error":"#VALUE!"},{"$error":"#VALUE!"},{"$error":"#VALUE!"},{"$error":"#VALUE!"},null,{"$error":"#VALUE!"},"2031-07-01",{"$error":"#VALUE!"},{"$error":"#VALUE!"},{"$f":"0","v":0},{"$error":"#VALUE!"}]
[null,{"$error":"#VALUE!"},"2031-08-01",{"$error":"#VALUE!"},{"$error":"#VALUE!"},{"$f":"IF(AND(Calculator!$D$6=\"Active\",MONTH(C167)=7,D167<12),ROUND(E167*0.015*(D167/12),2),IF(AND(MONTH(C167)=7,OR(Calculator!$D$6=\"Retired\",D167>=12)),ROUND(E167*0.015,2),0))","v":{"$error":"#VALUE!"}},{"$error":"#VALUE!"},null,{"$error":"#VALUE!"},"2031-08-01",{"$error":"#VALUE!"},{"$error":"#VALUE!"},{"$error":"#VALUE!"},{"$error":"#VALUE!"},null,{"$error":"#VALUE!"},"2031-08-01",{"$error":"#VALUE!"},{"$error":"#VALUE!"},{"$f":"0","v":0},{"$error":"#VALUE!"}]
[null,{"$error":"#VALUE!"},"2031-09-01",{"$error":"#VALUE!"},{"$error":"#VALUE!"},{"$f":"IF(AND(Calculator!$D$6=\"Active\",MONTH(C168)=7,D168<12),ROUND(E168*0.015*(D168/12),2),IF(AND(MONTH(C168)=7,OR(Calculator!$D$6=\"Retired\",D168>=12)),ROUND(E168*0.015,2),0))","v":{"$error":"#VALUE!"}},{"$error":"#VALUE!"},null,{"$error":"#VALUE!"},"2031-09-01",{"$error":"#VALUE!"},{"$error":"#VALUE!"},{"$error":"#VALUE!"},{"$error":"#VALUE!"},null,{"$error":"#VALUE!"},"2031-09-01",{"$error":"#VALUE!"},{"$error":"#VALUE!"},{"$f":"0","v":0},{"$error":"#VALUE!"}]
[null,{"$error":"#VALUE!"},"2031-10-01",{"$error":"#VALUE!"},{"$error":"#VALUE!"},{"$f":"IF(AND(Calculator!$D$6=\"Active\",MONTH(C169)=7,D169<12),ROUND(E169*0.015*(D169/12),2),IF(AND(MONTH(C169)=7,OR(Calculator!$D$6=\"Retired\",D169>=12)),ROUND(E169*0.015,2),0))","v":{"$error":"#VALUE!"}},{"$error":"#VALUE!"},null,{"$error":"#VALUE!"},"2031-10-01",{"$error":"#VALUE!"},{"$error":"#VALUE!"},{"$error":"#VALUE!"},{"$error":"#VALUE!"},null,{"$error":"#VALUE!"},"2031-10-01",{"$error":"#VALUE!"},{"$error":"#VALUE!"},{"$f":"0","v":0},{"$error":"#VALUE!"}]
[null,{"$error":"#VALUE!"},"2031-11-01",{"$error":"#VALUE!"},{"$error":"#VALUE!"},{"$f":"IF(AND(Calculator!$D$6=\"Active\",MONTH(C170)=7,D170<12),ROUND(E170*0.015*(D170/12),2),IF(AND(MONTH(C170)=7,OR(Calculator!$D$6=\"Retired\",D170>=12)),ROUND(E170*0.015,2),0))","v":{"$error":"#VALUE!"}},{"$error":"#VALUE!"},null,{"$error":"#VALUE!"},"2031-11-01",{"$error":"#VALUE!"},{"$error":"#VALUE!"},{"$error":"#VALUE!"},{"$error":"#VALUE!"},null,{"$error":"#VALUE!"},"2031-11-01",{"$error":"#VALUE!"},{"$error":"#VALUE!"},{"$f":"0","v":0},{"$error":"#VALUE!"}]
[null,{"$error":"#VALUE!"},"2031-12-01",{"$error":"#VALUE!"},{"$error":"#VALUE!"},{"$f":"IF(AND(Calculator!$D$6=\"Active\",MONTH(C171)=7,D171<12),ROUND(E171*0.015*(D171/12),2),IF(AND(MONTH(C171)=7,OR(Calculator!$D$6=\"Retired\",D171>=12)),ROUND(E171*0.015,2),0))","v":{"$error":"#VALUE!"}},{"$error":"#VALUE!"},null,{"$error":"#VALUE!"},"2031-12-01",{"$error":"#VALUE!"},{"$error":"#VALUE!"},{"$error":"#VALUE!"},{"$error":"#VALUE!"},null,{"$error":"#VALUE!"},"2031-12-01",{"$error":"#VALUE!"},{"$error":"#VALUE!"},{"$f":"0","v":0},{"$error":"#VALUE!"}]
[null,{"$error":"#VALUE!"},"2032-01-01",{"$error":"#VALUE!"},{"$error":"#VALUE!"},{"$f":"IF(AND(Calculator!$D$6=\"Active\",MONTH(C172)=7,D172<12),ROUND(E172*0.015*(D172/12),2),IF(AND(MONTH(C172)=7,OR(Calculator!$D$6=\"Retired\",D172>=12)),ROUND(E172*0.015,2),0))","v":{"$error":"#VALUE!"}},{"$error":"#VALUE!"},null,{"$error":"#VALUE!"},"2032-01-01",{"$error":"#VALUE!"},{"$error":"#VALUE!"},{"$error":"#VALUE!"},{"$error":"#VALUE!"},null,{"$error":"#VALUE!"},"2032-01-01",{"$error":"#VALUE!"},{"$error":"#VALUE!"},{"$f":"0","v":0},{"$error":"#VALUE!"}]
[null,{"$error":"#VALUE!"},"2032-02-01",{"$error":"#VALUE!"},{"$error":"#VALUE!"},{"$f":"IF(AND(Calculator!$D$6=\"Active\",MONTH(C173)=7,D173<12),ROUND(E173*0.015*(D173/12),2),IF(AND(MONTH(C173)=7,OR(Calculator!$D$6=\"Retired\",D173>=12)),ROUND(E173*0.015,2),0))","v":{"$error":"#VALUE!"}},{"$error":"#VALUE!"},null,{"$error":"#VALUE!"},"2032-02-01",{"$error":"#VALUE!"},{"$error":"#VALUE!"},{"$error":"#VALUE!"},{"$error":"#VALUE!"},null,{"$error":"#VALUE!"},"2032-02-01",{"$error":"#VALUE!"},{"$error":"#VALUE!"},{"$f":"0","v":0},{"$error":"#VALUE!"}]
[null,{"$error":"#VALUE!"},"2032-03-01",{"$error":"#VALUE!"},{"$error":"#VALUE!"},{"$f":"IF(AND(Calculator!$D$6=\"Active\",MONTH(C174)=7,D174<12),ROUND(E174*0.015*(D174/12),2),IF(AND(MONTH(C174)=7,OR(Calculator!$D$6=\"Retired\",D174>=12)),ROUND(E174*0.015,2),0))","v":{"$error":"#VALUE!"}},{"$error":"#VALUE!"},null,{"$error":"#VALUE!"},"2032-03-01",{"$error":"#VALUE!"},{"$error":"#VALUE!"},{"$error":"#VALUE!"},{"$error":"#VALUE!"},null,{"$error":"#VALUE!"},"2032-03-01",{"$error":"#VALUE!"},{"$error":"#VALUE!"},{"$f":"0","v":0},{"$error":"#VALUE!"}]
[null,{"$error":"#VALUE!"},"2032-04-01",{"$error":"#VALUE!"},{"$error":"#VALUE!"},{"$f":"IF(AND(Calculator!$D$6=\"Active\",MONTH(C175)=7,D175<12),ROUND(E175*0.015*(D175/12),2),IF(AND(MONTH(C175)=7,OR(Calculator!$D$6=\"Retired\",D175>=12)),ROUND(E175*0.015,2),0))","v":{"$error":"#VALUE!"}},{"$error":"#VALUE!"},null,{"$error":"#VALUE!"},"2032-04-01",{"$error":"#VALUE!"},{"$error":"#VALUE!"},{"$error":"#VALUE!"},{"$error":"#VALUE!"},null,{"$error":"#VALUE!"},"2032-04-01",{"$error":"#VALUE!"},{"$error":"#VALUE!"},{"$f":"0","v":0},{"$error":"#VALUE!"}]
[null,{"$error":"#VALUE!"},"2032-05-01",{"$error":"#VALUE!"},{"$error":"#VALUE!"},{"$f":"IF(AND(Calculator!$D$6=\"Active\",MONTH(C176)=7,D176<12),ROUND(E176*0.015*(D176/12),2),IF(AND(MONTH(C176)=7,OR(Calculator!$D$6=\"Retired\",D176>=12)),ROUND(E176*0.015,2),0))","v":{"$error":"#VALUE!"}},{"$error":"#VALUE!"},null,{"$error":"#VALUE!"},"2032-05-01",{"$error":"#VALUE!"},{"$error":"#VALUE!"},{"$error":"#VALUE!"},{"$error":"#VALUE!"},null,{"$error":"#VALUE!"},"2032-05-01",{"$error":"#VALUE!"},{"$error":"#VALUE!"},{"$f":"0","v":0},{"$error":"#VALUE!"}]
[null,{"$error":"#VALUE!"},"2032-06-01",{"$error":"#VALUE!"},{"$error":"#VALUE!"},{"$f":"IF(AND(Calculator!$D$6=\"Active\",MONTH(C177)=7,D177<12),ROUND(E177*0.015*(D177/12),2),IF(AND(MONTH(C177)=7,OR(Calculator!$D$6=\"Retired\",D177>=12)),ROUND(E177*0.015,2),0))","v":{"$error":"#VALUE!"}},{"$error":"#VALUE!"},null,{"$error":"#VALUE!"},"2032-06-01",{"$error":"#VALUE!"},{"$error":"#VALUE!"},{"$error":"#VALUE!"},{"$error":"#VALUE!"},null,{"$error":"#VALUE!"},"2032-06-01",{"$error":"#VALUE!"},{"$error":"#VALUE!"},{"$f":"0","v":0},{"$error":"#VALUE!"}]
[null,{"$error":"#VALUE!"},"2032-07-01",{"$error":"#VALUE!"},{"$error":"#VALUE!"},{"$f":"IF(AND(Calculator!$D$6=\"Active\",MONTH(C178)=7,D178<12),ROUND(E178*0.015*(D178/12),2),IF(AND(MONTH(C178)=7,OR(Calculator!$D$6=\"Retired\",D178>=12)),ROUND(E178*0.015,2),0))","v":{"$error":"#VALUE!"}},{"$error":"#VALUE!"},null,{"$error":"#VALUE!"},"2032-07-01",{"$error":"#VALUE!"},{"$error":"#VALUE!"},{"$error":"#VALUE!"},{"$error":"#VALUE!"},null,{"$error":"#VALUE!"},"2032-07-01",{"$error":"#VALUE!"},{"$error":"#VALUE!"},{"$f":"0","v":0},{"$error":"#VALUE!"}]
[null,{"$error":"#VALUE!"},"2032-08-01",{"$error":"#VALUE!"},{"$error":"#VALUE!"},{"$f":"IF(AND(Calculator!$D$6=\"Active\",MONTH(C179)=7,D179<12),ROUND(E179*0.015*(D179/12),2),IF(AND(MONTH(C179)=7,OR(Calculator!$D$6=\"Retired\",D179>=12)),ROUND(E179*0.015,2),0))","v":{"$error":"#VALUE!"}},{"$error":"#VALUE!"},null,{"$error":"#VALUE!"},"2032-08-01",{"$error":"#VALUE!"},{"$error":"#VALUE!"},{"$error":"#VALUE!"},{"$error":"#VALUE!"},null,{"$error":"#VALUE!"},"2032-08-01",{"$error":"#VALUE!"},{"$error":"#VALUE!"},{"$f":"0","v":0},{"$error":"#VALUE!"}]
[null,{"$error":"#VALUE!"},"2032-09-01",{"$error":"#VALUE!"},{"$error":"#VALUE!"},{"$f":"IF(AND(Calculator!$D$6=\"Active\",MONTH(C180)=7,D180<12),ROUND(E180*0.015*(D180/12),2),IF(AND(MONTH(C180)=7,OR(Calculator!$D$6=\"Retired\",D180>=12)),ROUND(E180*0.015,2),0))","v":{"$error":"#VALUE!"}},{"$error":"#VALUE!"},null,{"$error":"#VALUE!"},"2032-09-01",{"$error":"#VALUE!"},{"$error":"#VALUE!"},{"$error":"#VALUE!"},{"$error":"#VALUE!"},null,{"$error":"#VALUE!"},"2032-09-01",{"$error":"#VALUE!"},{"$error":"#VALUE!"},{"$f":"0","v":0},{"$error":"#VALUE!"}]
[null,{"$error":"#VALUE!"},"2032-10-01",{"$error":"#VALUE!"},{"$error":"#VALUE!"},{"$f":"IF(AND(Calculator!$D$6=\"Active\",MONTH(C181)=7,D181<12),ROUND(E181*0.015*(D181/12),2),IF(AND(MONTH(C181)=7,OR(Calculator!$D$6=\"Retired\",D181>=12)),ROUND(E181*0.015,2),0))","v":{"$error":"#VALUE!"}},{"$error":"#VALUE!"},null,{"$error":"#VALUE!"},"2032-10-01",{"$error":"#VALUE!"},{"$error":"#VALUE!"},{"$error":"#VALUE!"},{"$error":"#VALUE!"},null,{"$error":"#VALUE!"},"2032-10-01",{"$error":"#VALUE!"},{"$error":"#VALUE!"},{"$f":"0","v":0},{"$error":"#VALUE!"}]
[null,{"$error":"#VALUE!"},"2032-11-01",{"$error":"#VALUE!"},{"$error":"#VALUE!"},{"$f":"IF(AND(Calculator!$D$6=\"Active\",MONTH(C182)=7,D182<12),ROUND(E182*0.015*(D182/12),2),IF(AND(MONTH(C182)=7,OR(Calculator!$D$6=\"Retired\",D182>=12)),ROUND(E182*0.015,2),0))","v":{"$error":"#VALUE!"}},{"$error":"#VALUE!"},null,{"$error":"#VALUE!"},"2032-11-01",{"$error":"#VALUE!"},{"$error":"#VALUE!"},{"$error":"#VALUE!"},{"$error":"#VALUE!"},null,{"$error":"#VALUE!"},"2032-11-01",{"$error":"#VALUE!"},{"$error":"#VALUE!"},{"$f":"0","v":0},{"$error":"#VALUE!"}]
[null,{"$error":"#VALUE!"},"2032-12-01",{"$error":"#VALUE!"},{"$error":"#VALUE!"},{"$f":"IF(AND(Calculator!$D$6=\"Active\",MONTH(C183)=7,D183<12),ROUND(E183*0.015*(D183/12),2),IF(AND(MONTH(C183)=7,OR(Calculator!$D$6=\"Retired\",D183>=12)),ROUND(E183*0.015,2),0))","v":{"$error":"#VALUE!"}},{"$error":"#VALUE!"},null,{"$error":"#VALUE!"},"2032-12-01",{"$error":"#VALUE!"},{"$error":"#VALUE!"},{"$error":"#VALUE!"},{"$error":"#VALUE!"},null,{"$error":"#VALUE!"},"2032-12-01",{"$error":"#VALUE!"},{"$error":"#VALUE!"},{"$f":"0","v":0},{"$error":"#VALUE!"}]
[null,{"$error":"#VALUE!"},"2033-01-01",{"$error":"#VALUE!"},{"$error":"#VALUE!"},{"$f":"IF(AND(Calculator!$D$6=\"Active\",MONTH(C184)=7,D184<12),ROUND(E184*0.015*(D184/12),2),IF(AND(MONTH(C184)=7,OR(Calculator!$D$6=\"Retired\",D184>=12)),ROUND(E184*0.015,2),0))","v":{"$error":"#VALUE!"}},{"$error":"#VALUE!"},null,{"$error":"#VALUE!"},"2033-01-01",{"$error":"#VALUE!"},{"$error":"#VALUE!"},{"$error":"#VALUE!"},{"$error":"#VALUE!"},null,{"$error":"#VALUE!"},"2033-01-01",{"$error":"#VALUE!"},{"$error":"#VALUE!"},{"$f":"0","v":0},{"$error":"#VALUE!"}]
[null,{"$error":"#VALUE!"},"2033-02-01",{"$error":"#VALUE!"},{"$error":"#VALUE!"},{"$f":"IF(AND(Calculator!$D$6=\"Active\",MONTH(C185)=7,D185<12),ROUND(E185*0.015*(D185/12),2),IF(AND(MONTH(C185)=7,OR(Calculator!$D$6=\"Retired\",D185>=12)),ROUND(E185*0.015,2),0))","v":{"$error":"#VALUE!"}},{"$error":"#VALUE!"},null,{"$error":"#VALUE!"},"2033-02-01",{"$error":"#VALUE!"},{"$error":"#VALUE!"},{"$error":"#VALUE!"},{"$error":"#VALUE!"},null,{"$error":"#VALUE!"},"2033-02-01",{"$error":"#VALUE!"},{"$error":"#VALUE!"},{"$f":"0","v":0},{"$error":"#VALUE!"}]
[null,{"$error":"#VALUE!"},"2033-03-01",{"$error":"#VALUE!"},{"$error":"#VALUE!"},{"$f":"IF(AND(Calculator!$D$6=\"Active\",MONTH(C186)=7,D186<12),ROUND(E186*0.015*(D186/12),2),IF(AND(MONTH(C186)=7,OR(Calculator!$D$6=\"Retired\",D186>=12)),ROUND(E186*0.015,2),0))","v":{"$error":"#VALUE!"}},{"$error":"#VALUE!"},null,{"$error":"#VALUE!"},"2033-03-01",{"$error":"#VALUE!"},{"$error":"#VALUE!"},{"$error":"#VALUE!"},{"$error":"#VALUE!"},null,{"$error":"#VALUE!"},"2033-03-01",{"$error":"#VALUE!"},{"$error":"#VALUE!"},{"$f":"0","v":0},{"$error":"#VALUE!"}]
[null,{"$error":"#VALUE!"},"2033-04-01",{"$error":"#VALUE!"},{"$error":"#VALUE!"},{"$f":"IF(AND(Calculator!$D$6=\"Active\",MONTH(C187)=7,D187<12),ROUND(E187*0.015*(D187/12),2),IF(AND(MONTH(C187)=7,OR(Calculator!$D$6=\"Retired\",D187>=12)),ROUND(E187*0.015,2),0))","v":{"$error":"#VALUE!"}},{"$error":"#VALUE!"},null,{"$error":"#VALUE!"},"2033-04-01",{"$error":"#VALUE!"},{"$error":"#VALUE!"},{"$error":"#VALUE!"},{"$error":"#VALUE!"},null,{"$error":"#VALUE!"},"2033-04-01",{"$error":"#VALUE!"},{"$error":"#VALUE!"},{"$f":"0","v":0},{"$error":"#VALUE!"}]
[null,{"$error":"#VALUE!"},"2033-05-01",{"$error":"#VALUE!"},{"$error":"#VALUE!"},{"$f":"IF(AND(Calculator!$D$6=\"Active\",MONTH(C188)=7,D188<12),ROUND(E188*0.015*(D188/12),2),IF(AND(MONTH(C188)=7,OR(Calculator!$D$6=\"Retired\",D188>=12)),ROUND(E188*0.015,2),0))","v":{"$error":"#VALUE!"}},{"$error":"#VALUE!"},null,{"$error":"#VALUE!"},"2033-05-01",{"$error":"#VALUE!"},{"$error":"#VALUE!"},{"$error":"#VALUE!"},{"$error":"#VALUE!"},null,{"$error":"#VALUE!"},"2033-05-01",{"$error":"#VALUE!"},{"$error":"#VALUE!"},{"$f":"0","v":0},{"$error":"#VALUE!"}]
[null,{"$error":"#VALUE!"},"2033-06-01",{"$error":"#VALUE!"},{"$error":"#VALUE!"},{"$f":"IF(AND(Calculator!$D$6=\"Active\",MONTH(C189)=7,D189<12),ROUND(E189*0.015*(D189/12),2),IF(AND(MONTH(C189)=7,OR(Calculator!$D$6=\"Retired\",D189>=12)),ROUND(E189*0.015,2),0))","v":{"$error":"#VALUE!"}},{"$error":"#VALUE!"},null,{"$error":"#VALUE!"},"2033-06-01",{"$error":"#VALUE!"},{"$error":"#VALUE!"},{"$error":"#VALUE!"},{"$error":"#VALUE!"},null,{"$error":"#VALUE!"},"2033-06-01",{"$error":"#VALUE!"},{"$error":"#VALUE!"},{"$f":"0","v":0},{"$error":"#VALUE!"}]
[null,{"$error":"#VALUE!"},"2033-07-01",{"$error":"#VALUE!"},{"$error":"#VALUE!"},{"$f":"IF(AND(Calculator!$D$6=\"Active\",MONTH(C190)=7,D190<12),ROUND(E190*0.015*(D190/12),2),IF(AND(MONTH(C190)=7,OR(Calculator!$D$6=\"Retired\",D190>=12)),ROUND(E190*0.015,2),0))","v":{"$error":"#VALUE!"}},{"$error":"#VALUE!"},null,{"$error":"#VALUE!"},"2033-07-01",{"$error":"#VALUE!"},{"$error":"#VALUE!"},{"$error":"#VALUE!"},{"$error":"#VALUE!"},null,{"$error":"#VALUE!"},"2033-07-01",{"$error":"#VALUE!"},{"$error":"#VALUE!"},{"$f":"0","v":0},{"$error":"#VALUE!"}]
[null,{"$error":"#VALUE!"},"2033-08-01",{"$error":"#VALUE!"},{"$error":"#VALUE!"},{"$f":"IF(AND(Calculator!$D$6=\"Active\",MONTH(C191)=7,D191<12),ROUND(E191*0.015*(D191/12),2),IF(AND(MONTH(C191)=7,OR(Calculator!$D$6=\"Retired\",D191>=12)),ROUND(E191*0.015,2),0))","v":{"$error":"#VALUE!"}},{"$error":"#VALUE!"},null,{"$error":"#VALUE!"},"2033-08-01",{"$error":"#VALUE!"},{"$error":"#VALUE!"},{"$error":"#VALUE!"},{"$error":"#VALUE!"},null,{"$error":"#VALUE!"},"2033-08-01",{"$error":"#VALUE!"},{"$error":"#VALUE!"},{"$f":"0","v":0},{"$error":"#VALUE!"}]
[null,{"$error":"#VALUE!"},"2033-09-01",{"$error":"#VALUE!"},{"$error":"#VALUE!"},{"$f":"IF(AND(Calculator!$D$6=\"Active\",MONTH(C192)=7,D192<12),ROUND(E192*0.015*(D192/12),2),IF(AND(MONTH(C192)=7,OR(Calculator!$D$6=\"Retired\",D192>=12)),ROUND(E192*0.015,2),0))","v":{"$error":"#VALUE!"}},{"$error":"#VALUE!"},null,{"$error":"#VALUE!"},"2033-09-01",{"$error":"#VALUE!"},{"$error":"#VALUE!"},{"$f":"IF(AND(MONTH(J192)=7,K192>61),ROUND(L192*0.015,2),0)","v":{"$error":"#VALUE!"}},{"$error":"#VALUE!"},null,{"$error":"#VALUE!"},"2033-09-01",{"$error":"#VALUE!"},{"$error":"#VALUE!"},{"$f":"0","v":0},{"$error":"#VALUE!"}]
[null,{"$error":"#VALUE!"},"2033-10-01",{"$error":"#VALUE!"},{"$error":"#VALUE!"},{"$f":"IF(AND(Calculator!$D$6=\"Active\",MONTH(C193)=7,D193<12),ROUND(E193*0.015*(D193/12),2),IF(AND(MONTH(C193)=7,OR(Calculator!$D$6=\"Retired\",D193>=12)),ROUND(E193*0.015,2),0))","v":{"$error":"#VALUE!"}},{"$error":"#VALUE!"},null,{"$error":"#VALUE!"},"2033-10-01",{"$error":"#VALUE!"},{"$error":"#VALUE!"},{"$error":"#VALUE!"},{"$error":"#VALUE!"},null,{"$error":"#VALUE!"},"2033-10-01",{"$error":"#VALUE!"},{"$error":"#VALUE!"},{"$f":"0","v":0},{"$error":"#VALUE!"}]
[null,{"$error":"#VALUE!"},"2033-11-01",{"$error":"#VALUE!"},{"$error":"#VALUE!"},{"$f":"IF(AND(Calculator!$D$6=\"Active\",MONTH(C194)=7,D194<12),ROUND(E194*0.015*(D194/12),2),IF(AND(MONTH(C194)=7,OR(Calculator!$D$6=\"Retired\",D194>=12)),ROUND(E194*0.015,2),0))","v":{"$error":"#VALUE!"}},{"$error":"#VALUE!"},null,{"$error":"#VALUE!"},"2033-11-01",{"$error":"#VALUE!"},{"$error":"#VALUE!"},{"$error":"#VALUE!"},{"$error":"#VALUE!"},null,{"$error":"#VALUE!"},"2033-11-01",{"$error":"#VALUE!"},{"$error":"#VALUE!"},{"$f":"0","v":0},{"$error":"#VALUE!"}]
[null,{"$error":"#VALUE!"},"2033-12-01",{"$error":"#VALUE!"},{"$error":"#VALUE!"},{"$f":"IF(AND(Calculator!$D$6=\"Active\",MONTH(C195)=7,D195<12),ROUND(E195*0.015*(D195/12),2),IF(AND(MONTH(C195)=7,OR(Calculator!$D$6=\"Retired\",D195>=12)),ROUND(E195*0.015,2),0))","v":{"$error":"#VALUE!"}},{"$error":"#VALUE!"},null,{"$error":"#VALUE!"},"2033-12-01",{"$error":"#VALUE!"},{"$error":"#VALUE!"},{"$error":"#VALUE!"},{"$error":"#VALUE!"},null,{"$error":"#VALUE!"},"2033-12-01",{"$error":"#VALUE!"},{"$error":"#VALUE!"},{"$f":"0","v":0},{"$error":"#VALUE!"}]
[null,{"$f":"IF(MONTH(DoB)=MONTH(C195),B195+1,B195)","v":{"$error":"#VALUE!"}},"2034-01-01",{"$f":"IF(B196>=VLOOKUP(Age_at_Retirement,Life_Expectancy_Table,3,FALSE),\"\",(D195+1))","v":{"$error":"#VALUE!"}},{"$error":"#VALUE!"},{"$f":"IF(AND(Calculator!$D$6=\"Active\",MONTH(C196)=7,D196<12),ROUND(E196*0.015*(D196/12),2),IF(AND(MONTH(C196)=7,OR(Calculator!$D$6=\"Retired\",D196>=12)),ROUND(E196*0.015,2),0))","v":{"$error":"#VALUE!"}},{"$error":"#VALUE!"},null,{"$f":"IF(MONTH(DoB)=MONTH(J195),I195+1,I195)","v":{"$error":"#VALUE!"}},"2034-01-01",{"$f":"IF(I196>=VLOOKUP(Age_at_Retirement,Life_Expectancy_Table,3,FALSE),\"\",(K195+1))","v":{"$error":"#VALUE!"}},{"$error":"#VALUE!"},{"$error":"#VALUE!"},{"$error":"#VALUE!"},null,{"$f":"IF(MONTH(DoB)=MONTH(Q195),P195+1,P195)","v":{"$error":"#VALUE!"}},"2034-01-01",{"$f":"IF(P196>=VLOOKUP(Age_at_Retirement,Life_Expectancy_Table,3,FALSE),\"\",(R195+1))","v":{"$error":"#VALUE!"}},{"$error":"#VALUE!"},{"$f":"0","v":0},{"$error":"#VALUE!"}]
[null,{"$error":"#VALUE!"},"2034-02-01",{"$error":"#VALUE!"},{"$f":"IF(D197=\"\",0,G196)","v":{"$error":"#VALUE!"}},{"$f":"IF(AND(Calculator!$D$6=\"Active\",MONTH(C197)=7,D197<12),ROUND(E197*0.015*(D197/12),2),IF(AND(MONTH(C197)=7,OR(Calculator!$D$6=\"Retired\",D197>=12)),ROUND(E197*0.015,2),0))","v":{"$error":"#VALUE!"}},{"$error":"#VALUE!"},null,{"$error":"#VALUE!"},"2034-02-01",{"$error":"#VALUE!"},{"$f":"IF(K197=\"\",0,N196)","v":{"$error":"#VALUE!"}},{"$error":"#VALUE!"},{"$f":"L197+M197","v":{"$error":"#VALUE!"}},null,{"$error":"#VALUE!"},"2034-02-01",{"$error":"#VALUE!"},{"$f":"IF(R197=\"\",0,U196)","v":{"$error":"#VALUE!"}},{"$f":"0","v":0},{"$f":"S197+T197","v":{"$error":"#VALUE!"}}]
[null,{"$error":"#VALUE!"},"2034-03-01",{"$error":"#VALUE!"},{"$error":"#VALUE!"},{"$f":"IF(AND(Calculator!$D$6=\"Active\",MONTH(C198)=7,D198<12),ROUND(E198*0.015*(D198/12),2),IF(AND(MONTH(C198)=7,OR(Calculator!$D$6=\"Retired\",D198>=12)),ROUND(E198*0.015,2),0))","v":{"$error":"#VALUE!"}},{"$error":"#VALUE!"},null,{"$error":"#VALUE!"},{"$f":"EDATE(J197,1)","v":"2034-03-01"},{"$error":"#VALUE!"},{"$error":"#VALUE!"},{"$error":"#VALUE!"},{"$error":"#VALUE!"},null,{"$error":"#VALUE!"},{"$f":"EDATE(Q197,1)","v":"2034-03-01"},{"$error":"#VALUE!"},{"$error":"#VALUE!"},{"$f":"0","v":0},{"$error":"#VALUE!"}]
[null,{"$error":"#VALUE!"},"2034-04-01",{"$error":"#VALUE!"},{"$error":"#VALUE!"},{"$f":"IF(AND(Calculator!$D$6=\"Active\",MONTH(C199)=7,D199<12),ROUND(E199*0.015*(D199/12),2),IF(AND(MONTH(C199)=7,OR(Calculator!$D$6=\"Retired\",D199>=12)),ROUND(E199*0.015,2),0))","v":{"$error":"#VALUE!"}},{"$error":"#VALUE!"},null,{"$error":"#VALUE!"},"2034-04-01",{"$error":"#VALUE!"},{"$error":"#VALUE!"},{"$error":"#VALUE!"},{"$error":"#VALUE!"},null,{"$error":"#VALUE!"},"2034-04-01",{"$error":"#VALUE!"},{"$error":"#VALUE!"},{"$f":"0","v":0},{"$error":"#VALUE!"}]
[null,{"$error":"#VALUE!"},"2034-05-01",{"$error":"#VALUE!"},{"$error":"#VALUE!"},{"$f":"IF(AND(Calculator!$D$6=\"Active\",MONTH(C200)=7,D200<12),ROUND(E200*0.015*(D200/12),2),IF(AND(MONTH(C200)=7,OR(Calculator!$D$6=\"Retired\",D200>=12)),ROUND(E200*0.015,2),0))","v":{"$error":"#VALUE!"}},{"$error":"#VALUE!"},null,{"$error":"#VALUE!"},"2034-05-01",{"$error":"#VALUE!"},{"$error":"#VALUE!"},{"$error":"#VALUE!"},{"$error":"#VALUE!"},null,{"$error":"#VALUE!"},"2034-05-01",{"$error":"#VALUE!"},{"$error":"#VALUE!"},{"$f":"0","v":0},{"$error":"#VALUE!"}]
[null,{"$error":"#VALUE!"},"2034-06-01",{"$error":"#VALUE!"},{"$error":"#VALUE!"},{"$f":"IF(AND(Calculator!$D$6=\"Active\",MONTH(C201)=7,D201<12),ROUND(E201*0.015*(D201/12),2),IF(AND(MONTH(C201)=7,OR(Calculator!$D$6=\"Retired\",D201>=12)),ROUND(E201*0.015,2),0))","v":{"$error":"#VALUE!"}},{"$error":"#VALUE!"},null,{"$error":"#VALUE!"},"2034-06-01",{"$error":"#VALUE!"},{"$error":"#VALUE!"},{"$error":"#VALUE!"},{"$error":"#VALUE!"},null,{"$error":"#VALUE!"},"2034-06-01",{"$error":"#VALUE!"},{"$error":"#VALUE!"},{"$f":"0","v":0},{"$error":"#VALUE!"}]
[null,{"$error":"#VALUE!"},"2034-07-01",{"$error":"#VALUE!"},{"$error":"#VALUE!"},{"$f":"IF(AND(Calculator!$D$6=\"Active\",MONTH(C202)=7,D202<12),ROUND(E202*0.015*(D202/12),2),IF(AND(MONTH(C202)=7,OR(Calculator!$D$6=\"Retired\",D202>=12)),ROUND(E202*0.015,2),0))","v":{"$error":"#VALUE!"}},{"$error":"#VALUE!"},null,{"$error":"#VALUE!"},"2034-07-01",{"$error":"#VALUE!"},{"$error":"#VALUE!"},{"$error":"#VALUE!"},{"$error":"#VALUE!"},null,{"$error":"#VALUE!"},"2034-07-01",{"$error":"#VALUE!"},{"$error":"#VALUE!"},{"$f":"0","v":0},{"$error":"#VALUE!"}]
[null,{"$error":"#VALUE!"},"2034-08-01",{"$error":"#VALUE!"},{"$error":"#VALUE!"},{"$f":"IF(AND(Calculator!$D$6=\"Active\",MONTH(C203)=7,D203<12),ROUND(E203*0.015*(D203/12),2),IF(AND(MONTH(C203)=7,OR(Calculator!$D$6=\"Retired\",D203>=12)),ROUND(E203*0.015,2),0))","v":{"$error":"#VALUE!"}},{"$error":"#VALUE!"},null,{"$error":"#VALUE!"},"2034-08-01",{"$error":"#VALUE!"},{"$error":"#VALUE!"},{"$error":"#VALUE!"},{"$error":"#VALUE!"},null,{"$error":"#VALUE!"},"2034-08-01",{"$error":"#VALUE!"},{"$error":"#VALUE!"},{"$f":"0","v":0},{"$error":"#VALUE!"}]
[null,{"$error":"#VALUE!"},"2034-09-01",{"$error":"#VALUE!"},{"$error":"#VALUE!"},{"$f":"IF(AND(Calculator!$D$6=\"Active\",MONTH(C204)=7,D204<12),ROUND(E204*0.015*(D204/12),2),IF(AND(MONTH(C204)=7,OR(Calculator!$D$6=\"Retired\",D204>=12)),ROUND(E204*0.015,2),0))","v":{"$error":"#VALUE!"}},{"$error":"#VALUE!"},null,{"$error":"#VALUE!"},"2034-09-01",{"$error":"#VALUE!"},{"$error":"#VALUE!"},{"$error":"#VALUE!"},{"$error":"#VALUE!"},null,{"$error":"#VALUE!"},"2034-09-01",{"$error":"#VALUE!"},{"$error":"#VALUE!"},{"$f":"0","v":0},{"$error":"#VALUE!"}]
[null,{"$error":"#VALUE!"},"2034-10-01",{"$error":"#VALUE!"},{"$error":"#VALUE!"},{"$f":"IF(AND(Calculator!$D$6=\"Active\",MONTH(C205)=7,D205<12),ROUND(E205*0.015*(D205/12),2),IF(AND(MONTH(C205)=7,OR(Calculator!$D$6=\"Retired\",D205>=12)),ROUND(E205*0.015,2),0))","v":{"$error":"#VALUE!"}},{"$error":"#VALUE!"},null,{"$error":"#VALUE!"},"2034-10-01",{"$error":"#VALUE!"},{"$error":"#VALUE!"},{"$error":"#VALUE!"},{"$error":"#VALUE!"},null,{"$error":"#VALUE!"},"2034-10-01",{"$error":"#VALUE!"},{"$error":"#VALUE!"},{"$f":"0","v":0},{"$error":"#VALUE!"}]
[null,{"$error":"#VALUE!"},"2034-11-01",{"$error":"#VALUE!"},{"$error":"#VALUE!"},{"$f":"IF(AND(Calculator!$D$6=\"Active\",MONTH(C206)=7,D206<12),ROUND(E206*0.015*(D206/12),2),IF(AND(MONTH(C206)=7,OR(Calculator!$D$6=\"Retired\",D206>=12)),ROUND(E206*0.015,2),0))","v":{"$error":"#VALUE!"}},{"$error":"#VALUE!"},null,{"$error":"#VALUE!"},"2034-11-01",{"$error":"#VALUE!"},{"$error":"#VALUE!"},{"$error":"#VALUE!"},{"$error":"#VALUE!"},null,{"$error":"#VALUE!"},"2034-11-01",{"$error":"#VALUE!"},{"$error":"#VALUE!"},{"$f":"0","v":0},{"$error":"#VALUE!"}]
[null,{"$error":"#VALUE!"},"2034-12-01",{"$error":"#VALUE!"},{"$error":"#VALUE!"},{"$f":"IF(AND(Calculator!$D$6=\"Active\",MONTH(C207)=7,D207<12),ROUND(E207*0.015*(D207/12),2),IF(AND(MONTH(C207)=7,OR(Calculator!$D$6=\"Retired\",D207>=12)),ROUND(E207*0.015,2),0))","v":{"$error":"#VALUE!"}},{"$error":"#VALUE!"},null,{"$error":"#VALUE!"},"2034-12-01",{"$error":"#VALUE!"},{"$error":"#VALUE!"},{"$error":"#VALUE!"},{"$error":"#VALUE!"},null,{"$error":"#VALUE!"},"2034-12-01",{"$error":"#VALUE!"},{"$error":"#VALUE!"},{"$f":"0","v":0},{"$error":"#VALUE!"}]
[null,{"$error":"#VALUE!"},"2035-01-01",{"$error":"#VALUE!"},{"$error":"#VALUE!"},{"$f":"IF(AND(Calculator!$D$6=\"Active\",MONTH(C208)=7,D208<12),ROUND(E208*0.015*(D208/12),2),IF(AND(MONTH(C208)=7,OR(Calculator!$D$6=\"Retired\",D208>=12)),ROUND(E208*0.015,2),0))","v":{"$error":"#VALUE!"}},{"$error":"#VALUE!"},null,{"$error":"#VALUE!"},"2035-01-01",{"$error":"#VALUE!"},{"$error":"#VALUE!"},{"$error":"#VALUE!"},{"$error":"#VALUE!"},null,{"$error":"#VALUE!"},"2035-01-01",{"$error":"#VALUE!"},{"$error":"#VALUE!"},{"$f":"0","v":0},{"$error":"#VALUE!"}]
[null,{"$error":"#VALUE!"},"2035-02-01",{"$error":"#VALUE!"},{"$error":"#VALUE!"},{"$f":"IF(AND(Calculator!$D$6=\"Active\",MONTH(C209)=7,D209<12),ROUND(E209*0.015*(D209/12),2),IF(AND(MONTH(C209)=7,OR(Calculator!$D$6=\"Retired\",D209>=12)),ROUND(E209*0.015,2),0))","v":{"$error":"#VALUE!"}},{"$error":"#VALUE!"},null,{"$error":"#VALUE!"},"2035-02-01",{"$error":"#VALUE!"},{"$error":"#VALUE!"},{"$error":"#VALUE!"},{"$error":"#VALUE!"},null,{"$error":"#VALUE!"},"2035-02-01",{"$error":"#VALUE!"},{"$error":"#VALUE!"},{"$f":"0","v":0},{"$error":"#VALUE!"}]
[null,{"$error":"#VALUE!"},"2035-03-01",{"$error":"#VALUE!"},{"$error":"#VALUE!"},{"$f":"IF(AND(Calculator!$D$6=\"Active\",MONTH(C210)=7,D210<12),ROUND(E210*0.015*(D210/12),2),IF(AND(MONTH(C210)=7,OR(Calculator!$D$6=\"Retired\",D210>=12)),ROUND(E210*0.015,2),0))","v":{"$error":"#VALUE!"}},{"$error":"#VALUE!"},null,{"$error":"#VALUE!"},"2035-03-01",{"$error":"#VALUE!"},{"$error":"#VALUE!"},{"$error":"#VALUE!"},{"$error":"#VALUE!"},null,{"$error":"#VALUE!"},"2035-03-01",{"$error":"#VALUE!"},{"$error":"#VALUE!"},{"$f":"0","v":0},{"$error":"#VALUE!"}]
[null,{"$error":"#VALUE!"},{"$f":"EDATE(C210,1)","v":"2035-04-01"},{"$error":"#VALUE!"},{"$error":"#VALUE!"},{"$f":"IF(AND(Calculator!$D$6=\"Active\",MONTH(C211)=7,D211<12),ROUND(E211*0.015*(D211/12),2),IF(AND(MONTH(C211)=7,OR(Calculator!$D$6=\"Retired\",D211>=12)),ROUND(E211*0.015,2),0))","v":{"$error":"#VALUE!"}},{"$f":"E211+F211","v":{"$error":"#VALUE!"}},null,{"$error":"#VALUE!"},"2035-04-01",{"$error":"#VALUE!"},{"$error":"#VALUE!"},{"$error":"#VALUE!"},{"$error":"#VALUE!"},null,{"$error":"#VALUE!"},"2035-04-01",{"$error":"#VALUE!"},{"$error":"#VALUE!"},{"$f":"0","v":0},{"$error":"#VALUE!"}]
[null,{"$error":"#VALUE!"},"2035-05-01",{"$error":"#VALUE!"},{"$error":"#VALUE!"},{"$f":"IF(AND(Calculator!$D$6=\"Active\",MONTH(C212)=7,D212<12),ROUND(E212*0.015*(D212/12),2),IF(AND(MONTH(C212)=7,OR(Calculator!$D$6=\"Retired\",D212>=12)),ROUND(E212*0.015,2),0))","v":{"$error":"#VALUE!"}},{"$error":"#VALUE!"},null,{"$error":"#VALUE!"},"2035-05-01",{"$error":"#VALUE!"},{"$error":"#VALUE!"},{"$error":"#VALUE!"},{"$error":"#VALUE!"},null,{"$error":"#VALUE!"},"2035-05-01",{"$error":"#VALUE!"},{"$error":"#VALUE!"},{"$f":"0","v":0},{"$error":"#VALUE!"}]
[null,{"$error":"#VALUE!"},"2035-06-01",{"$error":"#VALUE!"},{"$error":"#VALUE!"},{"$f":"IF(AND(Calculator!$D$6=\"Active\",MONTH(C213)=7,D213<12),ROUND(E213*0.015*(D213/12),2),IF(AND(MONTH(C213)=7,OR(Calculator!$D$6=\"Retired\",D213>=12)),ROUND(E213*0.015,2),0))","v":{"$error":"#VALUE!"}},{"$error":"#VALUE!"},null,{"$error":"#VALUE!"},"2035-06-01",{"$error":"#VALUE!"},{"$error":"#VALUE!"},{"$error":"#VALUE!"},{"$error":"#VALUE!"},null,{"$error":"#VALUE!"},"2035-06-01",{"$error":"#VALUE!"},{"$error":"#VALUE!"},{"$f":"0","v":0},{"$error":"#VALUE!"}]
[null,{"$error":"#VALUE!"},"2035-07-01",{"$error":"#VALUE!"},{"$error":"#VALUE!"},{"$f":"IF(AND(Calculator!$D$6=\"Active\",MONTH(C214)=7,D214<12),ROUND(E214*0.015*(D214/12),2),IF(AND(MONTH(C214)=7,OR(Calculator!$D$6=\"Retired\",D214>=12)),ROUND(E214*0.015,2),0))","v":{"$error":"#VALUE!"}},{"$error":"#VALUE!"},null,{"$error":"#VALUE!"},"2035-07-01",{"$error":"#VALUE!"},{"$error":"#VALUE!"},{"$error":"#VALUE!"},{"$error":"#VALUE!"},null,{"$error":"#VALUE!"},"2035-07-01",{"$error":"#VALUE!"},{"$error":"#VALUE!"},{"$f":"0","v":0},{"$error":"#VALUE!"}]
[null,{"$error":"#VALUE!"},"2035-08-01",{"$error":"#VALUE!"},{"$error":"#VALUE!"},{"$f":"IF(AND(Calculator!$D$6=\"Active\",MONTH(C215)=7,D215<12),ROUND(E215*0.015*(D215/12),2),IF(AND(MONTH(C215)=7,OR(Calculator!$D$6=\"Retired\",D215>=12)),ROUND(E215*0.015,2),0))","v":{"$error":"#VALUE!"}},{"$error":"#VALUE!"},null,{"$error":"#VALUE!"},"2035-08-01",{"$error":"#VALUE!"},{"$error":"#VALUE!"},{"$error":"#VALUE!"},{"$error":"#VALUE!"},null,{"$error":"#VALUE!"},"2035-08-01",{"$error":"#VALUE!"},{"$error":"#VALUE!"},{"$f":"0","v":0},{"$error":"#VALUE!"}]
[null,{"$error":"#VALUE!"},{"$f":"EDATE(C215,1)","v":"2035-09-01"},{"$error":"#VALUE!"},{"$error":"#VALUE!"},{"$f":"IF(AND(Calculator!$D$6=\"Active\",MONTH(C216)=7,D216<12),ROUND(E216*0.015*(D216/12),2),IF(AND(MONTH(C216)=7,OR(Calculator!$D$6=\"Retired\",D216>=12)),ROUND(E216*0.015,2),0))","v":{"$error":"#VALUE!"}},{"$f":"E216+F216","v":{"$error":"#VALUE!"}},null,{"$error":"#VALUE!"},"2035-09-01",{"$error":"#VALUE!"},{"$error":"#VALUE!"},{"$error":"#VALUE!"},{"$error":"#VALUE!"},null,{"$error":"#VALUE!"},"2035-09-01",{"$error":"#VALUE!"},{"$error":"#VALUE!"},{"$f":"0","v":0},{"$error":"#VALUE!"}]
[null,{"$error":"#VALUE!"},"2035-10-01",{"$error":"#VALUE!"},{"$error":"#VALUE!"},{"$f":"IF(AND(Calculator!$D$6=\"Active\",MONTH(C217)=7,D217<12),ROUND(E217*0.015*(D217/12),2),IF(AND(MONTH(C217)=7,OR(Calculator!$D$6=\"Retired\",D217>=12)),ROUND(E217*0.015,2),0))","v":{"$error":"#VALUE!"}},{"$error":"#VALUE!"},null,{"$error":"#VALUE!"},"2035-10-01",{"$error":"#VALUE!"},{"$error":"#VALUE!"},{"$error":"#VALUE!"},{"$error":"#VALUE!"},null,{"$error":"#VALUE!"},"2035-10-01",{"$error":"#VALUE!"},{"$error":"#VALUE!"},{"$f":"0","v":0},{"$error":"#VALUE!"}]
[null,{"$error":"#VALUE!"},"2035-11-01",{"$error":"#VALUE!"},{"$error":"#VALUE!"},{"$f":"IF(AND(Calculator!$D$6=\"Active\",MONTH(C218)=7,D218<12),ROUND(E218*0.015*(D218/12),2),IF(AND(MONTH(C218)=7,OR(Calculator!$D$6=\"Retired\",D218>=12)),ROUND(E218*0.015,2),0))","v":{"$error":"#VALUE!"}},{"$error":"#VALUE!"},null,{"$error":"#VALUE!"},"2035-11-01",{"$error":"#VALUE!"},{"$error":"#VALUE!"},{"$error":"#VALUE!"},{"$error":"#VALUE!"},null,{"$error":"#VALUE!"},"2035-11-01",{"$error":"#VALUE!"},{"$error":"#VALUE!"},{"$f":"0","v":0},{"$error":"#VALUE!"}]
[null,{"$error":"#VALUE!"},"2035-12-01",{"$error":"#VALUE!"},{"$error":"#VALUE!"},{"$f":"IF(AND(Calculator!$D$6=\"Active\",MONTH(C219)=7,D219<12),ROUND(E219*0.015*(D219/12),2),IF(AND(MONTH(C219)=7,OR(Calculator!$D$6=\"Retired\",D219>=12)),ROUND(E219*0.015,2),0))","v":{"$error":"#VALUE!"}},{"$error":"#VALUE!"},null,{"$error":"#VALUE!"},"2035-12-01",{"$error":"#VALUE!"},{"$error":"#VALUE!"},{"$error":"#VALUE!"},{"$error":"#VALUE!"},null,{"$error":"#VALUE!"},"2035-12-01",{"$error":"#VALUE!"},{"$error":"#VALUE!"},{"$f":"0","v":0},{"$error":"#VALUE!"}]
[null,{"$error":"#VALUE!"},"2036-01-01",{"$error":"#VALUE!"},{"$error":"#VALUE!"},{"$f":"IF(AND(Calculator!$D$6=\"Active\",MONTH(C220)=7,D220<12),ROUND(E220*0.015*(D220/12),2),IF(AND(MONTH(C220)=7,OR(Calculator!$D$6=\"Retired\",D220>=12)),ROUND(E220*0.015,2),0))","v":{"$error":"#VALUE!"}},{"$error":"#VALUE!"},null,{"$error":"#VALUE!"},"2036-01-01",{"$error":"#VALUE!"},{"$error":"#VALUE!"},{"$error":"#VALUE!"},{"$error":"#VALUE!"},null,{"$error":"#VALUE!"},"2036-01-01",{"$error":"#VALUE!"},{"$error":"#VALUE!"},{"$f":"0","v":0},{"$error":"#VALUE!"}]
[null,{"$error":"#VALUE!"},"2036-02-01",{"$error":"#VALUE!"},{"$error":"#VALUE!"},{"$f":"IF(AND(Calculator!$D$6=\"Active\",MONTH(C221)=7,D221<12),ROUND(E221*0.015*(D221/12),2),IF(AND(MONTH(C221)=7,OR(Calculator!$D$6=\"Retired\",D221>=12)),ROUND(E221*0.015,2),0))","v":{"$error":"#VALUE!"}},{"$error":"#VALUE!"},null,{"$error":"#VALUE!"},"2036-02-01",{"$error":"#VALUE!"},{"$error":"#VALUE!"},{"$error":"#VALUE!"},{"$error":"#VALUE!"},null,{"$error":"#VALUE!"},"2036-02-01",{"$error":"#VALUE!"},{"$error":"#VALUE!"},{"$f":"0","v":0},{"$error":"#VALUE!"}]
[null,{"$error":"#VALUE!"},"2036-03-01",{"$error":"#VALUE!"},{"$error":"#VALUE!"},{"$f":"IF(AND(Calculator!$D$6=\"Active\",MONTH(C222)=7,D222<12),ROUND(E222*0.015*(D222/12),2),IF(AND(MONTH(C222)=7,OR(Calculator!$D$6=\"Retired\",D222>=12)),ROUND(E222*0.015,2),0))","v":{"$error":"#VALUE!"}},{"$error":"#VALUE!"},null,{"$error":"#VALUE!"},"2036-03-01",{"$error":"#VALUE!"},{"$error":"#VALUE!"},{"$error":"#VALUE!"},{"$error":"#VALUE!"},null,{"$error":"#VALUE!"},"2036-03-01",{"$error":"#VALUE!"},{"$error":"#VALUE!"},{"$f":"0","v":0},{"$error":"#VALUE!"}]
[null,{"$error":"#VALUE!"},"2036-04-01",{"$error":"#VALUE!"},{"$error":"#VALUE!"},{"$f":"IF(AND(Calculator!$D$6=\"Active\",MONTH(C223)=7,D223<12),ROUND(E223*0.015*(D223/12),2),IF(AND(MONTH(C223)=7,OR(Calculator!$D$6=\"Retired\",D223>=12)),ROUND(E223*0.015,2),0))","v":{"$error":"#VALUE!"}},{"$error":"#VALUE!"},null,{"$error":"#VALUE!"},"2036-04-01",{"$error":"#VALUE!"},{"$error":"#VALUE!"},{"$error":"#VALUE!"},{"$error":"#VALUE!"},null,{"$error":"#VALUE!"},"2036-04-01",{"$error":"#VALUE!"},{"$error":"#VALUE!"},{"$f":"0","v":0},{"$error":"#VALUE!"}]
[null,{"$error":"#VALUE!"},"2036-05-01",{"$error":"#VALUE!"},{"$error":"#VALUE!"},{"$f":"IF(AND(Calculator!$D$6=\"Active\",MONTH(C224)=7,D224<12),ROUND(E224*0.015*(D224/12),2),IF(AND(MONTH(C224)=7,OR(Calculator!$D$6=\"Retired\",D224>=12)),ROUND(E224*0.015,2),0))","v":{"$error":"#VALUE!"}},{"$error":"#VALUE!"},null,{"$error":"#VALUE!"},"2036-05-01",{"$error":"#VALUE!"},{"$error":"#VALUE!"},{"$error":"#VALUE!"},{"$error":"#VALUE!"},null,{"$error":"#VALUE!"},"2036-05-01",{"$error":"#VALUE!"},{"$error":"#VALUE!"},{"$f":"0","v":0},{"$error":"#VALUE!"}]
[null,{"$error":"#VALUE!"},"2036-06-01",{"$error":"#VALUE!"},{"$error":"#VALUE!"},{"$f":"IF(AND(Calculator!$D$6=\"Active\",MONTH(C225)=7,D225<12),ROUND(E225*0.015*(D225/12),2),IF(AND(MONTH(C225)=7,OR(Calculator!$D$6=\"Retired\",D225>=12)),ROUND(E225*0.015,2),0))","v":{"$error":"#VALUE!"}},{"$error":"#VALUE!"},null,{"$error":"#VALUE!"},"2036-06-01",{"$error":"#VALUE!"},{"$error":"#VALUE!"},{"$error":"#VALUE!"},{"$error":"#VALUE!"},null,{"$error":"#VALUE!"},"2036-06-01",{"$error":"#VALUE!"},{"$error":"#VALUE!"},{"$f":"0","v":0},{"$error":"#VALUE!"}]
[null,{"$error":"#VALUE!"},"2036-07-01",{"$error":"#VALUE!"},{"$error":"#VALUE!"},{"$f":"IF(AND(Calculator!$D$6=\"Active\",MONTH(C226)=7,D226<12),ROUND(E226*0.015*(D226/12),2),IF(AND(MONTH(C226)=7,OR(Calculator!$D$6=\"Retired\",D226>=12)),ROUND(E226*0.015,2),0))","v":{"$error":"#VALUE!"}},{"$error":"#VALUE!"},null,{"$error":"#VALUE!"},"2036-07-01",{"$error":"#VALUE!"},{"$error":"#VALUE!"},{"$error":"#VALUE!"},{"$error":"#VALUE!"},null,{"$error":"#VALUE!"},"2036-07-01",{"$error":"#VALUE!"},{"$error":"#VALUE!"},{"$f":"0","v":0},{"$error":"#VALUE!"}]
[null,{"$error":"#VALUE!"},"2036-08-01",{"$error":"#VALUE!"},{"$error":"#VALUE!"},{"$f":"IF(AND(Calculator!$D$6=\"Active\",MONTH(C227)=7,D227<12),ROUND(E227*0.015*(D227/12),2),IF(AND(MONTH(C227)=7,OR(Calculator!$D$6=\"Retired\",D227>=12)),ROUND(E227*0.015,2),0))","v":{"$error":"#VALUE!"}},{"$error":"#VALUE!"},null,{"$error":"#VALUE!"},"2036-08-01",{"$error":"#VALUE!"},{"$error":"#VALUE!"},{"$error":"#VALUE!"},{"$error":"#VALUE!"},null,{"$error":"#VALUE!"},"2036-08-01",{"$error":"#VALUE!"},{"$error":"#VALUE!"},{"$f":"0","v":0},{"$error":"#VALUE!"}]
[null,{"$error":"#VALUE!"},"2036-09-01",{"$error":"#VALUE!"},{"$error":"#VALUE!"},{"$f":"IF(AND(Calculator!$D$6=\"Active\",MONTH(C228)=7,D228<12),ROUND(E228*0.015*(D228/12),2),IF(AND(MONTH(C228)=7,OR(Calculator!$D$6=\"Retired\",D228>=12)),ROUND(E228*0.015,2),0))","v":{"$error":"#VALUE!"}},{"$error":"#VALUE!"},null,{"$error":"#VALUE!"},"2036-09-01",{"$error":"#VALUE!"},{"$error":"#VALUE!"},{"$error":"#VALUE!"},{"$error":"#VALUE!"},null,{"$error":"#VALUE!"},"2036-09-01",{"$error":"#VALUE!"},{"$error":"#VALUE!"},{"$f":"0","v":0},{"$error":"#VALUE!"}]
[null,{"$error":"#VALUE!"},"2036-10-01",{"$error":"#VALUE!"},{"$error":"#VALUE!"},{"$f":"IF(AND(Calculator!$D$6=\"Active\",MONTH(C229)=7,D229<12),ROUND(E229*0.015*(D229/12),2),IF(AND(MONTH(C229)=7,OR(Calculator!$D$6=\"Retired\",D229>=12)),ROUND(E229*0.015,2),0))","v":{"$error":"#VALUE!"}},{"$error":"#VALUE!"},null,{"$error":"#VALUE!"},"2036-10-01",{"$error":"#VALUE!"},{"$error":"#VALUE!"},{"$error":"#VALUE!"},{"$error":"#VALUE!"},null,{"$error":"#VALUE!"},"2036-10-01",{"$error":"#VALUE!"},{"$error":"#VALUE!"},{"$f":"0","v":0},{"$error":"#VALUE!"}]
[null,{"$error":"#VALUE!"},"2036-11-01",{"$error":"#VALUE!"},{"$error":"#VALUE!"},{"$f":"IF(AND(Calculator!$D$6=\"Active\",MONTH(C230)=7,D230<12),ROUND(E230*0.015*(D230/12),2),IF(AND(MONTH(C230)=7,OR(Calculator!$D$6=\"Retired\",D230>=12)),ROUND(E230*0.015,2),0))","v":{"$error":"#VALUE!"}},{"$error":"#VALUE!"},null,{"$error":"#VALUE!"},"2036-11-01",{"$error":"#VALUE!"},{"$error":"#VALUE!"},{"$error":"#VALUE!"},{"$error":"#VALUE!"},null,{"$error":"#VALUE!"},"2036-11-01",{"$error":"#VALUE!"},{"$error":"#VALUE!"},{"$f":"0","v":0},{"$error":"#VALUE!"}]
[null,{"$error":"#VALUE!"},"2036-12-01",{"$error":"#VALUE!"},{"$error":"#VALUE!"},{"$f":"IF(AND(Calculator!$D$6=\"Active\",MONTH(C231)=7,D231<12),ROUND(E231*0.015*(D231/12),2),IF(AND(MONTH(C231)=7,OR(Calculator!$D$6=\"Retired\",D231>=12)),ROUND(E231*0.015,2),0))","v":{"$error":"#VALUE!"}},{"$error":"#VALUE!"},null,{"$error":"#VALUE!"},"2036-12-01",{"$error":"#VALUE!"},{"$error":"#VALUE!"},{"$error":"#VALUE!"},{"$error":"#VALUE!"},null,{"$error":"#VALUE!"},"2036-12-01",{"$error":"#VALUE!"},{"$error":"#VALUE!"},{"$f":"0","v":0},{"$error":"#VALUE!"}]
[null,{"$error":"#VALUE!"},"2037-01-01",{"$error":"#VALUE!"},{"$error":"#VALUE!"},{"$f":"IF(AND(Calculator!$D$6=\"Active\",MONTH(C232)=7,D232<12),ROUND(E232*0.015*(D232/12),2),IF(AND(MONTH(C232)=7,OR(Calculator!$D$6=\"Retired\",D232>=12)),ROUND(E232*0.015,2),0))","v":{"$error":"#VALUE!"}},{"$error":"#VALUE!"},null,{"$error":"#VALUE!"},"2037-01-01",{"$error":"#VALUE!"},{"$error":"#VALUE!"},{"$error":"#VALUE!"},{"$error":"#VALUE!"},null,{"$error":"#VALUE!"},"2037-01-01",{"$error":"#VALUE!"},{"$error":"#VALUE!"},{"$f":"0","v":0},{"$error":"#VALUE!"}]
[null,{"$error":"#VALUE!"},"2037-02-01",{"$error":"#VALUE!"},{"$error":"#VALUE!"},{"$f":"IF(AND(Calculator!$D$6=\"Active\",MONTH(C233)=7,D233<12),ROUND(E233*0.015*(D233/12),2),IF(AND(MONTH(C233)=7,OR(Calculator!$D$6=\"Retired\",D233>=12)),ROUND(E233*0.015,2),0))","v":{"$error":"#VALUE!"}},{"$error":"#VALUE!"},null,{"$error":"#VALUE!"},"2037-02-01",{"$error":"#VALUE!"},{"$error":"#VALUE!"},{"$error":"#VALUE!"},{"$error":"#VALUE!"},null,{"$error":"#VALUE!"},"2037-02-01",{"$error":"#VALUE!"},{"$error":"#VALUE!"},{"$f":"0","v":0},{"$error":"#VALUE!"}]
[null,{"$error":"#VALUE!"},"2037-03-01",{"$error":"#VALUE!"},{"$error":"#VALUE!"},{"$f":"IF(AND(Calculator!$D$6=\"Active\",MONTH(C234)=7,D234<12),ROUND(E234*0.015*(D234/12),2),IF(AND(MONTH(C234)=7,OR(Calculator!$D$6=\"Retired\",D234>=12)),ROUND(E234*0.015,2),0))","v":{"$error":"#VALUE!"}},{"$error":"#VALUE!"},null,{"$error":"#VALUE!"},"2037-03-01",{"$error":"#VALUE!"},{"$error":"#VALUE!"},{"$error":"#VALUE!"},{"$error":"#VALUE!"},null,{"$error":"#VALUE!"},"2037-03-01",{"$error":"#VALUE!"},{"$error":"#VALUE!"},{"$f":"0","v":0},{"$error":"#VALUE!"}]
[null,{"$error":"#VALUE!"},"2037-04-01",{"$error":"#VALUE!"},{"$error":"#VALUE!"},{"$f":"IF(AND(Calculator!$D$6=\"Active\",MONTH(C235)=7,D235<12),ROUND(E235*0.015*(D235/12),2),IF(AND(MONTH(C235)=7,OR(Calculator!$D$6=\"Retired\",D235>=12)),ROUND(E235*0.015,2),0))","v":{"$error":"#VALUE!"}},{"$error":"#VALUE!"},null,{"$error":"#VALUE!"},"2037-04-01",{"$error":"#VALUE!"},{"$error":"#VALUE!"},{"$error":"#VALUE!"},{"$error":"#VALUE!"},null,{"$error":"#VALUE!"},"2037-04-01",{"$error":"#VALUE!"},{"$error":"#VALUE!"},{"$f":"0","v":0},{"$error":"#VALUE!"}]
[null,{"$error":"#VALUE!"},"2037-05-01",{"$error":"#VALUE!"},{"$error":"#VALUE!"},{"$f":"IF(AND(Calculator!$D$6=\"Active\",MONTH(C236)=7,D236<12),ROUND(E236*0.015*(D236/12),2),IF(AND(MONTH(C236)=7,OR(Calculator!$D$6=\"Retired\",D236>=12)),ROUND(E236*0.015,2),0))","v":{"$error":"#VALUE!"}},{"$error":"#VALUE!"},null,{"$error":"#VALUE!"},"2037-05-01",{"$error":"#VALUE!"},{"$error":"#VALUE!"},{"$error":"#VALUE!"},{"$error":"#VALUE!"},null,{"$error":"#VALUE!"},"2037-05-01",{"$error":"#VALUE!"},{"$error":"#VALUE!"},{"$f":"0","v":0},{"$error":"#VALUE!"}]
[null,{"$error":"#VALUE!"},"2037-06-01",{"$error":"#VALUE!"},{"$error":"#VALUE!"},{"$f":"IF(AND(Calculator!$D$6=\"Active\",MONTH(C237)=7,D237<12),ROUND(E237*0.015*(D237/12),2),IF(AND(MONTH(C237)=7,OR(Calculator!$D$6=\"Retired\",D237>=12)),ROUND(E237*0.015,2),0))","v":{"$error":"#VALUE!"}},{"$error":"#VALUE!"},null,{"$error":"#VALUE!"},"2037-06-01",{"$error":"#VALUE!"},{"$error":"#VALUE!"},{"$error":"#VALUE!"},{"$error":"#VALUE!"},null,{"$error":"#VALUE!"},"2037-06-01",{"$error":"#VALUE!"},{"$error":"#VALUE!"},{"$f":"0","v":0},{"$error":"#VALUE!"}]
[null,{"$error":"#VALUE!"},"2037-07-01",{"$error":"#VALUE!"},{"$error":"#VALUE!"},{"$f":"IF(AND(Calculator!$D$6=\"Active\",MONTH(C238)=7,D238<12),ROUND(E238*0.015*(D238/12),2),IF(AND(MONTH(C238)=7,OR(Calculator!$D$6=\"Retired\",D238>=12)),ROUND(E238*0.015,2),0))","v":{"$error":"#VALUE!"}},{"$error":"#VALUE!"},null,{"$error":"#VALUE!"},"2037-07-01",{"$error":"#VALUE!"},{"$error":"#VALUE!"},{"$error":"#VALUE!"},{"$error":"#VALUE!"},null,{"$error":"#VALUE!"},"2037-07-01",{"$error":"#VALUE!"},{"$error":"#VALUE!"},{"$f":"0","v":0},{"$error":"#VALUE!"}]
[null,{"$error":"#VALUE!"},"2037-08-01",{"$error":"#VALUE!"},{"$error":"#VALUE!"},{"$f":"IF(AND(Calculator!$D$6=\"Active\",MONTH(C239)=7,D239<12),ROUND(E239*0.015*(D239/12),2),IF(AND(MONTH(C239)=7,OR(Calculator!$D$6=\"Retired\",D239>=12)),ROUND(E239*0.015,2),0))","v":{"$error":"#VALUE!"}},{"$error":"#VALUE!"},null,{"$error":"#VALUE!"},"2037-08-01",{"$error":"#VALUE!"},{"$error":"#VALUE!"},{"$error":"#VALUE!"},{"$error":"#VALUE!"},null,{"$error":"#VALUE!"},"2037-08-01",{"$error":"#VALUE!"},{"$error":"#VALUE!"},{"$f":"0","v":0},{"$error":"#VALUE!"}]
[null,{"$error":"#VALUE!"},"2037-09-01",{"$error":"#VALUE!"},{"$error":"#VALUE!"},{"$f":"IF(AND(Calculator!$D$6=\"Active\",MONTH(C240)=7,D240<12),ROUND(E240*0.015*(D240/12),2),IF(AND(MONTH(C240)=7,OR(Calculator!$D$6=\"Retired\",D240>=12)),ROUND(E240*0.015,2),0))","v":{"$error":"#VALUE!"}},{"$error":"#VALUE!"},null,{"$error":"#VALUE!"},"2037-09-01",{"$error":"#VALUE!"},{"$error":"#VALUE!"},{"$error":"#VALUE!"},{"$error":"#VALUE!"},null,{"$error":"#VALUE!"},"2037-09-01",{"$error":"#VALUE!"},{"$error":"#VALUE!"},{"$f":"0","v":0},{"$error":"#VALUE!"}]
[null,{"$error":"#VALUE!"},"2037-10-01",{"$error":"#VALUE!"},{"$error":"#VALUE!"},{"$f":"IF(AND(Calculator!$D$6=\"Active\",MONTH(C241)=7,D241<12),ROUND(E241*0.015*(D241/12),2),IF(AND(MONTH(C241)=7,OR(Calculator!$D$6=\"Retired\",D241>=12)),ROUND(E241*0.015,2),0))","v":{"$error":"#VALUE!"}},{"$error":"#VALUE!"},null,{"$error":"#VALUE!"},"2037-10-01",{"$error":"#VALUE!"},{"$error":"#VALUE!"},{"$error":"#VALUE!"},{"$error":"#VALUE!"},null,{"$error":"#VALUE!"},"2037-10-01",{"$error":"#VALUE!"},{"$error":"#VALUE!"},{"$f":"0","v":0},{"$error":"#VALUE!"}]
[null,{"$error":"#VALUE!"},"2037-11-01",{"$error":"#VALUE!"},{"$error":"#VALUE!"},{"$f":"IF(AND(Calculator!$D$6=\"Active\",MONTH(C242)=7,D242<12),ROUND(E242*0.015*(D242/12),2),IF(AND(MONTH(C242)=7,OR(Calculator!$D$6=\"Retired\",D242>=12)),ROUND(E242*0.015,2),0))","v":{"$error":"#VALUE!"}},{"$error":"#VALUE!"},null,{"$error":"#VALUE!"},"2037-11-01",{"$error":"#VALUE!"},{"$error":"#VALUE!"},{"$error":"#VALUE!"},{"$error":"#VALUE!"},null,{"$error":"#VALUE!"},"2037-11-01",{"$error":"#VALUE!"},{"$error":"#VALUE!"},{"$f":"0","v":0},{"$error":"#VALUE!"}]
[null,{"$error":"#VALUE!"},"2037-12-01",{"$error":"#VALUE!"},{"$error":"#VALUE!"},{"$f":"IF(AND(Calculator!$D$6=\"Active\",MONTH(C243)=7,D243<12),ROUND(E243*0.015*(D243/12),2),IF(AND(MONTH(C243)=7,OR(Calculator!$D$6=\"Retired\",D243>=12)),ROUND(E243*0.015,2),0))","v":{"$error":"#VALUE!"}},{"$error":"#VALUE!"},null,{"$error":"#VALUE!"},"2037-12-01",{"$error":"#VALUE!"},{"$error":"#VALUE!"},{"$error":"#VALUE!"},{"$error":"#VALUE!"},null,{"$error":"#VALUE!"},"2037-12-01",{"$error":"#VALUE!"},{"$error":"#VALUE!"},{"$f":"0","v":0},{"$error":"#VALUE!"}]
[null,{"$error":"#VALUE!"},"2038-01-01",{"$error":"#VALUE!"},{"$error":"#VALUE!"},{"$f":"IF(AND(Calculator!$D$6=\"Active\",MONTH(C244)=7,D244<12),ROUND(E244*0.015*(D244/12),2),IF(AND(MONTH(C244)=7,OR(Calculator!$D$6=\"Retired\",D244>=12)),ROUND(E244*0.015,2),0))","v":{"$error":"#VALUE!"}},{"$error":"#VALUE!"},null,{"$error":"#VALUE!"},"2038-01-01",{"$error":"#VALUE!"},{"$error":"#VALUE!"},{"$error":"#VALUE!"},{"$error":"#VALUE!"},null,{"$error":"#VALUE!"},"2038-01-01",{"$error":"#VALUE!"},{"$error":"#VALUE!"},{"$f":"0","v":0},{"$error":"#VALUE!"}]
[null,{"$error":"#VALUE!"},"2038-02-01",{"$error":"#VALUE!"},{"$error":"#VALUE!"},{"$f":"IF(AND(Calculator!$D$6=\"Active\",MONTH(C245)=7,D245<12),ROUND(E245*0.015*(D245/12),2),IF(AND(MONTH(C245)=7,OR(Calculator!$D$6=\"Retired\",D245>=12)),ROUND(E245*0.015,2),0))","v":{"$error":"#VALUE!"}},{"$error":"#VALUE!"},null,{"$error":"#VALUE!"},"2038-02-01",{"$error":"#VALUE!"},{"$error":"#VALUE!"},{"$error":"#VALUE!"},{"$error":"#VALUE!"},null,{"$error":"#VALUE!"},"2038-02-01",{"$error":"#VALUE!"},{"$error":"#VALUE!"},{"$f":"0","v":0},{"$error":"#VALUE!"}]
[null,{"$error":"#VALUE!"},"2038-03-01",{"$error":"#VALUE!"},{"$error":"#VALUE!"},{"$f":"IF(AND(Calculator!$D$6=\"Active\",MONTH(C246)=7,D246<12),ROUND(E246*0.015*(D246/12),2),IF(AND(MONTH(C246)=7,OR(Calculator!$D$6=\"Retired\",D246>=12)),ROUND(E246*0.015,2),0))","v":{"$error":"#VALUE!"}},{"$error":"#VALUE!"},null,{"$error":"#VALUE!"},"2038-03-01",{"$error":"#VALUE!"},{"$error":"#VALUE!"},{"$error":"#VALUE!"},{"$error":"#VALUE!"},null,{"$error":"#VALUE!"},"2038-03-01",{"$error":"#VALUE!"},{"$error":"#VALUE!"},{"$f":"0","v":0},{"$error":"#VALUE!"}]
[null,{"$error":"#VALUE!"},"2038-04-01",{"$error":"#VALUE!"},{"$error":"#VALUE!"},{"$f":"IF(AND(Calculator!$D$6=\"Active\",MONTH(C247)=7,D247<12),ROUND(E247*0.015*(D247/12),2),IF(AND(MONTH(C247)=7,OR(Calculator!$D$6=\"Retired\",D247>=12)),ROUND(E247*0.015,2),0))","v":{"$error":"#VALUE!"}},{"$error":"#VALUE!"},null,{"$error":"#VALUE!"},"2038-04-01",{"$error":"#VALUE!"},{"$error":"#VALUE!"},{"$error":"#VALUE!"},{"$error":"#VALUE!"},null,{"$error":"#VALUE!"},"2038-04-01",{"$error":"#VALUE!"},{"$error":"#VALUE!"},{"$f":"0","v":0},{"$error":"#VALUE!"}]
[null,{"$error":"#VALUE!"},"2038-05-01",{"$error":"#VALUE!"},{"$error":"#VALUE!"},{"$f":"IF(AND(Calculator!$D$6=\"Active\",MONTH(C248)=7,D248<12),ROUND(E248*0.015*(D248/12),2),IF(AND(MONTH(C248)=7,OR(Calculator!$D$6=\"Retired\",D248>=12)),ROUND(E248*0.015,2),0))","v":{"$error":"#VALUE!"}},{"$error":"#VALUE!"},null,{"$error":"#VALUE!"},"2038-05-01",{"$error":"#VALUE!"},{"$error":"#VALUE!"},{"$error":"#VALUE!"},{"$error":"#VALUE!"},null,{"$error":"#VALUE!"},"2038-05-01",{"$error":"#VALUE!"},{"$error":"#VALUE!"},{"$f":"0","v":0},{"$error":"#VALUE!"}]
[null,{"$error":"#VALUE!"},"2038-06-01",{"$error":"#VALUE!"},{"$error":"#VALUE!"},{"$f":"IF(AND(Calculator!$D$6=\"Active\",MONTH(C249)=7,D249<12),ROUND(E249*0.015*(D249/12),2),IF(AND(MONTH(C249)=7,OR(Calculator!$D$6=\"Retired\",D249>=12)),ROUND(E249*0.015,2),0))","v":{"$error":"#VALUE!"}},{"$error":"#VALUE!"},null,{"$error":"#VALUE!"},"2038-06-01",{"$error":"#VALUE!"},{"$error":"#VALUE!"},{"$error":"#VALUE!"},{"$error":"#VALUE!"},null,{"$error":"#VALUE!"},"2038-06-01",{"$error":"#VALUE!"},{"$error":"#VALUE!"},{"$f":"0","v":0},{"$error":"#VALUE!"}]
[null,{"$error":"#VALUE!"},"2038-07-01",{"$error":"#VALUE!"},{"$error":"#VALUE!"},{"$f":"IF(AND(Calculator!$D$6=\"Active\",MONTH(C250)=7,D250<12),ROUND(E250*0.015*(D250/12),2),IF(AND(MONTH(C250)=7,OR(Calculator!$D$6=\"Retired\",D250>=12)),ROUND(E250*0.015,2),0))","v":{"$error":"#VALUE!"}},{"$error":"#VALUE!"},null,{"$error":"#VALUE!"},"2038-07-01",{"$error":"#VALUE!"},{"$error":"#VALUE!"},{"$error":"#VALUE!"},{"$error":"#VALUE!"},null,{"$error":"#VALUE!"},"2038-07-01",{"$error":"#VALUE!"},{"$error":"#VALUE!"},{"$f":"0","v":0},{"$error":"#VALUE!"}]
[null,{"$error":"#VALUE!"},"2038-08-01",{"$error":"#VALUE!"},{"$error":"#VALUE!"},{"$f":"IF(AND(Calculator!$D$6=\"Active\",MONTH(C251)=7,D251<12),ROUND(E251*0.015*(D251/12),2),IF(AND(MONTH(C251)=7,OR(Calculator!$D$6=\"Retired\",D251>=12)),ROUND(E251*0.015,2),0))","v":{"$error":"#VALUE!"}},{"$error":"#VALUE!"},null,{"$error":"#VALUE!"},"2038-08-01",{"$error":"#VALUE!"},{"$error":"#VALUE!"},{"$error":"#VALUE!"},{"$error":"#VALUE!"},null,{"$error":"#VALUE!"},"2038-08-01",{"$error":"#VALUE!"},{"$error":"#VALUE!"},{"$f":"0","v":0},{"$error":"#VALUE!"}]
[null,{"$error":"#VALUE!"},"2038-09-01",{"$error":"#VALUE!"},{"$error":"#VALUE!"},{"$f":"IF(AND(Calculator!$D$6=\"Active\",MONTH(C252)=7,D252<12),ROUND(E252*0.015*(D252/12),2),IF(AND(MONTH(C252)=7,OR(Calculator!$D$6=\"Retired\",D252>=12)),ROUND(E252*0.015,2),0))","v":{"$error":"#VALUE!"}},{"$error":"#VALUE!"},null,{"$error":"#VALUE!"},"2038-09-01",{"$error":"#VALUE!"},{"$error":"#VALUE!"},{"$error":"#VALUE!"},{"$error":"#VALUE!"},null,{"$error":"#VALUE!"},"2038-09-01",{"$error":"#VALUE!"},{"$error":"#VALUE!"},{"$f":"0","v":0},{"$error":"#VALUE!"}]
[null,{"$error":"#VALUE!"},"2038-10-01",{"$error":"#VALUE!"},{"$error":"#VALUE!"},{"$f":"IF(AND(Calculator!$D$6=\"Active\",MONTH(C253)=7,D253<12),ROUND(E253*0.015*(D253/12),2),IF(AND(MONTH(C253)=7,OR(Calculator!$D$6=\"Retired\",D253>=12)),ROUND(E253*0.015,2),0))","v":{"$error":"#VALUE!"}},{"$error":"#VALUE!"},null,{"$error":"#VALUE!"},"2038-10-01",{"$error":"#VALUE!"},{"$error":"#VALUE!"},{"$error":"#VALUE!"},{"$error":"#VALUE!"},null,{"$error":"#VALUE!"},"2038-10-01",{"$error":"#VALUE!"},{"$error":"#VALUE!"},{"$f":"0","v":0},{"$error":"#VALUE!"}]
[null,{"$error":"#VALUE!"},"2038-11-01",{"$error":"#VALUE!"},{"$error":"#VALUE!"},{"$f":"IF(AND(Calculator!$D$6=\"Active\",MONTH(C254)=7,D254<12),ROUND(E254*0.015*(D254/12),2),IF(AND(MONTH(C254)=7,OR(Calculator!$D$6=\"Retired\",D254>=12)),ROUND(E254*0.015,2),0))","v":{"$error":"#VALUE!"}},{"$error":"#VALUE!"},null,{"$error":"#VALUE!"},"2038-11-01",{"$error":"#VALUE!"},{"$error":"#VALUE!"},{"$error":"#VALUE!"},{"$error":"#VALUE!"},null,{"$error":"#VALUE!"},"2038-11-01",{"$error":"#VALUE!"},{"$error":"#VALUE!"},{"$f":"0","v":0},{"$error":"#VALUE!"}]
[null,{"$error":"#VALUE!"},"2038-12-01",{"$error":"#VALUE!"},{"$error":"#VALUE!"},{"$f":"IF(AND(Calculator!$D$6=\"Active\",MONTH(C255)=7,D255<12),ROUND(E255*0.015*(D255/12),2),IF(AND(MONTH(C255)=7,OR(Calculator!$D$6=\"Retired\",D255>=12)),ROUND(E255*0.015,2),0))","v":{"$error":"#VALUE!"}},{"$error":"#VALUE!"},null,{"$error":"#VALUE!"},"2038-12-01",{"$error":"#VALUE!"},{"$error":"#VALUE!"},{"$error":"#VALUE!"},{"$error":"#VALUE!"},null,{"$error":"#VALUE!"},"2038-12-01",{"$error":"#VALUE!"},{"$error":"#VALUE!"},{"$f":"0","v":0},{"$error":"#VALUE!"}]
[null,{"$error":"#VALUE!"},"2039-01-01",{"$error":"#VALUE!"},{"$error":"#VALUE!"},{"$f":"IF(AND(Calculator!$D$6=\"Active\",MONTH(C256)=7,D256<12),ROUND(E256*0.015*(D256/12),2),IF(AND(MONTH(C256)=7,OR(Calculator!$D$6=\"Retired\",D256>=12)),ROUND(E256*0.015,2),0))","v":{"$error":"#VALUE!"}},{"$error":"#VALUE!"},null,{"$error":"#VALUE!"},"2039-01-01",{"$error":"#VALUE!"},{"$error":"#VALUE!"},{"$f":"IF(AND(MONTH(J256)=7,K256>61),ROUND(L256*0.015,2),0)","v":{"$error":"#VALUE!"}},{"$error":"#VALUE!"},null,{"$error":"#VALUE!"},"2039-01-01",{"$error":"#VALUE!"},{"$error":"#VALUE!"},{"$f":"0","v":0},{"$error":"#VALUE!"}]
[null,{"$error":"#VALUE!"},"2039-02-01",{"$error":"#VALUE!"},{"$error":"#VALUE!"},{"$f":"IF(AND(Calculator!$D$6=\"Active\",MONTH(C257)=7,D257<12),ROUND(E257*0.015*(D257/12),2),IF(AND(MONTH(C257)=7,OR(Calculator!$D$6=\"Retired\",D257>=12)),ROUND(E257*0.015,2),0))","v":{"$error":"#VALUE!"}},{"$error":"#VALUE!"},null,{"$error":"#VALUE!"},"2039-02-01",{"$error":"#VALUE!"},{"$error":"#VALUE!"},{"$error":"#VALUE!"},{"$error":"#VALUE!"},null,{"$error":"#VALUE!"},"2039-02-01",{"$error":"#VALUE!"},{"$error":"#VALUE!"},{"$f":"0","v":0},{"$error":"#VALUE!"}]
[null,{"$error":"#VALUE!"},"2039-03-01",{"$error":"#VALUE!"},{"$error":"#VALUE!"},{"$f":"IF(AND(Calculator!$D$6=\"Active\",MONTH(C258)=7,D258<12),ROUND(E258*0.015*(D258/12),2),IF(AND(MONTH(C258)=7,OR(Calculator!$D$6=\"Retired\",D258>=12)),ROUND(E258*0.015,2),0))","v":{"$error":"#VALUE!"}},{"$error":"#VALUE!"},null,{"$error":"#VALUE!"},"2039-03-01",{"$error":"#VALUE!"},{"$error":"#VALUE!"},{"$error":"#VALUE!"},{"$error":"#VALUE!"},null,{"$error":"#VALUE!"},"2039-03-01",{"$error":"#VALUE!"},{"$error":"#VALUE!"},{"$f":"0","v":0},{"$error":"#VALUE!"}]
[null,{"$error":"#VALUE!"},"2039-04-01",{"$error":"#VALUE!"},{"$error":"#VALUE!"},{"$f":"IF(AND(Calculator!$D$6=\"Active\",MONTH(C259)=7,D259<12),ROUND(E259*0.015*(D259/12),2),IF(AND(MONTH(C259)=7,OR(Calculator!$D$6=\"Retired\",D259>=12)),ROUND(E259*0.015,2),0))","v":{"$error":"#VALUE!"}},{"$error":"#VALUE!"},null,{"$error":"#VALUE!"},"2039-04-01",{"$error":"#VALUE!"},{"$error":"#VALUE!"},{"$error":"#VALUE!"},{"$error":"#VALUE!"},null,{"$error":"#VALUE!"},"2039-04-01",{"$error":"#VALUE!"},{"$error":"#VALUE!"},{"$f":"0","v":0},{"$error":"#VALUE!"}]
[null,{"$f":"IF(MONTH(DoB)=MONTH(C259),B259+1,B259)","v":{"$error":"#VALUE!"}},"2039-05-01",{"$f":"IF(B260>=VLOOKUP(Age_at_Retirement,Life_Expectancy_Table,3,FALSE),\"\",(D259+1))","v":{"$error":"#VALUE!"}},{"$error":"#VALUE!"},{"$f":"IF(AND(Calculator!$D$6=\"Active\",MONTH(C260)=7,D260<12),ROUND(E260*0.015*(D260/12),2),IF(AND(MONTH(C260)=7,OR(Calculator!$D$6=\"Retired\",D260>=12)),ROUND(E260*0.015,2),0))","v":{"$error":"#VALUE!"}},{"$error":"#VALUE!"},null,{"$f":"IF(MONTH(DoB)=MONTH(J259),I259+1,I259)","v":{"$error":"#VALUE!"}},"2039-05-01",{"$f":"IF(I260>=VLOOKUP(Age_at_Retirement,Life_Expectancy_Table,3,FALSE),\"\",(K259+1))","v":{"$error":"#VALUE!"}},{"$error":"#VALUE!"},{"$error":"#VALUE!"},{"$error":"#VALUE!"},null,{"$f":"IF(MONTH(DoB)=MONTH(Q259),P259+1,P259)","v":{"$error":"#VALUE!"}},"2039-05-01",{"$f":"IF(P260>=VLOOKUP(Age_at_Retirement,Life_Expectancy_Table,3,FALSE),\"\",(R259+1))","v":{"$error":"#VALUE!"}},{"$error":"#VALUE!"},{"$f":"0","v":0},{"$error":"#VALUE!"}]
[null,{"$error":"#VALUE!"},"2039-06-01",{"$error":"#VALUE!"},{"$f":"IF(D261=\"\",0,G260)","v":{"$error":"#VALUE!"}},{"$f":"IF(AND(Calculator!$D$6=\"Active\",MONTH(C261)=7,D261<12),ROUND(E261*0.015*(D261/12),2),IF(AND(MONTH(C261)=7,OR(Calculator!$D$6=\"Retired\",D261>=12)),ROUND(E261*0.015,2),0))","v":{"$error":"#VALUE!"}},{"$error":"#VALUE!"},null,{"$error":"#VALUE!"},"2039-06-01",{"$error":"#VALUE!"},{"$f":"IF(K261=\"\",0,N260)","v":{"$error":"#VALUE!"}},{"$error":"#VALUE!"},{"$f":"L261+M261","v":{"$error":"#VALUE!"}},null,{"$error":"#VALUE!"},"2039-06-01",{"$error":"#VALUE!"},{"$f":"IF(R261=\"\",0,U260)","v":{"$error":"#VALUE!"}},{"$f":"0","v":0},{"$f":"S261+T261","v":{"$error":"#VALUE!"}}]
[null,{"$error":"#VALUE!"},"2039-07-01",{"$error":"#VALUE!"},{"$error":"#VALUE!"},{"$f":"IF(AND(Calculator!$D$6=\"Active\",MONTH(C262)=7,D262<12),ROUND(E262*0.015*(D262/12),2),IF(AND(MONTH(C262)=7,OR(Calculator!$D$6=\"Retired\",D262>=12)),ROUND(E262*0.015,2),0))","v":{"$error":"#VALUE!"}},{"$error":"#VALUE!"},null,{"$error":"#VALUE!"},{"$f":"EDATE(J261,1)","v":"2039-07-01"},{"$error":"#VALUE!"},{"$error":"#VALUE!"},{"$error":"#VALUE!"},{"$error":"#VALUE!"},null,{"$error":"#VALUE!"},{"$f":"EDATE(Q261,1)","v":"2039-07-01"},{"$error":"#VALUE!"},{"$error":"#VALUE!"},{"$f":"0","v":0},{"$error":"#VALUE!"}]
[null,{"$error":"#VALUE!"},"2039-08-01",{"$error":"#VALUE!"},{"$error":"#VALUE!"},{"$f":"IF(AND(Calculator!$D$6=\"Active\",MONTH(C263)=7,D263<12),ROUND(E263*0.015*(D263/12),2),IF(AND(MONTH(C263)=7,OR(Calculator!$D$6=\"Retired\",D263>=12)),ROUND(E263*0.015,2),0))","v":{"$error":"#VALUE!"}},{"$error":"#VALUE!"},null,{"$error":"#VALUE!"},"2039-08-01",{"$error":"#VALUE!"},{"$error":"#VALUE!"},{"$error":"#VALUE!"},{"$error":"#VALUE!"},null,{"$error":"#VALUE!"},"2039-08-01",{"$error":"#VALUE!"},{"$error":"#VALUE!"},{"$f":"0","v":0},{"$error":"#VALUE!"}]
[null,{"$error":"#VALUE!"},"2039-09-01",{"$error":"#VALUE!"},{"$error":"#VALUE!"},{"$f":"IF(AND(Calculator!$D$6=\"Active\",MONTH(C264)=7,D264<12),ROUND(E264*0.015*(D264/12),2),IF(AND(MONTH(C264)=7,OR(Calculator!$D$6=\"Retired\",D264>=12)),ROUND(E264*0.015,2),0))","v":{"$error":"#VALUE!"}},{"$error":"#VALUE!"},null,{"$error":"#VALUE!"},"2039-09-01",{"$error":"#VALUE!"},{"$error":"#VALUE!"},{"$error":"#VALUE!"},{"$error":"#VALUE!"},null,{"$error":"#VALUE!"},"2039-09-01",{"$error":"#VALUE!"},{"$error":"#VALUE!"},{"$f":"0","v":0},{"$error":"#VALUE!"}]
[null,{"$error":"#VALUE!"},"2039-10-01",{"$error":"#VALUE!"},{"$error":"#VALUE!"},{"$f":"IF(AND(Calculator!$D$6=\"Active\",MONTH(C265)=7,D265<12),ROUND(E265*0.015*(D265/12),2),IF(AND(MONTH(C265)=7,OR(Calculator!$D$6=\"Retired\",D265>=12)),ROUND(E265*0.015,2),0))","v":{"$error":"#VALUE!"}},{"$error":"#VALUE!"},null,{"$error":"#VALUE!"},"2039-10-01",{"$error":"#VALUE!"},{"$error":"#VALUE!"},{"$error":"#VALUE!"},{"$error":"#VALUE!"},null,{"$error":"#VALUE!"},"2039-10-01",{"$error":"#VALUE!"},{"$error":"#VALUE!"},{"$f":"0","v":0},{"$error":"#VALUE!"}]
[null,{"$error":"#VALUE!"},"2039-11-01",{"$error":"#VALUE!"},{"$error":"#VALUE!"},{"$f":"IF(AND(Calculator!$D$6=\"Active\",MONTH(C266)=7,D266<12),ROUND(E266*0.015*(D266/12),2),IF(AND(MONTH(C266)=7,OR(Calculator!$D$6=\"Retired\",D266>=12)),ROUND(E266*0.015,2),0))","v":{"$error":"#VALUE!"}},{"$error":"#VALUE!"},null,{"$error":"#VALUE!"},"2039-11-01",{"$error":"#VALUE!"},{"$error":"#VALUE!"},{"$error":"#VALUE!"},{"$error":"#VALUE!"},null,{"$error":"#VALUE!"},"2039-11-01",{"$error":"#VALUE!"},{"$error":"#VALUE!"},{"$f":"0","v":0},{"$error":"#VALUE!"}]
[null,{"$error":"#VALUE!"},"2039-12-01",{"$error":"#VALUE!"},{"$error":"#VALUE!"},{"$f":"IF(AND(Calculator!$D$6=\"Active\",MONTH(C267)=7,D267<12),ROUND(E267*0.015*(D267/12),2),IF(AND(MONTH(C267)=7,OR(Calculator!$D$6=\"Retired\",D267>=12)),ROUND(E267*0.015,2),0))","v":{"$error":"#VALUE!"}},{"$error":"#VALUE!"},null,{"$error":"#VALUE!"},"2039-12-01",{"$error":"#VALUE!"},{"$error":"#VALUE!"},{"$error":"#VALUE!"},{"$error":"#VALUE!"},null,{"$error":"#VALUE!"},"2039-12-01",{"$error":"#VALUE!"},{"$error":"#VALUE!"},{"$f":"0","v":0},{"$error":"#VALUE!"}]
[null,{"$error":"#VALUE!"},"2040-01-01",{"$error":"#VALUE!"},{"$error":"#VALUE!"},{"$f":"IF(AND(Calculator!$D$6=\"Active\",MONTH(C268)=7,D268<12),ROUND(E268*0.015*(D268/12),2),IF(AND(MONTH(C268)=7,OR(Calculator!$D$6=\"Retired\",D268>=12)),ROUND(E268*0.015,2),0))","v":{"$error":"#VALUE!"}},{"$error":"#VALUE!"},null,{"$error":"#VALUE!"},"2040-01-01",{"$error":"#VALUE!"},{"$error":"#VALUE!"},{"$error":"#VALUE!"},{"$error":"#VALUE!"},null,{"$error":"#VALUE!"},"2040-01-01",{"$error":"#VALUE!"},{"$error":"#VALUE!"},{"$f":"0","v":0},{"$error":"#VALUE!"}]
[null,{"$error":"#VALUE!"},"2040-02-01",{"$error":"#VALUE!"},{"$error":"#VALUE!"},{"$f":"IF(AND(Calculator!$D$6=\"Active\",MONTH(C269)=7,D269<12),ROUND(E269*0.015*(D269/12),2),IF(AND(MONTH(C269)=7,OR(Calculator!$D$6=\"Retired\",D269>=12)),ROUND(E269*0.015,2),0))","v":{"$error":"#VALUE!"}},{"$error":"#VALUE!"},null,{"$error":"#VALUE!"},"2040-02-01",{"$error":"#VALUE!"},{"$error":"#VALUE!"},{"$error":"#VALUE!"},{"$error":"#VALUE!"},null,{"$error":"#VALUE!"},"2040-02-01",{"$error":"#VALUE!"},{"$error":"#VALUE!"},{"$f":"0","v":0},{"$error":"#VALUE!"}]
[null,{"$error":"#VALUE!"},"2040-03-01",{"$error":"#VALUE!"},{"$error":"#VALUE!"},{"$f":"IF(AND(Calculator!$D$6=\"Active\",MONTH(C270)=7,D270<12),ROUND(E270*0.015*(D270/12),2),IF(AND(MONTH(C270)=7,OR(Calculator!$D$6=\"Retired\",D270>=12)),ROUND(E270*0.015,2),0))","v":{"$error":"#VALUE!"}},{"$error":"#VALUE!"},null,{"$error":"#VALUE!"},"2040-03-01",{"$error":"#VALUE!"},{"$error":"#VALUE!"},{"$error":"#VALUE!"},{"$error":"#VALUE!"},null,{"$error":"#VALUE!"},"2040-03-01",{"$error":"#VALUE!"},{"$error":"#VALUE!"},{"$f":"0","v":0},{"$error":"#VALUE!"}]
[null,{"$error":"#VALUE!"},"2040-04-01",{"$error":"#VALUE!"},{"$error":"#VALUE!"},{"$f":"IF(AND(Calculator!$D$6=\"Active\",MONTH(C271)=7,D271<12),ROUND(E271*0.015*(D271/12),2),IF(AND(MONTH(C271)=7,OR(Calculator!$D$6=\"Retired\",D271>=12)),ROUND(E271*0.015,2),0))","v":{"$error":"#VALUE!"}},{"$error":"#VALUE!"},null,{"$error":"#VALUE!"},"2040-04-01",{"$error":"#VALUE!"},{"$error":"#VALUE!"},{"$error":"#VALUE!"},{"$error":"#VALUE!"},null,{"$error":"#VALUE!"},"2040-04-01",{"$error":"#VALUE!"},{"$error":"#VALUE!"},{"$f":"0","v":0},{"$error":"#VALUE!"}]
[null,{"$error":"#VALUE!"},"2040-05-01",{"$error":"#VALUE!"},{"$error":"#VALUE!"},{"$f":"IF(AND(Calculator!$D$6=\"Active\",MONTH(C272)=7,D272<12),ROUND(E272*0.015*(D272/12),2),IF(AND(MONTH(C272)=7,OR(Calculator!$D$6=\"Retired\",D272>=12)),ROUND(E272*0.015,2),0))","v":{"$error":"#VALUE!"}},{"$error":"#VALUE!"},null,{"$error":"#VALUE!"},"2040-05-01",{"$error":"#VALUE!"},{"$error":"#VALUE!"},{"$error":"#VALUE!"},{"$error":"#VALUE!"},null,{"$error":"#VALUE!"},"2040-05-01",{"$error":"#VALUE!"},{"$error":"#VALUE!"},{"$f":"0","v":0},{"$error":"#VALUE!"}]
[null,{"$error":"#VALUE!"},"2040-06-01",{"$error":"#VALUE!"},{"$error":"#VALUE!"},{"$f":"IF(AND(Calculator!$D$6=\"Active\",MONTH(C273)=7,D273<12),ROUND(E273*0.015*(D273/12),2),IF(AND(MONTH(C273)=7,OR(Calculator!$D$6=\"Retired\",D273>=12)),ROUND(E273*0.015,2),0))","v":{"$error":"#VALUE!"}},{"$error":"#VALUE!"},null,{"$error":"#VALUE!"},"2040-06-01",{"$error":"#VALUE!"},{"$error":"#VALUE!"},{"$error":"#VALUE!"},{"$error":"#VALUE!"},null,{"$error":"#VALUE!"},"2040-06-01",{"$error":"#VALUE!"},{"$error":"#VALUE!"},{"$f":"0","v":0},{"$error":"#VALUE!"}]
[null,{"$error":"#VALUE!"},"2040-07-01",{"$error":"#VALUE!"},{"$error":"#VALUE!"},{"$f":"IF(AND(Calculator!$D$6=\"Active\",MONTH(C274)=7,D274<12),ROUND(E274*0.015*(D274/12),2),IF(AND(MONTH(C274)=7,OR(Calculator!$D$6=\"Retired\",D274>=12)),ROUND(E274*0.015,2),0))","v":{"$error":"#VALUE!"}},{"$error":"#VALUE!"},null,{"$error":"#VALUE!"},"2040-07-01",{"$error":"#VALUE!"},{"$error":"#VALUE!"},{"$error":"#VALUE!"},{"$error":"#VALUE!"},null,{"$error":"#VALUE!"},"2040-07-01",{"$error":"#VALUE!"},{"$error":"#VALUE!"},{"$f":"0","v":0},{"$error":"#VALUE!"}]
[null,{"$error":"#VALUE!"},"2040-08-01",{"$error":"#VALUE!"},{"$error":"#VALUE!"},{"$f":"IF(AND(Calculator!$D$6=\"Active\",MONTH(C275)=7,D275<12),ROUND(E275*0.015*(D275/12),2),IF(AND(MONTH(C275)=7,OR(Calculator!$D$6=\"Retired\",D275>=12)),ROUND(E275*0.015,2),0))","v":{"$error":"#VALUE!"}},{"$error":"#VALUE!"},null,{"$error":"#VALUE!"},"2040-08-01",{"$error":"#VALUE!"},{"$error":"#VALUE!"},{"$error":"#VALUE!"},{"$error":"#VALUE!"},null,{"$error":"#VALUE!"},"2040-08-01",{"$error":"#VALUE!"},{"$error":"#VALUE!"},{"$f":"0","v":0},{"$error":"#VALUE!"}]
[null,{"$error":"#VALUE!"},"2040-09-01",{"$error":"#VALUE!"},{"$error":"#VALUE!"},{"$f":"IF(AND(Calculator!$D$6=\"Active\",MONTH(C276)=7,D276<12),ROUND(E276*0.015*(D276/12),2),IF(AND(MONTH(C276)=7,OR(Calculator!$D$6=\"Retired\",D276>=12)),ROUND(E276*0.015,2),0))","v":{"$error":"#VALUE!"}},{"$error":"#VALUE!"},null,{"$error":"#VALUE!"},"2040-09-01",{"$error":"#VALUE!"},{"$error":"#VALUE!"},{"$error":"#VALUE!"},{"$error":"#VALUE!"},null,{"$error":"#VALUE!"},"2040-09-01",{"$error":"#VALUE!"},{"$error":"#VALUE!"},{"$f":"0","v":0},{"$error":"#VALUE!"}]
[null,{"$error":"#VALUE!"},"2040-10-01",{"$error":"#VALUE!"},{"$error":"#VALUE!"},{"$f":"IF(AND(Calculator!$D$6=\"Active\",MONTH(C277)=7,D277<12),ROUND(E277*0.015*(D277/12),2),IF(AND(MONTH(C277)=7,OR(Calculator!$D$6=\"Retired\",D277>=12)),ROUND(E277*0.015,2),0))","v":{"$error":"#VALUE!"}},{"$error":"#VALUE!"},null,{"$error":"#VALUE!"},"2040-10-01",{"$error":"#VALUE!"},{"$error":"#VALUE!"},{"$error":"#VALUE!"},{"$error":"#VALUE!"},null,{"$error":"#VALUE!"},"2040-10-01",{"$error":"#VALUE!"},{"$error":"#VALUE!"},{"$f":"0","v":0},{"$error":"#VALUE!"}]
[null,{"$error":"#VALUE!"},"2040-11-01",{"$error":"#VALUE!"},{"$error":"#VALUE!"},{"$f":"IF(AND(Calculator!$D$6=\"Active\",MONTH(C278)=7,D278<12),ROUND(E278*0.015*(D278/12),2),IF(AND(MONTH(C278)=7,OR(Calculator!$D$6=\"Retired\",D278>=12)),ROUND(E278*0.015,2),0))","v":{"$error":"#VALUE!"}},{"$error":"#VALUE!"},null,{"$error":"#VALUE!"},"2040-11-01",{"$error":"#VALUE!"},{"$error":"#VALUE!"},{"$error":"#VALUE!"},{"$error":"#VALUE!"},null,{"$error":"#VALUE!"},"2040-11-01",{"$error":"#VALUE!"},{"$error":"#VALUE!"},{"$f":"0","v":0},{"$error":"#VALUE!"}]
[null,{"$error":"#VALUE!"},{"$f":"EDATE(C278,1)","v":"2040-12-01"},{"$error":"#VALUE!"},{"$error":"#VALUE!"},{"$f":"IF(AND(Calculator!$D$6=\"Active\",MONTH(C279)=7,D279<12),ROUND(E279*0.015*(D279/12),2),IF(AND(MONTH(C279)=7,OR(Calculator!$D$6=\"Retired\",D279>=12)),ROUND(E279*0.015,2),0))","v":{"$error":"#VALUE!"}},{"$f":"E279+F279","v":{"$error":"#VALUE!"}},null,{"$error":"#VALUE!"},"2040-12-01",{"$error":"#VALUE!"},{"$error":"#VALUE!"},{"$error":"#VALUE!"},{"$error":"#VALUE!"},null,{"$error":"#VALUE!"},"2040-12-01",{"$error":"#VALUE!"},{"$error":"#VALUE!"},{"$f":"0","v":0},{"$error":"#VALUE!"}]
[null,{"$error":"#VALUE!"},"2041-01-01",{"$error":"#VALUE!"},{"$error":"#VALUE!"},{"$f":"IF(AND(Calculator!$D$6=\"Active\",MONTH(C280)=7,D280<12),ROUND(E280*0.015*(D280/12),2),IF(AND(MONTH(C280)=7,OR(Calculator!$D$6=\"Retired\",D280>=12)),ROUND(E280*0.015,2),0))","v":{"$error":"#VALUE!"}},{"$error":"#VALUE!"},null,{"$error":"#VALUE!"},"2041-01-01",{"$error":"#VALUE!"},{"$error":"#VALUE!"},{"$error":"#VALUE!"},{"$error":"#VALUE!"},null,{"$error":"#VALUE!"},"2041-01-01",{"$error":"#VALUE!"},{"$error":"#VALUE!"},{"$f":"0","v":0},{"$error":"#VALUE!"}]
[null,{"$error":"#VALUE!"},"2041-02-01",{"$error":"#VALUE!"},{"$error":"#VALUE!"},{"$f":"IF(AND(Calculator!$D$6=\"Active\",MONTH(C281)=7,D281<12),ROUND(E281*0.015*(D281/12),2),IF(AND(MONTH(C281)=7,OR(Calculator!$D$6=\"Retired\",D281>=12)),ROUND(E281*0.015,2),0))","v":{"$error":"#VALUE!"}},{"$error":"#VALUE!"},null,{"$error":"#VALUE!"},"2041-02-01",{"$error":"#VALUE!"},{"$error":"#VALUE!"},{"$error":"#VALUE!"},{"$error":"#VALUE!"},null,{"$error":"#VALUE!"},"2041-02-01",{"$error":"#VALUE!"},{"$error":"#VALUE!"},{"$f":"0","v":0},{"$error":"#VALUE!"}]
[null,{"$error":"#VALUE!"},"2041-03-01",{"$error":"#VALUE!"},{"$error":"#VALUE!"},{"$f":"IF(AND(Calculator!$D$6=\"Active\",MONTH(C282)=7,D282<12),ROUND(E282*0.015*(D282/12),2),IF(AND(MONTH(C282)=7,OR(Calculator!$D$6=\"Retired\",D282>=12)),ROUND(E282*0.015,2),0))","v":{"$error":"#VALUE!"}},{"$error":"#VALUE!"},null,{"$error":"#VALUE!"},"2041-03-01",{"$error":"#VALUE!"},{"$error":"#VALUE!"},{"$error":"#VALUE!"},{"$error":"#VALUE!"},null,{"$error":"#VALUE!"},"2041-03-01",{"$error":"#VALUE!"},{"$error":"#VALUE!"},{"$f":"0","v":0},{"$error":"#VALUE!"}]
[null,{"$error":"#VALUE!"},"2041-04-01",{"$error":"#VALUE!"},{"$error":"#VALUE!"},{"$f":"IF(AND(Calculator!$D$6=\"Active\",MONTH(C283)=7,D283<12),ROUND(E283*0.015*(D283/12),2),IF(AND(MONTH(C283)=7,OR(Calculator!$D$6=\"Retired\",D283>=12)),ROUND(E283*0.015,2),0))","v":{"$error":"#VALUE!"}},{"$error":"#VALUE!"},null,{"$error":"#VALUE!"},"2041-04-01",{"$error":"#VALUE!"},{"$error":"#VALUE!"},{"$error":"#VALUE!"},{"$error":"#VALUE!"},null,{"$error":"#VALUE!"},"2041-04-01",{"$error":"#VALUE!"},{"$error":"#VALUE!"},{"$f":"0","v":0},{"$error":"#VALUE!"}]
[null,{"$error":"#VALUE!"},"2041-05-01",{"$error":"#VALUE!"},{"$error":"#VALUE!"},{"$f":"IF(AND(Calculator!$D$6=\"Active\",MONTH(C284)=7,D284<12),ROUND(E284*0.015*(D284/12),2),IF(AND(MONTH(C284)=7,OR(Calculator!$D$6=\"Retired\",D284>=12)),ROUND(E284*0.015,2),0))","v":{"$error":"#VALUE!"}},{"$error":"#VALUE!"},null,{"$error":"#VALUE!"},"2041-05-01",{"$error":"#VALUE!"},{"$error":"#VALUE!"},{"$error":"#VALUE!"},{"$error":"#VALUE!"},null,{"$error":"#VALUE!"},"2041-05-01",{"$error":"#VALUE!"},{"$error":"#VALUE!"},{"$f":"0","v":0},{"$error":"#VALUE!"}]
[null,{"$error":"#VALUE!"},"2041-06-01",{"$error":"#VALUE!"},{"$error":"#VALUE!"},{"$f":"IF(AND(Calculator!$D$6=\"Active\",MONTH(C285)=7,D285<12),ROUND(E285*0.015*(D285/12),2),IF(AND(MONTH(C285)=7,OR(Calculator!$D$6=\"Retired\",D285>=12)),ROUND(E285*0.015,2),0))","v":{"$error":"#VALUE!"}},{"$error":"#VALUE!"},null,{"$error":"#VALUE!"},"2041-06-01",{"$error":"#VALUE!"},{"$error":"#VALUE!"},{"$error":"#VALUE!"},{"$error":"#VALUE!"},null,{"$error":"#VALUE!"},"2041-06-01",{"$error":"#VALUE!"},{"$error":"#VALUE!"},{"$f":"0","v":0},{"$error":"#VALUE!"}]
[null,{"$error":"#VALUE!"},"2041-07-01",{"$error":"#VALUE!"},{"$error":"#VALUE!"},{"$f":"IF(AND(Calculator!$D$6=\"Active\",MONTH(C286)=7,D286<12),ROUND(E286*0.015*(D286/12),2),IF(AND(MONTH(C286)=7,OR(Calculator!$D$6=\"Retired\",D286>=12)),ROUND(E286*0.015,2),0))","v":{"$error":"#VALUE!"}},{"$error":"#VALUE!"},null,{"$error":"#VALUE!"},"2041-07-01",{"$error":"#VALUE!"},{"$error":"#VALUE!"},{"$error":"#VALUE!"},{"$error":"#VALUE!"},null,{"$error":"#VALUE!"},"2041-07-01",{"$error":"#VALUE!"},{"$error":"#VALUE!"},{"$f":"0","v":0},{"$error":"#VALUE!"}]
[null,{"$error":"#VALUE!"},"2041-08-01",{"$error":"#VALUE!"},{"$error":"#VALUE!"},{"$f":"IF(AND(Calculator!$D$6=\"Active\",MONTH(C287)=7,D287<12),ROUND(E287*0.015*(D287/12),2),IF(AND(MONTH(C287)=7,OR(Calculator!$D$6=\"Retired\",D287>=12)),ROUND(E287*0.015,2),0))","v":{"$error":"#VALUE!"}},{"$error":"#VALUE!"},null,{"$error":"#VALUE!"},"2041-08-01",{"$error":"#VALUE!"},{"$error":"#VALUE!"},{"$error":"#VALUE!"},{"$error":"#VALUE!"},null,{"$error":"#VALUE!"},"2041-08-01",{"$error":"#VALUE!"},{"$error":"#VALUE!"},{"$f":"0","v":0},{"$error":"#VALUE!"}]
[null,{"$error":"#VALUE!"},"2041-09-01",{"$error":"#VALUE!"},{"$error":"#VALUE!"},{"$f":"IF(AND(Calculator!$D$6=\"Active\",MONTH(C288)=7,D288<12),ROUND(E288*0.015*(D288/12),2),IF(AND(MONTH(C288)=7,OR(Calculator!$D$6=\"Retired\",D288>=12)),ROUND(E288*0.015,2),0))","v":{"$error":"#VALUE!"}},{"$error":"#VALUE!"},null,{"$error":"#VALUE!"},"2041-09-01",{"$error":"#VALUE!"},{"$error":"#VALUE!"},{"$error":"#VALUE!"},{"$error":"#VALUE!"},null,{"$error":"#VALUE!"},"2041-09-01",{"$error":"#VALUE!"},{"$error":"#VALUE!"},{"$f":"0","v":0},{"$error":"#VALUE!"}]
[null,{"$error":"#VALUE!"},"2041-10-01",{"$error":"#VALUE!"},{"$error":"#VALUE!"},{"$f":"IF(AND(Calculator!$D$6=\"Active\",MONTH(C289)=7,D289<12),ROUND(E289*0.015*(D289/12),2),IF(AND(MONTH(C289)=7,OR(Calculator!$D$6=\"Retired\",D289>=12)),ROUND(E289*0.015,2),0))","v":{"$error":"#VALUE!"}},{"$error":"#VALUE!"},null,{"$error":"#VALUE!"},"2041-10-01",{"$error":"#VALUE!"},{"$error":"#VALUE!"},{"$error":"#VALUE!"},{"$error":"#VALUE!"},null,{"$error":"#VALUE!"},"2041-10-01",{"$error":"#VALUE!"},{"$error":"#VALUE!"},{"$f":"0","v":0},{"$error":"#VALUE!"}]
[null,{"$error":"#VALUE!"},"2041-11-01",{"$error":"#VALUE!"},{"$error":"#VALUE!"},{"$f":"IF(AND(Calculator!$D$6=\"Active\",MONTH(C290)=7,D290<12),ROUND(E290*0.015*(D290/12),2),IF(AND(MONTH(C290)=7,OR(Calculator!$D$6=\"Retired\",D290>=12)),ROUND(E290*0.015,2),0))","v":{"$error":"#VALUE!"}},{"$error":"#VALUE!"},null,{"$error":"#VALUE!"},"2041-11-01",{"$error":"#VALUE!"},{"$error":"#VALUE!"},{"$error":"#VALUE!"},{"$error":"#VALUE!"},null,{"$error":"#VALUE!"},"2041-11-01",{"$error":"#VALUE!"},{"$error":"#VALUE!"},{"$f":"0","v":0},{"$error":"#VALUE!"}]
[null,{"$error":"#VALUE!"},"2041-12-01",{"$error":"#VALUE!"},{"$error":"#VALUE!"},{"$f":"IF(AND(Calculator!$D$6=\"Active\",MONTH(C291)=7,D291<12),ROUND(E291*0.015*(D291/12),2),IF(AND(MONTH(C291)=7,OR(Calculator!$D$6=\"Retired\",D291>=12)),ROUND(E291*0.015,2),0))","v":{"$error":"#VALUE!"}},{"$error":"#VALUE!"},null,{"$error":"#VALUE!"},"2041-12-01",{"$error":"#VALUE!"},{"$error":"#VALUE!"},{"$error":"#VALUE!"},{"$error":"#VALUE!"},null,{"$error":"#VALUE!"},"2041-12-01",{"$error":"#VALUE!"},{"$error":"#VALUE!"},{"$f":"0","v":0},{"$error":"#VALUE!"}]
[null,{"$error":"#VALUE!"},"2042-01-01",{"$error":"#VALUE!"},{"$error":"#VALUE!"},{"$f":"IF(AND(Calculator!$D$6=\"Active\",MONTH(C292)=7,D292<12),ROUND(E292*0.015*(D292/12),2),IF(AND(MONTH(C292)=7,OR(Calculator!$D$6=\"Retired\",D292>=12)),ROUND(E292*0.015,2),0))","v":{"$error":"#VALUE!"}},{"$error":"#VALUE!"},null,{"$error":"#VALUE!"},"2042-01-01",{"$error":"#VALUE!"},{"$error":"#VALUE!"},{"$error":"#VALUE!"},{"$error":"#VALUE!"},null,{"$error":"#VALUE!"},"2042-01-01",{"$error":"#VALUE!"},{"$error":"#VALUE!"},{"$f":"0","v":0},{"$error":"#VALUE!"}]
[null,{"$error":"#VALUE!"},"2042-02-01",{"$error":"#VALUE!"},{"$error":"#VALUE!"},{"$f":"IF(AND(Calculator!$D$6=\"Active\",MONTH(C293)=7,D293<12),ROUND(E293*0.015*(D293/12),2),IF(AND(MONTH(C293)=7,OR(Calculator!$D$6=\"Retired\",D293>=12)),ROUND(E293*0.015,2),0))","v":{"$error":"#VALUE!"}},{"$error":"#VALUE!"},null,{"$error":"#VALUE!"},"2042-02-01",{"$error":"#VALUE!"},{"$error":"#VALUE!"},{"$error":"#VALUE!"},{"$error":"#VALUE!"},null,{"$error":"#VALUE!"},"2042-02-01",{"$error":"#VALUE!"},{"$error":"#VALUE!"},{"$f":"0","v":0},{"$error":"#VALUE!"}]
[null,{"$error":"#VALUE!"},"2042-03-01",{"$error":"#VALUE!"},{"$error":"#VALUE!"},{"$f":"IF(AND(Calculator!$D$6=\"Active\",MONTH(C294)=7,D294<12),ROUND(E294*0.015*(D294/12),2),IF(AND(MONTH(C294)=7,OR(Calculator!$D$6=\"Retired\",D294>=12)),ROUND(E294*0.015,2),0))","v":{"$error":"#VALUE!"}},{"$error":"#VALUE!"},null,{"$error":"#VALUE!"},"2042-03-01",{"$error":"#VALUE!"},{"$error":"#VALUE!"},{"$error":"#VALUE!"},{"$error":"#VALUE!"},null,{"$error":"#VALUE!"},"2042-03-01",{"$error":"#VALUE!"},{"$error":"#VALUE!"},{"$f":"0","v":0},{"$error":"#VALUE!"}]
[null,{"$error":"#VALUE!"},"2042-04-01",{"$error":"#VALUE!"},{"$error":"#VALUE!"},{"$f":"IF(AND(Calculator!$D$6=\"Active\",MONTH(C295)=7,D295<12),ROUND(E295*0.015*(D295/12),2),IF(AND(MONTH(C295)=7,OR(Calculator!$D$6=\"Retired\",D295>=12)),ROUND(E295*0.015,2),0))","v":{"$error":"#VALUE!"}},{"$error":"#VALUE!"},null,{"$error":"#VALUE!"},"2042-04-01",{"$error":"#VALUE!"},{"$error":"#VALUE!"},{"$error":"#VALUE!"},{"$error":"#VALUE!"},null,{"$error":"#VALUE!"},"2042-04-01",{"$error":"#VALUE!"},{"$error":"#VALUE!"},{"$f":"0","v":0},{"$error":"#VALUE!"}]
[null,{"$error":"#VALUE!"},"2042-05-01",{"$error":"#VALUE!"},{"$error":"#VALUE!"},{"$f":"IF(AND(Calculator!$D$6=\"Active\",MONTH(C296)=7,D296<12),ROUND(E296*0.015*(D296/12),2),IF(AND(MONTH(C296)=7,OR(Calculator!$D$6=\"Retired\",D296>=12)),ROUND(E296*0.015,2),0))","v":{"$error":"#VALUE!"}},{"$error":"#VALUE!"},null,{"$error":"#VALUE!"},"2042-05-01",{"$error":"#VALUE!"},{"$error":"#VALUE!"},{"$error":"#VALUE!"},{"$error":"#VALUE!"},null,{"$error":"#VALUE!"},"2042-05-01",{"$error":"#VALUE!"},{"$error":"#VALUE!"},{"$f":"0","v":0},{"$error":"#VALUE!"}]
[null,{"$error":"#VALUE!"},"2042-06-01",{"$error":"#VALUE!"},{"$error":"#VALUE!"},{"$f":"IF(AND(Calculator!$D$6=\"Active\",MONTH(C297)=7,D297<12),ROUND(E297*0.015*(D297/12),2),IF(AND(MONTH(C297)=7,OR(Calculator!$D$6=\"Retired\",D297>=12)),ROUND(E297*0.015,2),0))","v":{"$error":"#VALUE!"}},{"$error":"#VALUE!"},null,{"$error":"#VALUE!"},"2042-06-01",{"$error":"#VALUE!"},{"$error":"#VALUE!"},{"$error":"#VALUE!"},{"$error":"#VALUE!"},null,{"$error":"#VALUE!"},"2042-06-01",{"$error":"#VALUE!"},{"$error":"#VALUE!"},{"$f":"0","v":0},{"$error":"#VALUE!"}]
[null,{"$error":"#VALUE!"},"2042-07-01",{"$error":"#VALUE!"},{"$error":"#VALUE!"},{"$f":"IF(AND(Calculator!$D$6=\"Active\",MONTH(C298)=7,D298<12),ROUND(E298*0.015*(D298/12),2),IF(AND(MONTH(C298)=7,OR(Calculator!$D$6=\"Retired\",D298>=12)),ROUND(E298*0.015,2),0))","v":{"$error":"#VALUE!"}},{"$error":"#VALUE!"},null,{"$error":"#VALUE!"},"2042-07-01",{"$error":"#VALUE!"},{"$error":"#VALUE!"},{"$error":"#VALUE!"},{"$error":"#VALUE!"},null,{"$error":"#VALUE!"},"2042-07-01",{"$error":"#VALUE!"},{"$error":"#VALUE!"},{"$f":"0","v":0},{"$error":"#VALUE!"}]
[null,{"$error":"#VALUE!"},"2042-08-01",{"$error":"#VALUE!"},{"$error":"#VALUE!"},{"$f":"IF(AND(Calculator!$D$6=\"Active\",MONTH(C299)=7,D299<12),ROUND(E299*0.015*(D299/12),2),IF(AND(MONTH(C299)=7,OR(Calculator!$D$6=\"Retired\",D299>=12)),ROUND(E299*0.015,2),0))","v":{"$error":"#VALUE!"}},{"$error":"#VALUE!"},null,{"$error":"#VALUE!"},"2042-08-01",{"$error":"#VALUE!"},{"$error":"#VALUE!"},{"$error":"#VALUE!"},{"$error":"#VALUE!"},null,{"$error":"#VALUE!"},"2042-08-01",{"$error":"#VALUE!"},{"$error":"#VALUE!"},{"$f":"0","v":0},{"$error":"#VALUE!"}]
[null,{"$error":"#VALUE!"},"2042-09-01",{"$error":"#VALUE!"},{"$error":"#VALUE!"},{"$f":"IF(AND(Calculator!$D$6=\"Active\",MONTH(C300)=7,D300<12),ROUND(E300*0.015*(D300/12),2),IF(AND(MONTH(C300)=7,OR(Calculator!$D$6=\"Retired\",D300>=12)),ROUND(E300*0.015,2),0))","v":{"$error":"#VALUE!"}},{"$error":"#VALUE!"},null,{"$error":"#VALUE!"},"2042-09-01",{"$error":"#VALUE!"},{"$error":"#VALUE!"},{"$error":"#VALUE!"},{"$error":"#VALUE!"},null,{"$error":"#VALUE!"},"2042-09-01",{"$error":"#VALUE!"},{"$error":"#VALUE!"},{"$f":"0","v":0},{"$error":"#VALUE!"}]
[null,{"$error":"#VALUE!"},"2042-10-01",{"$error":"#VALUE!"},{"$error":"#VALUE!"},{"$f":"IF(AND(Calculator!$D$6=\"Active\",MONTH(C301)=7,D301<12),ROUND(E301*0.015*(D301/12),2),IF(AND(MONTH(C301)=7,OR(Calculator!$D$6=\"Retired\",D301>=12)),ROUND(E301*0.015,2),0))","v":{"$error":"#VALUE!"}},{"$error":"#VALUE!"},null,{"$error":"#VALUE!"},"2042-10-01",{"$error":"#VALUE!"},{"$error":"#VALUE!"},{"$error":"#VALUE!"},{"$error":"#VALUE!"},null,{"$error":"#VALUE!"},"2042-10-01",{"$error":"#VALUE!"},{"$error":"#VALUE!"},{"$f":"0","v":0},{"$error":"#VALUE!"}]
[null,{"$error":"#VALUE!"},"2042-11-01",{"$error":"#VALUE!"},{"$error":"#VALUE!"},{"$f":"IF(AND(Calculator!$D$6=\"Active\",MONTH(C302)=7,D302<12),ROUND(E302*0.015*(D302/12),2),IF(AND(MONTH(C302)=7,OR(Calculator!$D$6=\"Retired\",D302>=12)),ROUND(E302*0.015,2),0))","v":{"$error":"#VALUE!"}},{"$error":"#VALUE!"},null,{"$error":"#VALUE!"},"2042-11-01",{"$error":"#VALUE!"},{"$error":"#VALUE!"},{"$error":"#VALUE!"},{"$error":"#VALUE!"},null,{"$error":"#VALUE!"},"2042-11-01",{"$error":"#VALUE!"},{"$error":"#VALUE!"},{"$f":"0","v":0},{"$error":"#VALUE!"}]
[null,{"$error":"#VALUE!"},{"$f":"EDATE(C302,1)","v":"2042-12-01"},{"$error":"#VALUE!"},{"$error":"#VALUE!"},{"$f":"IF(AND(Calculator!$D$6=\"Active\",MONTH(C303)=7,D303<12),ROUND(E303*0.015*(D303/12),2),IF(AND(MONTH(C303)=7,OR(Calculator!$D$6=\"Retired\",D303>=12)),ROUND(E303*0.015,2),0))","v":{"$error":"#VALUE!"}},{"$f":"E303+F303","v":{"$error":"#VALUE!"}},null,{"$error":"#VALUE!"},"2042-12-01",{"$error":"#VALUE!"},{"$error":"#VALUE!"},{"$error":"#VALUE!"},{"$error":"#VALUE!"},null,{"$error":"#VALUE!"},"2042-12-01",{"$error":"#VALUE!"},{"$error":"#VALUE!"},{"$f":"0","v":0},{"$error":"#VALUE!"}]
[null,{"$error":"#VALUE!"},"2043-01-01",{"$error":"#VALUE!"},{"$error":"#VALUE!"},{"$f":"IF(AND(Calculator!$D$6=\"Active\",MONTH(C304)=7,D304<12),ROUND(E304*0.015*(D304/12),2),IF(AND(MONTH(C304)=7,OR(Calculator!$D$6=\"Retired\",D304>=12)),ROUND(E304*0.015,2),0))","v":{"$error":"#VALUE!"}},{"$error":"#VALUE!"},null,{"$error":"#VALUE!"},"2043-01-01",{"$error":"#VALUE!"},{"$error":"#VALUE!"},{"$error":"#VALUE!"},{"$error":"#VALUE!"},null,{"$error":"#VALUE!"},"2043-01-01",{"$error":"#VALUE!"},{"$error":"#VALUE!"},{"$f":"0","v":0},{"$error":"#VALUE!"}]
[null,{"$error":"#VALUE!"},"2043-02-01",{"$error":"#VALUE!"},{"$error":"#VALUE!"},{"$f":"IF(AND(Calculator!$D$6=\"Active\",MONTH(C305)=7,D305<12),ROUND(E305*0.015*(D305/12),2),IF(AND(MONTH(C305)=7,OR(Calculator!$D$6=\"Retired\",D305>=12)),ROUND(E305*0.015,2),0))","v":{"$error":"#VALUE!"}},{"$error":"#VALUE!"},null,{"$error":"#VALUE!"},"2043-02-01",{"$error":"#VALUE!"},{"$error":"#VALUE!"},{"$error":"#VALUE!"},{"$error":"#VALUE!"},null,{"$error":"#VALUE!"},"2043-02-01",{"$error":"#VALUE!"},{"$error":"#VALUE!"},{"$f":"0","v":0},{"$error":"#VALUE!"}]
[null,{"$error":"#VALUE!"},"2043-03-01",{"$error":"#VALUE!"},{"$error":"#VALUE!"},{"$f":"IF(AND(Calculator!$D$6=\"Active\",MONTH(C306)=7,D306<12),ROUND(E306*0.015*(D306/12),2),IF(AND(MONTH(C306)=7,OR(Calculator!$D$6=\"Retired\",D306>=12)),ROUND(E306*0.015,2),0))","v":{"$error":"#VALUE!"}},{"$error":"#VALUE!"},null,{"$error":"#VALUE!"},"2043-03-01",{"$error":"#VALUE!"},{"$error":"#VALUE!"},{"$error":"#VALUE!"},{"$error":"#VALUE!"},null,{"$error":"#VALUE!"},"2043-03-01",{"$error":"#VALUE!"},{"$error":"#VALUE!"},{"$f":"0","v":0},{"$error":"#VALUE!"}]
[null,{"$error":"#VALUE!"},"2043-04-01",{"$error":"#VALUE!"},{"$error":"#VALUE!"},{"$f":"IF(AND(Calculator!$D$6=\"Active\",MONTH(C307)=7,D307<12),ROUND(E307*0.015*(D307/12),2),IF(AND(MONTH(C307)=7,OR(Calculator!$D$6=\"Retired\",D307>=12)),ROUND(E307*0.015,2),0))","v":{"$error":"#VALUE!"}},{"$error":"#VALUE!"},null,{"$error":"#VALUE!"},"2043-04-01",{"$error":"#VALUE!"},{"$error":"#VALUE!"},{"$error":"#VALUE!"},{"$error":"#VALUE!"},null,{"$error":"#VALUE!"},"2043-04-01",{"$error":"#VALUE!"},{"$error":"#VALUE!"},{"$f":"0","v":0},{"$error":"#VALUE!"}]
[null,{"$error":"#VALUE!"},"2043-05-01",{"$error":"#VALUE!"},{"$error":"#VALUE!"},{"$f":"IF(AND(Calculator!$D$6=\"Active\",MONTH(C308)=7,D308<12),ROUND(E308*0.015*(D308/12),2),IF(AND(MONTH(C308)=7,OR(Calculator!$D$6=\"Retired\",D308>=12)),ROUND(E308*0.015,2),0))","v":{"$error":"#VALUE!"}},{"$error":"#VALUE!"},null,{"$error":"#VALUE!"},"2043-05-01",{"$error":"#VALUE!"},{"$error":"#VALUE!"},{"$error":"#VALUE!"},{"$error":"#VALUE!"},null,{"$error":"#VALUE!"},"2043-05-01",{"$error":"#VALUE!"},{"$error":"#VALUE!"},{"$f":"0","v":0},{"$error":"#VALUE!"}]
[null,{"$error":"#VALUE!"},"2043-06-01",{"$error":"#VALUE!"},{"$error":"#VALUE!"},{"$f":"IF(AND(Calculator!$D$6=\"Active\",MONTH(C309)=7,D309<12),ROUND(E309*0.015*(D309/12),2),IF(AND(MONTH(C309)=7,OR(Calculator!$D$6=\"Retired\",D309>=12)),ROUND(E309*0.015,2),0))","v":{"$error":"#VALUE!"}},{"$error":"#VALUE!"},null,{"$error":"#VALUE!"},"2043-06-01",{"$error":"#VALUE!"},{"$error":"#VALUE!"},{"$error":"#VALUE!"},{"$error":"#VALUE!"},null,{"$error":"#VALUE!"},"2043-06-01",{"$error":"#VALUE!"},{"$error":"#VALUE!"},{"$f":"0","v":0},{"$error":"#VALUE!"}]
[null,{"$error":"#VALUE!"},"2043-07-01",{"$error":"#VALUE!"},{"$error":"#VALUE!"},{"$f":"IF(AND(Calculator!$D$6=\"Active\",MONTH(C310)=7,D310<12),ROUND(E310*0.015*(D310/12),2),IF(AND(MONTH(C310)=7,OR(Calculator!$D$6=\"Retired\",D310>=12)),ROUND(E310*0.015,2),0))","v":{"$error":"#VALUE!"}},{"$error":"#VALUE!"},null,{"$error":"#VALUE!"},"2043-07-01",{"$error":"#VALUE!"},{"$error":"#VALUE!"},{"$error":"#VALUE!"},{"$error":"#VALUE!"},null,{"$error":"#VALUE!"},"2043-07-01",{"$error":"#VALUE!"},{"$error":"#VALUE!"},{"$f":"0","v":0},{"$error":"#VALUE!"}]
[null,{"$error":"#VALUE!"},"2043-08-01",{"$error":"#VALUE!"},{"$error":"#VALUE!"},{"$f":"IF(AND(Calculator!$D$6=\"Active\",MONTH(C311)=7,D311<12),ROUND(E311*0.015*(D311/12),2),IF(AND(MONTH(C311)=7,OR(Calculator!$D$6=\"Retired\",D311>=12)),ROUND(E311*0.015,2),0))","v":{"$error":"#VALUE!"}},{"$error":"#VALUE!"},null,{"$error":"#VALUE!"},"2043-08-01",{"$error":"#VALUE!"},{"$error":"#VALUE!"},{"$error":"#VALUE!"},{"$error":"#VALUE!"},null,{"$error":"#VALUE!"},"2043-08-01",{"$error":"#VALUE!"},{"$error":"#VALUE!"},{"$f":"0","v":0},{"$error":"#VALUE!"}]
[null,{"$error":"#VALUE!"},"2043-09-01",{"$error":"#VALUE!"},{"$error":"#VALUE!"},{"$f":"IF(AND(Calculator!$D$6=\"Active\",MONTH(C312)=7,D312<12),ROUND(E312*0.015*(D312/12),2),IF(AND(MONTH(C312)=7,OR(Calculator!$D$6=\"Retired\",D312>=12)),ROUND(E312*0.015,2),0))","v":{"$error":"#VALUE!"}},{"$error":"#VALUE!"},null,{"$error":"#VALUE!"},"2043-09-01",{"$error":"#VALUE!"},{"$error":"#VALUE!"},{"$error":"#VALUE!"},{"$error":"#VALUE!"},null,{"$error":"#VALUE!"},"2043-09-01",{"$error":"#VALUE!"},{"$error":"#VALUE!"},{"$f":"0","v":0},{"$error":"#VALUE!"}]
[null,{"$error":"#VALUE!"},"2043-10-01",{"$error":"#VALUE!"},{"$error":"#VALUE!"},{"$f":"IF(AND(Calculator!$D$6=\"Active\",MONTH(C313)=7,D313<12),ROUND(E313*0.015*(D313/12),2),IF(AND(MONTH(C313)=7,OR(Calculator!$D$6=\"Retired\",D313>=12)),ROUND(E313*0.015,2),0))","v":{"$error":"#VALUE!"}},{"$error":"#VALUE!"},null,{"$error":"#VALUE!"},"2043-10-01",{"$error":"#VALUE!"},{"$error":"#VALUE!"},{"$error":"#VALUE!"},{"$error":"#VALUE!"},null,{"$error":"#VALUE!"},"2043-10-01",{"$error":"#VALUE!"},{"$error":"#VALUE!"},{"$f":"0","v":0},{"$error":"#VALUE!"}]
[null,{"$error":"#VALUE!"},"2043-11-01",{"$error":"#VALUE!"},{"$error":"#VALUE!"},{"$f":"IF(AND(Calculator!$D$6=\"Active\",MONTH(C314)=7,D314<12),ROUND(E314*0.015*(D314/12),2),IF(AND(MONTH(C314)=7,OR(Calculator!$D$6=\"Retired\",D314>=12)),ROUND(E314*0.015,2),0))","v":{"$error":"#VALUE!"}},{"$error":"#VALUE!"},null,{"$error":"#VALUE!"},"2043-11-01",{"$error":"#VALUE!"},{"$error":"#VALUE!"},{"$error":"#VALUE!"},{"$error":"#VALUE!"},null,{"$error":"#VALUE!"},"2043-11-01",{"$error":"#VALUE!"},{"$error":"#VALUE!"},{"$f":"0","v":0},{"$error":"#VALUE!"}]
[null,{"$error":"#VALUE!"},"2043-12-01",{"$error":"#VALUE!"},{"$error":"#VALUE!"},{"$f":"IF(AND(Calculator!$D$6=\"Active\",MONTH(C315)=7,D315<12),ROUND(E315*0.015*(D315/12),2),IF(AND(MONTH(C315)=7,OR(Calculator!$D$6=\"Retired\",D315>=12)),ROUND(E315*0.015,2),0))","v":{"$error":"#VALUE!"}},{"$error":"#VALUE!"},null,{"$error":"#VALUE!"},"2043-12-01",{"$error":"#VALUE!"},{"$error":"#VALUE!"},{"$error":"#VALUE!"},{"$error":"#VALUE!"},null,{"$error":"#VALUE!"},"2043-12-01",{"$error":"#VALUE!"},{"$error":"#VALUE!"},{"$f":"0","v":0},{"$error":"#VALUE!"}]
[null,{"$error":"#VALUE!"},"2044-01-01",{"$error":"#VALUE!"},{"$error":"#VALUE!"},{"$f":"IF(AND(Calculator!$D$6=\"Active\",MONTH(C316)=7,D316<12),ROUND(E316*0.015*(D316/12),2),IF(AND(MONTH(C316)=7,OR(Calculator!$D$6=\"Retired\",D316>=12)),ROUND(E316*0.015,2),0))","v":{"$error":"#VALUE!"}},{"$error":"#VALUE!"},null,{"$error":"#VALUE!"},"2044-01-01",{"$error":"#VALUE!"},{"$error":"#VALUE!"},{"$error":"#VALUE!"},{"$error":"#VALUE!"},null,{"$error":"#VALUE!"},"2044-01-01",{"$error":"#VALUE!"},{"$error":"#VALUE!"},{"$f":"0","v":0},{"$error":"#VALUE!"}]
[null,{"$error":"#VALUE!"},"2044-02-01",{"$error":"#VALUE!"},{"$error":"#VALUE!"},{"$f":"IF(AND(Calculator!$D$6=\"Active\",MONTH(C317)=7,D317<12),ROUND(E317*0.015*(D317/12),2),IF(AND(MONTH(C317)=7,OR(Calculator!$D$6=\"Retired\",D317>=12)),ROUND(E317*0.015,2),0))","v":{"$error":"#VALUE!"}},{"$error":"#VALUE!"},null,{"$error":"#VALUE!"},"2044-02-01",{"$error":"#VALUE!"},{"$error":"#VALUE!"},{"$error":"#VALUE!"},{"$error":"#VALUE!"},null,{"$error":"#VALUE!"},"2044-02-01",{"$error":"#VALUE!"},{"$error":"#VALUE!"},{"$f":"0","v":0},{"$error":"#VALUE!"}]
[null,{"$error":"#VALUE!"},"2044-03-01",{"$error":"#VALUE!"},{"$error":"#VALUE!"},{"$f":"IF(AND(Calculator!$D$6=\"Active\",MONTH(C318)=7,D318<12),ROUND(E318*0.015*(D318/12),2),IF(AND(MONTH(C318)=7,OR(Calculator!$D$6=\"Retired\",D318>=12)),ROUND(E318*0.015,2),0))","v":{"$error":"#VALUE!"}},{"$error":"#VALUE!"},null,{"$error":"#VALUE!"},"2044-03-01",{"$error":"#VALUE!"},{"$error":"#VALUE!"},{"$error":"#VALUE!"},{"$error":"#VALUE!"},null,{"$error":"#VALUE!"},"2044-03-01",{"$error":"#VALUE!"},{"$error":"#VALUE!"},{"$f":"0","v":0},{"$error":"#VALUE!"}]
[null,{"$error":"#VALUE!"},"2044-04-01",{"$error":"#VALUE!"},{"$error":"#VALUE!"},{"$f":"IF(AND(Calculator!$D$6=\"Active\",MONTH(C319)=7,D319<12),ROUND(E319*0.015*(D319/12),2),IF(AND(MONTH(C319)=7,OR(Calculator!$D$6=\"Retired\",D319>=12)),ROUND(E319*0.015,2),0))","v":{"$error":"#VALUE!"}},{"$error":"#VALUE!"},null,{"$error":"#VALUE!"},"2044-04-01",{"$error":"#VALUE!"},{"$error":"#VALUE!"},{"$error":"#VALUE!"},{"$error":"#VALUE!"},null,{"$error":"#VALUE!"},"2044-04-01",{"$error":"#VALUE!"},{"$error":"#VALUE!"},{"$f":"0","v":0},{"$error":"#VALUE!"}]
[null,{"$error":"#VALUE!"},"2044-05-01",{"$error":"#VALUE!"},{"$error":"#VALUE!"},{"$f":"IF(AND(Calculator!$D$6=\"Active\",MONTH(C320)=7,D320<12),ROUND(E320*0.015*(D320/12),2),IF(AND(MONTH(C320)=7,OR(Calculator!$D$6=\"Retired\",D320>=12)),ROUND(E320*0.015,2),0))","v":{"$error":"#VALUE!"}},{"$error":"#VALUE!"},null,{"$error":"#VALUE!"},"2044-05-01",{"$error":"#VALUE!"},{"$error":"#VALUE!"},{"$f":"IF(AND(MONTH(J320)=7,K320>61),ROUND(L320*0.015,2),0)","v":{"$error":"#VALUE!"}},{"$error":"#VALUE!"},null,{"$error":"#VALUE!"},"2044-05-01",{"$error":"#VALUE!"},{"$error":"#VALUE!"},{"$f":"0","v":0},{"$error":"#VALUE!"}]
[null,{"$error":"#VALUE!"},"2044-06-01",{"$error":"#VALUE!"},{"$error":"#VALUE!"},{"$f":"IF(AND(Calculator!$D$6=\"Active\",MONTH(C321)=7,D321<12),ROUND(E321*0.015*(D321/12),2),IF(AND(MONTH(C321)=7,OR(Calculator!$D$6=\"Retired\",D321>=12)),ROUND(E321*0.015,2),0))","v":{"$error":"#VALUE!"}},{"$error":"#VALUE!"},null,{"$error":"#VALUE!"},"2044-06-01",{"$error":"#VALUE!"},{"$error":"#VALUE!"},{"$error":"#VALUE!"},{"$error":"#VALUE!"},null,{"$error":"#VALUE!"},"2044-06-01",{"$error":"#VALUE!"},{"$error":"#VALUE!"},{"$f":"0","v":0},{"$error":"#VALUE!"}]
[null,{"$error":"#VALUE!"},"2044-07-01",{"$error":"#VALUE!"},{"$error":"#VALUE!"},{"$f":"IF(AND(Calculator!$D$6=\"Active\",MONTH(C322)=7,D322<12),ROUND(E322*0.015*(D322/12),2),IF(AND(MONTH(C322)=7,OR(Calculator!$D$6=\"Retired\",D322>=12)),ROUND(E322*0.015,2),0))","v":{"$error":"#VALUE!"}},{"$error":"#VALUE!"},null,{"$error":"#VALUE!"},"2044-07-01",{"$error":"#VALUE!"},{"$error":"#VALUE!"},{"$error":"#VALUE!"},{"$error":"#VALUE!"},null,{"$error":"#VALUE!"},"2044-07-01",{"$error":"#VALUE!"},{"$error":"#VALUE!"},{"$f":"0","v":0},{"$error":"#VALUE!"}]
[null,{"$error":"#VALUE!"},"2044-08-01",{"$error":"#VALUE!"},{"$error":"#VALUE!"},{"$f":"IF(AND(Calculator!$D$6=\"Active\",MONTH(C323)=7,D323<12),ROUND(E323*0.015*(D323/12),2),IF(AND(MONTH(C323)=7,OR(Calculator!$D$6=\"Retired\",D323>=12)),ROUND(E323*0.015,2),0))","v":{"$error":"#VALUE!"}},{"$error":"#VALUE!"},null,{"$error":"#VALUE!"},"2044-08-01",{"$error":"#VALUE!"},{"$error":"#VALUE!"},{"$error":"#VALUE!"},{"$error":"#VALUE!"},null,{"$error":"#VALUE!"},"2044-08-01",{"$error":"#VALUE!"},{"$error":"#VALUE!"},{"$f":"0","v":0},{"$error":"#VALUE!"}]
[null,{"$f":"IF(MONTH(DoB)=MONTH(C323),B323+1,B323)","v":{"$error":"#VALUE!"}},"2044-09-01",{"$f":"IF(B324>=VLOOKUP(Age_at_Retirement,Life_Expectancy_Table,3,FALSE),\"\",(D323+1))","v":{"$error":"#VALUE!"}},{"$error":"#VALUE!"},{"$f":"IF(AND(Calculator!$D$6=\"Active\",MONTH(C324)=7,D324<12),ROUND(E324*0.015*(D324/12),2),IF(AND(MONTH(C324)=7,OR(Calculator!$D$6=\"Retired\",D324>=12)),ROUND(E324*0.015,2),0))","v":{"$error":"#VALUE!"}},{"$error":"#VALUE!"},null,{"$f":"IF(MONTH(DoB)=MONTH(J323),I323+1,I323)","v":{"$error":"#VALUE!"}},"2044-09-01",{"$f":"IF(I324>=VLOOKUP(Age_at_Retirement,Life_Expectancy_Table,3,FALSE),\"\",(K323+1))","v":{"$error":"#VALUE!"}},{"$error":"#VALUE!"},{"$error":"#VALUE!"},{"$error":"#VALUE!"},null,{"$f":"IF(MONTH(DoB)=MONTH(Q323),P323+1,P323)","v":{"$error":"#VALUE!"}},"2044-09-01",{"$f":"IF(P324>=VLOOKUP(Age_at_Retirement,Life_Expectancy_Table,3,FALSE),\"\",(R323+1))","v":{"$error":"#VALUE!"}},{"$error":"#VALUE!"},{"$f":"0","v":0},{"$error":"#VALUE!"}]
[null,{"$error":"#VALUE!"},"2044-10-01",{"$error":"#VALUE!"},{"$f":"IF(D325=\"\",0,G324)","v":{"$error":"#VALUE!"}},{"$f":"IF(AND(Calculator!$D$6=\"Active\",MONTH(C325)=7,D325<12),ROUND(E325*0.015*(D325/12),2),IF(AND(MONTH(C325)=7,OR(Calculator!$D$6=\"Retired\",D325>=12)),ROUND(E325*0.015,2),0))","v":{"$error":"#VALUE!"}},{"$error":"#VALUE!"},null,{"$error":"#VALUE!"},"2044-10-01",{"$error":"#VALUE!"},{"$f":"IF(K325=\"\",0,N324)","v":{"$error":"#VALUE!"}},{"$error":"#VALUE!"},{"$f":"L325+M325","v":{"$error":"#VALUE!"}},null,{"$error":"#VALUE!"},"2044-10-01",{"$error":"#VALUE!"},{"$f":"IF(R325=\"\",0,U324)","v":{"$error":"#VALUE!"}},{"$f":"0","v":0},{"$f":"S325+T325","v":{"$error":"#VALUE!"}}]
[null,{"$error":"#VALUE!"},"2044-11-01",{"$error":"#VALUE!"},{"$error":"#VALUE!"},{"$f":"IF(AND(Calculator!$D$6=\"Active\",MONTH(C326)=7,D326<12),ROUND(E326*0.015*(D326/12),2),IF(AND(MONTH(C326)=7,OR(Calculator!$D$6=\"Retired\",D326>=12)),ROUND(E326*0.015,2),0))","v":{"$error":"#VALUE!"}},{"$error":"#VALUE!"},null,{"$error":"#VALUE!"},{"$f":"EDATE(J325,1)","v":"2044-11-01"},{"$error":"#VALUE!"},{"$error":"#VALUE!"},{"$error":"#VALUE!"},{"$error":"#VALUE!"},null,{"$error":"#VALUE!"},{"$f":"EDATE(Q325,1)","v":"2044-11-01"},{"$error":"#VALUE!"},{"$error":"#VALUE!"},{"$f":"0","v":0},{"$error":"#VALUE!"}]
[null,{"$error":"#VALUE!"},"2044-12-01",{"$error":"#VALUE!"},{"$error":"#VALUE!"},{"$f":"IF(AND(Calculator!$D$6=\"Active\",MONTH(C327)=7,D327<12),ROUND(E327*0.015*(D327/12),2),IF(AND(MONTH(C327)=7,OR(Calculator!$D$6=\"Retired\",D327>=12)),ROUND(E327*0.015,2),0))","v":{"$error":"#VALUE!"}},{"$error":"#VALUE!"},null,{"$error":"#VALUE!"},"2044-12-01",{"$error":"#VALUE!"},{"$error":"#VALUE!"},{"$error":"#VALUE!"},{"$error":"#VALUE!"},null,{"$error":"#VALUE!"},"2044-12-01",{"$error":"#VALUE!"},{"$error":"#VALUE!"},{"$f":"0","v":0},{"$error":"#VALUE!"}]
[null,{"$error":"#VALUE!"},"2045-01-01",{"$error":"#VALUE!"},{"$error":"#VALUE!"},{"$f":"IF(AND(Calculator!$D$6=\"Active\",MONTH(C328)=7,D328<12),ROUND(E328*0.015*(D328/12),2),IF(AND(MONTH(C328)=7,OR(Calculator!$D$6=\"Retired\",D328>=12)),ROUND(E328*0.015,2),0))","v":{"$error":"#VALUE!"}},{"$error":"#VALUE!"},null,{"$error":"#VALUE!"},"2045-01-01",{"$error":"#VALUE!"},{"$error":"#VALUE!"},{"$error":"#VALUE!"},{"$error":"#VALUE!"},null,{"$error":"#VALUE!"},"2045-01-01",{"$error":"#VALUE!"},{"$error":"#VALUE!"},{"$f":"0","v":0},{"$error":"#VALUE!"}]
[null,{"$error":"#VALUE!"},"2045-02-01",{"$error":"#VALUE!"},{"$error":"#VALUE!"},{"$f":"IF(AND(Calculator!$D$6=\"Active\",MONTH(C329)=7,D329<12),ROUND(E329*0.015*(D329/12),2),IF(AND(MONTH(C329)=7,OR(Calculator!$D$6=\"Retired\",D329>=12)),ROUND(E329*0.015,2),0))","v":{"$error":"#VALUE!"}},{"$error":"#VALUE!"},null,{"$error":"#VALUE!"},"2045-02-01",{"$error":"#VALUE!"},{"$error":"#VALUE!"},{"$error":"#VALUE!"},{"$error":"#VALUE!"},null,{"$error":"#VALUE!"},"2045-02-01",{"$error":"#VALUE!"},{"$error":"#VALUE!"},{"$f":"0","v":0},{"$error":"#VALUE!"}]
[null,{"$error":"#VALUE!"},"2045-03-01",{"$error":"#VALUE!"},{"$error":"#VALUE!"},{"$f":"IF(AND(Calculator!$D$6=\"Active\",MONTH(C330)=7,D330<12),ROUND(E330*0.015*(D330/12),2),IF(AND(MONTH(C330)=7,OR(Calculator!$D$6=\"Retired\",D330>=12)),ROUND(E330*0.015,2),0))","v":{"$error":"#VALUE!"}},{"$error":"#VALUE!"},null,{"$error":"#VALUE!"},"2045-03-01",{"$error":"#VALUE!"},{"$error":"#VALUE!"},{"$error":"#VALUE!"},{"$error":"#VALUE!"},null,{"$error":"#VALUE!"},"2045-03-01",{"$error":"#VALUE!"},{"$error":"#VALUE!"},{"$f":"0","v":0},{"$error":"#VALUE!"}]
[null,{"$error":"#VALUE!"},"2045-04-01",{"$error":"#VALUE!"},{"$error":"#VALUE!"},{"$f":"IF(AND(Calculator!$D$6=\"Active\",MONTH(C331)=7,D331<12),ROUND(E331*0.015*(D331/12),2),IF(AND(MONTH(C331)=7,OR(Calculator!$D$6=\"Retired\",D331>=12)),ROUND(E331*0.015,2),0))","v":{"$error":"#VALUE!"}},{"$error":"#VALUE!"},null,{"$error":"#VALUE!"},"2045-04-01",{"$error":"#VALUE!"},{"$error":"#VALUE!"},{"$error":"#VALUE!"},{"$error":"#VALUE!"},null,{"$error":"#VALUE!"},"2045-04-01",{"$error":"#VALUE!"},{"$error":"#VALUE!"},{"$f":"0","v":0},{"$error":"#VALUE!"}]
[null,{"$error":"#VALUE!"},"2045-05-01",{"$error":"#VALUE!"},{"$error":"#VALUE!"},{"$f":"IF(AND(Calculator!$D$6=\"Active\",MONTH(C332)=7,D332<12),ROUND(E332*0.015*(D332/12),2),IF(AND(MONTH(C332)=7,OR(Calculator!$D$6=\"Retired\",D332>=12)),ROUND(E332*0.015,2),0))","v":{"$error":"#VALUE!"}},{"$error":"#VALUE!"},null,{"$error":"#VALUE!"},"2045-05-01",{"$error":"#VALUE!"},{"$error":"#VALUE!"},{"$error":"#VALUE!"},{"$error":"#VALUE!"},null,{"$error":"#VALUE!"},"2045-05-01",{"$error":"#VALUE!"},{"$error":"#VALUE!"},{"$f":"0","v":0},{"$error":"#VALUE!"}]
[null,{"$error":"#VALUE!"},"2045-06-01",{"$error":"#VALUE!"},{"$error":"#VALUE!"},{"$f":"IF(AND(Calculator!$D$6=\"Active\",MONTH(C333)=7,D333<12),ROUND(E333*0.015*(D333/12),2),IF(AND(MONTH(C333)=7,OR(Calculator!$D$6=\"Retired\",D333>=12)),ROUND(E333*0.015,2),0))","v":{"$error":"#VALUE!"}},{"$error":"#VALUE!"},null,{"$error":"#VALUE!"},"2045-06-01",{"$error":"#VALUE!"},{"$error":"#VALUE!"},{"$error":"#VALUE!"},{"$error":"#VALUE!"},null,{"$error":"#VALUE!"},"2045-06-01",{"$error":"#VALUE!"},{"$error":"#VALUE!"},{"$f":"0","v":0},{"$error":"#VALUE!"}]
[null,{"$error":"#VALUE!"},"2045-07-01",{"$error":"#VALUE!"},{"$error":"#VALUE!"},{"$f":"IF(AND(Calculator!$D$6=\"Active\",MONTH(C334)=7,D334<12),ROUND(E334*0.015*(D334/12),2),IF(AND(MONTH(C334)=7,OR(Calculator!$D$6=\"Retired\",D334>=12)),ROUND(E334*0.015,2),0))","v":{"$error":"#VALUE!"}},{"$error":"#VALUE!"},null,{"$error":"#VALUE!"},"2045-07-01",{"$error":"#VALUE!"},{"$error":"#VALUE!"},{"$error":"#VALUE!"},{"$error":"#VALUE!"},null,{"$error":"#VALUE!"},"2045-07-01",{"$error":"#VALUE!"},{"$error":"#VALUE!"},{"$f":"0","v":0},{"$error":"#VALUE!"}]
[null,{"$error":"#VALUE!"},"2045-08-01",{"$error":"#VALUE!"},{"$error":"#VALUE!"},{"$f":"IF(AND(Calculator!$D$6=\"Active\",MONTH(C335)=7,D335<12),ROUND(E335*0.015*(D335/12),2),IF(AND(MONTH(C335)=7,OR(Calculator!$D$6=\"Retired\",D335>=12)),ROUND(E335*0.015,2),0))","v":{"$error":"#VALUE!"}},{"$error":"#VALUE!"},null,{"$error":"#VALUE!"},"2045-08-01",{"$error":"#VALUE!"},{"$error":"#VALUE!"},{"$error":"#VALUE!"},{"$error":"#VALUE!"},null,{"$error":"#VALUE!"},"2045-08-01",{"$error":"#VALUE!"},{"$error":"#VALUE!"},{"$f":"0","v":0},{"$error":"#VALUE!"}]
[null,{"$error":"#VALUE!"},"2045-09-01",{"$error":"#VALUE!"},{"$error":"#VALUE!"},{"$f":"IF(AND(Calculator!$D$6=\"Active\",MONTH(C336)=7,D336<12),ROUND(E336*0.015*(D336/12),2),IF(AND(MONTH(C336)=7,OR(Calculator!$D$6=\"Retired\",D336>=12)),ROUND(E336*0.015,2),0))","v":{"$error":"#VALUE!"}},{"$error":"#VALUE!"},null,{"$error":"#VALUE!"},"2045-09-01",{"$error":"#VALUE!"},{"$error":"#VALUE!"},{"$error":"#VALUE!"},{"$error":"#VALUE!"},null,{"$error":"#VALUE!"},"2045-09-01",{"$error":"#VALUE!"},{"$error":"#VALUE!"},{"$f":"0","v":0},{"$error":"#VALUE!"}]
[null,{"$error":"#VALUE!"},"2045-10-01",{"$error":"#VALUE!"},{"$error":"#VALUE!"},{"$f":"IF(AND(Calculator!$D$6=\"Active\",MONTH(C337)=7,D337<12),ROUND(E337*0.015*(D337/12),2),IF(AND(MONTH(C337)=7,OR(Calculator!$D$6=\"Retired\",D337>=12)),ROUND(E337*0.015,2),0))","v":{"$error":"#VALUE!"}},{"$error":"#VALUE!"},null,{"$error":"#VALUE!"},"2045-10-01",{"$error":"#VALUE!"},{"$error":"#VALUE!"},{"$error":"#VALUE!"},{"$error":"#VALUE!"},null,{"$error":"#VALUE!"},"2045-10-01",{"$error":"#VALUE!"},{"$error":"#VALUE!"},{"$f":"0","v":0},{"$error":"#VALUE!"}]
[null,{"$error":"#VALUE!"},"2045-11-01",{"$error":"#VALUE!"},{"$error":"#VALUE!"},{"$f":"IF(AND(Calculator!$D$6=\"Active\",MONTH(C338)=7,D338<12),ROUND(E338*0.015*(D338/12),2),IF(AND(MONTH(C338)=7,OR(Calculator!$D$6=\"Retired\",D338>=12)),ROUND(E338*0.015,2),0))","v":{"$error":"#VALUE!"}},{"$error":"#VALUE!"},null,{"$error":"#VALUE!"},"2045-11-01",{"$error":"#VALUE!"},{"$error":"#VALUE!"},{"$error":"#VALUE!"},{"$error":"#VALUE!"},null,{"$error":"#VALUE!"},"2045-11-01",{"$error":"#VALUE!"},{"$error":"#VALUE!"},{"$f":"0","v":0},{"$error":"#VALUE!"}]
[null,{"$error":"#VALUE!"},"2045-12-01",{"$error":"#VALUE!"},{"$error":"#VALUE!"},{"$f":"IF(AND(Calculator!$D$6=\"Active\",MONTH(C339)=7,D339<12),ROUND(E339*0.015*(D339/12),2),IF(AND(MONTH(C339)=7,OR(Calculator!$D$6=\"Retired\",D339>=12)),ROUND(E339*0.015,2),0))","v":{"$error":"#VALUE!"}},{"$error":"#VALUE!"},null,{"$error":"#VALUE!"},"2045-12-01",{"$error":"#VALUE!"},{"$error":"#VALUE!"},{"$error":"#VALUE!"},{"$error":"#VALUE!"},null,{"$error":"#VALUE!"},"2045-12-01",{"$error":"#VALUE!"},{"$error":"#VALUE!"},{"$f":"0","v":0},{"$error":"#VALUE!"}]
[null,{"$error":"#VALUE!"},"2046-01-01",{"$error":"#VALUE!"},{"$error":"#VALUE!"},{"$f":"IF(AND(Calculator!$D$6=\"Active\",MONTH(C340)=7,D340<12),ROUND(E340*0.015*(D340/12),2),IF(AND(MONTH(C340)=7,OR(Calculator!$D$6=\"Retired\",D340>=12)),ROUND(E340*0.015,2),0))","v":{"$error":"#VALUE!"}},{"$error":"#VALUE!"},null,{"$error":"#VALUE!"},"2046-01-01",{"$error":"#VALUE!"},{"$error":"#VALUE!"},{"$error":"#VALUE!"},{"$error":"#VALUE!"},null,{"$error":"#VALUE!"},"2046-01-01",{"$error":"#VALUE!"},{"$error":"#VALUE!"},{"$f":"0","v":0},{"$error":"#VALUE!"}]
[null,{"$error":"#VALUE!"},"2046-02-01",{"$error":"#VALUE!"},{"$error":"#VALUE!"},{"$f":"IF(AND(Calculator!$D$6=\"Active\",MONTH(C341)=7,D341<12),ROUND(E341*0.015*(D341/12),2),IF(AND(MONTH(C341)=7,OR(Calculator!$D$6=\"Retired\",D341>=12)),ROUND(E341*0.015,2),0))","v":{"$error":"#VALUE!"}},{"$error":"#VALUE!"},null,{"$error":"#VALUE!"},"2046-02-01",{"$error":"#VALUE!"},{"$error":"#VALUE!"},{"$error":"#VALUE!"},{"$error":"#VALUE!"},null,{"$error":"#VALUE!"},"2046-02-01",{"$error":"#VALUE!"},{"$error":"#VALUE!"},{"$f":"0","v":0},{"$error":"#VALUE!"}]
[null,{"$error":"#VALUE!"},"2046-03-01",{"$error":"#VALUE!"},{"$error":"#VALUE!"},{"$f":"IF(AND(Calculator!$D$6=\"Active\",MONTH(C342)=7,D342<12),ROUND(E342*0.015*(D342/12),2),IF(AND(MONTH(C342)=7,OR(Calculator!$D$6=\"Retired\",D342>=12)),ROUND(E342*0.015,2),0))","v":{"$error":"#VALUE!"}},{"$error":"#VALUE!"},null,{"$error":"#VALUE!"},"2046-03-01",{"$error":"#VALUE!"},{"$error":"#VALUE!"},{"$error":"#VALUE!"},{"$error":"#VALUE!"},null,{"$error":"#VALUE!"},"2046-03-01",{"$error":"#VALUE!"},{"$error":"#VALUE!"},{"$f":"0","v":0},{"$error":"#VALUE!"}]
[null,{"$error":"#VALUE!"},"2046-04-01",{"$error":"#VALUE!"},{"$error":"#VALUE!"},{"$f":"IF(AND(Calculator!$D$6=\"Active\",MONTH(C343)=7,D343<12),ROUND(E343*0.015*(D343/12),2),IF(AND(MONTH(C343)=7,OR(Calculator!$D$6=\"Retired\",D343>=12)),ROUND(E343*0.015,2),0))","v":{"$error":"#VALUE!"}},{"$error":"#VALUE!"},null,{"$error":"#VALUE!"},"2046-04-01",{"$error":"#VALUE!"},{"$error":"#VALUE!"},{"$error":"#VALUE!"},{"$error":"#VALUE!"},null,{"$error":"#VALUE!"},"2046-04-01",{"$error":"#VALUE!"},{"$error":"#VALUE!"},{"$f":"0","v":0},{"$error":"#VALUE!"}]
[null,{"$error":"#VALUE!"},"2046-05-01",{"$error":"#VALUE!"},{"$error":"#VALUE!"},{"$f":"IF(AND(Calculator!$D$6=\"Active\",MONTH(C344)=7,D344<12),ROUND(E344*0.015*(D344/12),2),IF(AND(MONTH(C344)=7,OR(Calculator!$D$6=\"Retired\",D344>=12)),ROUND(E344*0.015,2),0))","v":{"$error":"#VALUE!"}},{"$error":"#VALUE!"},null,{"$error":"#VALUE!"},"2046-05-01",{"$error":"#VALUE!"},{"$error":"#VALUE!"},{"$error":"#VALUE!"},{"$error":"#VALUE!"},null,{"$error":"#VALUE!"},"2046-05-01",{"$error":"#VALUE!"},{"$error":"#VALUE!"},{"$f":"0","v":0},{"$error":"#VALUE!"}]
[null,{"$error":"#VALUE!"},"2046-06-01",{"$error":"#VALUE!"},{"$error":"#VALUE!"},{"$f":"IF(AND(Calculator!$D$6=\"Active\",MONTH(C345)=7,D345<12),ROUND(E345*0.015*(D345/12),2),IF(AND(MONTH(C345)=7,OR(Calculator!$D$6=\"Retired\",D345>=12)),ROUND(E345*0.015,2),0))","v":{"$error":"#VALUE!"}},{"$error":"#VALUE!"},null,{"$error":"#VALUE!"},"2046-06-01",{"$error":"#VALUE!"},{"$error":"#VALUE!"},{"$error":"#VALUE!"},{"$error":"#VALUE!"},null,{"$error":"#VALUE!"},"2046-06-01",{"$error":"#VALUE!"},{"$error":"#VALUE!"},{"$f":"0","v":0},{"$error":"#VALUE!"}]
[null,{"$error":"#VALUE!"},"2046-07-01",{"$error":"#VALUE!"},{"$error":"#VALUE!"},{"$f":"IF(AND(Calculator!$D$6=\"Active\",MONTH(C346)=7,D346<12),ROUND(E346*0.015*(D346/12),2),IF(AND(MONTH(C346)=7,OR(Calculator!$D$6=\"Retired\",D346>=12)),ROUND(E346*0.015,2),0))","v":{"$error":"#VALUE!"}},{"$error":"#VALUE!"},null,{"$error":"#VALUE!"},"2046-07-01",{"$error":"#VALUE!"},{"$error":"#VALUE!"},{"$error":"#VALUE!"},{"$error":"#VALUE!"},null,{"$error":"#VALUE!"},"2046-07-01",{"$error":"#VALUE!"},{"$error":"#VALUE!"},{"$f":"0","v":0},{"$error":"#VALUE!"}]
[null,{"$error":"#VALUE!"},"2046-08-01",{"$error":"#VALUE!"},{"$error":"#VALUE!"},{"$f":"IF(AND(Calculator!$D$6=\"Active\",MONTH(C347)=7,D347<12),ROUND(E347*0.015*(D347/12),2),IF(AND(MONTH(C347)=7,OR(Calculator!$D$6=\"Retired\",D347>=12)),ROUND(E347*0.015,2),0))","v":{"$error":"#VALUE!"}},{"$error":"#VALUE!"},null,{"$error":"#VALUE!"},"2046-08-01",{"$error":"#VALUE!"},{"$error":"#VALUE!"},{"$error":"#VALUE!"},{"$error":"#VALUE!"},null,{"$error":"#VALUE!"},"2046-08-01",{"$error":"#VALUE!"},{"$error":"#VALUE!"},{"$f":"0","v":0},{"$error":"#VALUE!"}]
[null,{"$error":"#VALUE!"},"2046-09-01",{"$error":"#VALUE!"},{"$error":"#VALUE!"},{"$f":"IF(AND(Calculator!$D$6=\"Active\",MONTH(C348)=7,D348<12),ROUND(E348*0.015*(D348/12),2),IF(AND(MONTH(C348)=7,OR(Calculator!$D$6=\"Retired\",D348>=12)),ROUND(E348*0.015,2),0))","v":{"$error":"#VALUE!"}},{"$error":"#VALUE!"},null,{"$error":"#VALUE!"},"2046-09-01",{"$error":"#VALUE!"},{"$error":"#VALUE!"},{"$error":"#VALUE!"},{"$error":"#VALUE!"},null,{"$error":"#VALUE!"},"2046-09-01",{"$error":"#VALUE!"},{"$error":"#VALUE!"},{"$f":"0","v":0},{"$error":"#VALUE!"}]
[null,{"$error":"#VALUE!"},"2046-10-01",{"$error":"#VALUE!"},{"$error":"#VALUE!"},{"$f":"IF(AND(Calculator!$D$6=\"Active\",MONTH(C349)=7,D349<12),ROUND(E349*0.015*(D349/12),2),IF(AND(MONTH(C349)=7,OR(Calculator!$D$6=\"Retired\",D349>=12)),ROUND(E349*0.015,2),0))","v":{"$error":"#VALUE!"}},{"$error":"#VALUE!"},null,{"$error":"#VALUE!"},"2046-10-01",{"$error":"#VALUE!"},{"$error":"#VALUE!"},{"$error":"#VALUE!"},{"$error":"#VALUE!"},null,{"$error":"#VALUE!"},"2046-10-01",{"$error":"#VALUE!"},{"$error":"#VALUE!"},{"$f":"0","v":0},{"$error":"#VALUE!"}]
[null,{"$error":"#VALUE!"},"2046-11-01",{"$error":"#VALUE!"},{"$error":"#VALUE!"},{"$f":"IF(AND(Calculator!$D$6=\"Active\",MONTH(C350)=7,D350<12),ROUND(E350*0.015*(D350/12),2),IF(AND(MONTH(C350)=7,OR(Calculator!$D$6=\"Retired\",D350>=12)),ROUND(E350*0.015,2),0))","v":{"$error":"#VALUE!"}},{"$error":"#VALUE!"},null,{"$error":"#VALUE!"},"2046-11-01",{"$error":"#VALUE!"},{"$error":"#VALUE!"},{"$error":"#VALUE!"},{"$error":"#VALUE!"},null,{"$error":"#VALUE!"},"2046-11-01",{"$error":"#VALUE!"},{"$error":"#VALUE!"},{"$f":"0","v":0},{"$error":"#VALUE!"}]
[null,{"$error":"#VALUE!"},"2046-12-01",{"$error":"#VALUE!"},{"$error":"#VALUE!"},{"$f":"IF(AND(Calculator!$D$6=\"Active\",MONTH(C351)=7,D351<12),ROUND(E351*0.015*(D351/12),2),IF(AND(MONTH(C351)=7,OR(Calculator!$D$6=\"Retired\",D351>=12)),ROUND(E351*0.015,2),0))","v":{"$error":"#VALUE!"}},{"$error":"#VALUE!"},null,{"$error":"#VALUE!"},"2046-12-01",{"$error":"#VALUE!"},{"$error":"#VALUE!"},{"$error":"#VALUE!"},{"$error":"#VALUE!"},null,{"$error":"#VALUE!"},"2046-12-01",{"$error":"#VALUE!"},{"$error":"#VALUE!"},{"$f":"0","v":0},{"$error":"#VALUE!"}]
[null,{"$error":"#VALUE!"},"2047-01-01",{"$error":"#VALUE!"},{"$error":"#VALUE!"},{"$f":"IF(AND(Calculator!$D$6=\"Active\",MONTH(C352)=7,D352<12),ROUND(E352*0.015*(D352/12),2),IF(AND(MONTH(C352)=7,OR(Calculator!$D$6=\"Retired\",D352>=12)),ROUND(E352*0.015,2),0))","v":{"$error":"#VALUE!"}},{"$error":"#VALUE!"},null,{"$error":"#VALUE!"},"2047-01-01",{"$error":"#VALUE!"},{"$error":"#VALUE!"},{"$error":"#VALUE!"},{"$error":"#VALUE!"},null,{"$error":"#VALUE!"},"2047-01-01",{"$error":"#VALUE!"},{"$error":"#VALUE!"},{"$f":"0","v":0},{"$error":"#VALUE!"}]
[null,{"$error":"#VALUE!"},"2047-02-01",{"$error":"#VALUE!"},{"$error":"#VALUE!"},{"$f":"IF(AND(Calculator!$D$6=\"Active\",MONTH(C353)=7,D353<12),ROUND(E353*0.015*(D353/12),2),IF(AND(MONTH(C353)=7,OR(Calculator!$D$6=\"Retired\",D353>=12)),ROUND(E353*0.015,2),0))","v":{"$error":"#VALUE!"}},{"$error":"#VALUE!"},null,{"$error":"#VALUE!"},"2047-02-01",{"$error":"#VALUE!"},{"$error":"#VALUE!"},{"$error":"#VALUE!"},{"$error":"#VALUE!"},null,{"$error":"#VALUE!"},"2047-02-01",{"$error":"#VALUE!"},{"$error":"#VALUE!"},{"$f":"0","v":0},{"$error":"#VALUE!"}]
[null,{"$error":"#VALUE!"},"2047-03-01",{"$error":"#VALUE!"},{"$error":"#VALUE!"},{"$f":"IF(AND(Calculator!$D$6=\"Active\",MONTH(C354)=7,D354<12),ROUND(E354*0.015*(D354/12),2),IF(AND(MONTH(C354)=7,OR(Calculator!$D$6=\"Retired\",D354>=12)),ROUND(E354*0.015,2),0))","v":{"$error":"#VALUE!"}},{"$error":"#VALUE!"},null,{"$error":"#VALUE!"},"2047-03-01",{"$error":"#VALUE!"},{"$error":"#VALUE!"},{"$error":"#VALUE!"},{"$error":"#VALUE!"},null,{"$error":"#VALUE!"},"2047-03-01",{"$error":"#VALUE!"},{"$error":"#VALUE!"},{"$f":"0","v":0},{"$error":"#VALUE!"}]
[null,{"$error":"#VALUE!"},"2047-04-01",{"$error":"#VALUE!"},{"$error":"#VALUE!"},{"$f":"IF(AND(Calculator!$D$6=\"Active\",MONTH(C355)=7,D355<12),ROUND(E355*0.015*(D355/12),2),IF(AND(MONTH(C355)=7,OR(Calculator!$D$6=\"Retired\",D355>=12)),ROUND(E355*0.015,2),0))","v":{"$error":"#VALUE!"}},{"$error":"#VALUE!"},null,{"$error":"#VALUE!"},"2047-04-01",{"$error":"#VALUE!"},{"$error":"#VALUE!"},{"$error":"#VALUE!"},{"$error":"#VALUE!"},null,{"$error":"#VALUE!"},"2047-04-01",{"$error":"#VALUE!"},{"$error":"#VALUE!"},{"$f":"0","v":0},{"$error":"#VALUE!"}]
[null,{"$error":"#VALUE!"},"2047-05-01",{"$error":"#VALUE!"},{"$error":"#VALUE!"},{"$f":"IF(AND(Calculator!$D$6=\"Active\",MONTH(C356)=7,D356<12),ROUND(E356*0.015*(D356/12),2),IF(AND(MONTH(C356)=7,OR(Calculator!$D$6=\"Retired\",D356>=12)),ROUND(E356*0.015,2),0))","v":{"$error":"#VALUE!"}},{"$error":"#VALUE!"},null,{"$error":"#VALUE!"},"2047-05-01",{"$error":"#VALUE!"},{"$error":"#VALUE!"},{"$error":"#VALUE!"},{"$error":"#VALUE!"},null,{"$error":"#VALUE!"},"2047-05-01",{"$error":"#VALUE!"},{"$error":"#VALUE!"},{"$f":"0","v":0},{"$error":"#VALUE!"}]
[null,{"$error":"#VALUE!"},"2047-06-01",{"$error":"#VALUE!"},{"$error":"#VALUE!"},{"$f":"IF(AND(Calculator!$D$6=\"Active\",MONTH(C357)=7,D357<12),ROUND(E357*0.015*(D357/12),2),IF(AND(MONTH(C357)=7,OR(Calculator!$D$6=\"Retired\",D357>=12)),ROUND(E357*0.015,2),0))","v":{"$error":"#VALUE!"}},{"$error":"#VALUE!"},null,{"$error":"#VALUE!"},"2047-06-01",{"$error":"#VALUE!"},{"$error":"#VALUE!"},{"$error":"#VALUE!"},{"$error":"#VALUE!"},null,{"$error":"#VALUE!"},"2047-06-01",{"$error":"#VALUE!"},{"$error":"#VALUE!"},{"$f":"0","v":0},{"$error":"#VALUE!"}]
[null,{"$error":"#VALUE!"},"2047-07-01",{"$error":"#VALUE!"},{"$error":"#VALUE!"},{"$f":"IF(AND(Calculator!$D$6=\"Active\",MONTH(C358)=7,D358<12),ROUND(E358*0.015*(D358/12),2),IF(AND(MONTH(C358)=7,OR(Calculator!$D$6=\"Retired\",D358>=12)),ROUND(E358*0.015,2),0))","v":{"$error":"#VALUE!"}},{"$error":"#VALUE!"},null,{"$error":"#VALUE!"},"2047-07-01",{"$error":"#VALUE!"},{"$error":"#VALUE!"},{"$error":"#VALUE!"},{"$error":"#VALUE!"},null,{"$error":"#VALUE!"},"2047-07-01",{"$error":"#VALUE!"},{"$error":"#VALUE!"},{"$f":"0","v":0},{"$error":"#VALUE!"}]
[null,{"$error":"#VALUE!"},"2047-08-01",{"$error":"#VALUE!"},{"$error":"#VALUE!"},{"$f":"IF(AND(Calculator!$D$6=\"Active\",MONTH(C359)=7,D359<12),ROUND(E359*0.015*(D359/12),2),IF(AND(MONTH(C359)=7,OR(Calculator!$D$6=\"Retired\",D359>=12)),ROUND(E359*0.015,2),0))","v":{"$error":"#VALUE!"}},{"$error":"#VALUE!"},null,{"$error":"#VALUE!"},"2047-08-01",{"$error":"#VALUE!"},{"$error":"#VALUE!"},{"$error":"#VALUE!"},{"$error":"#VALUE!"},null,{"$error":"#VALUE!"},"2047-08-01",{"$error":"#VALUE!"},{"$error":"#VALUE!"},{"$f":"0","v":0},{"$error":"#VALUE!"}]
[null,{"$error":"#VALUE!"},"2047-09-01",{"$error":"#VALUE!"},{"$error":"#VALUE!"},{"$f":"IF(AND(Calculator!$D$6=\"Active\",MONTH(C360)=7,D360<12),ROUND(E360*0.015*(D360/12),2),IF(AND(MONTH(C360)=7,OR(Calculator!$D$6=\"Retired\",D360>=12)),ROUND(E360*0.015,2),0))","v":{"$error":"#VALUE!"}},{"$error":"#VALUE!"},null,{"$error":"#VALUE!"},"2047-09-01",{"$error":"#VALUE!"},{"$error":"#VALUE!"},{"$error":"#VALUE!"},{"$error":"#VALUE!"},null,{"$error":"#VALUE!"},"2047-09-01",{"$error":"#VALUE!"},{"$error":"#VALUE!"},{"$f":"0","v":0},{"$error":"#VALUE!"}]
[null,{"$error":"#VALUE!"},"2047-10-01",{"$error":"#VALUE!"},{"$error":"#VALUE!"},{"$f":"IF(AND(Calculator!$D$6=\"Active\",MONTH(C361)=7,D361<12),ROUND(E361*0.015*(D361/12),2),IF(AND(MONTH(C361)=7,OR(Calculator!$D$6=\"Retired\",D361>=12)),ROUND(E361*0.015,2),0))","v":{"$error":"#VALUE!"}},{"$error":"#VALUE!"},null,{"$error":"#VALUE!"},"2047-10-01",{"$error":"#VALUE!"},{"$error":"#VALUE!"},{"$error":"#VALUE!"},{"$error":"#VALUE!"},null,{"$error":"#VALUE!"},"2047-10-01",{"$error":"#VALUE!"},{"$error":"#VALUE!"},{"$f":"0","v":0},{"$error":"#VALUE!"}]
[null,{"$error":"#VALUE!"},"2047-11-01",{"$error":"#VALUE!"},{"$error":"#VALUE!"},{"$f":"IF(AND(Calculator!$D$6=\"Active\",MONTH(C362)=7,D362<12),ROUND(E362*0.015*(D362/12),2),IF(AND(MONTH(C362)=7,OR(Calculator!$D$6=\"Retired\",D362>=12)),ROUND(E362*0.015,2),0))","v":{"$error":"#VALUE!"}},{"$error":"#VALUE!"},null,{"$error":"#VALUE!"},"2047-11-01",{"$error":"#VALUE!"},{"$error":"#VALUE!"},{"$error":"#VALUE!"},{"$error":"#VALUE!"},null,{"$error":"#VALUE!"},"2047-11-01",{"$error":"#VALUE!"},{"$error":"#VALUE!"},{"$f":"0","v":0},{"$error":"#VALUE!"}]
[null,{"$error":"#VALUE!"},"2047-12-01",{"$error":"#VALUE!"},{"$error":"#VALUE!"},{"$f":"IF(AND(Calculator!$D$6=\"Active\",MONTH(C363)=7,D363<12),ROUND(E363*0.015*(D363/12),2),IF(AND(MONTH(C363)=7,OR(Calculator!$D$6=\"Retired\",D363>=12)),ROUND(E363*0.015,2),0))","v":{"$error":"#VALUE!"}},{"$error":"#VALUE!"},null,{"$error":"#VALUE!"},"2047-12-01",{"$error":"#VALUE!"},{"$error":"#VALUE!"},{"$error":"#VALUE!"},{"$error":"#VALUE!"},null,{"$error":"#VALUE!"},"2047-12-01",{"$error":"#VALUE!"},{"$error":"#VALUE!"},{"$f":"0","v":0},{"$error":"#VALUE!"}]
[null,{"$error":"#VALUE!"},"2048-01-01",{"$error":"#VALUE!"},{"$error":"#VALUE!"},{"$f":"IF(AND(Calculator!$D$6=\"Active\",MONTH(C364)=7,D364<12),ROUND(E364*0.015*(D364/12),2),IF(AND(MONTH(C364)=7,OR(Calculator!$D$6=\"Retired\",D364>=12)),ROUND(E364*0.015,2),0))","v":{"$error":"#VALUE!"}},{"$error":"#VALUE!"},null,{"$error":"#VALUE!"},"2048-01-01",{"$error":"#VALUE!"},{"$error":"#VALUE!"},{"$error":"#VALUE!"},{"$error":"#VALUE!"},null,{"$error":"#VALUE!"},"2048-01-01",{"$error":"#VALUE!"},{"$error":"#VALUE!"},{"$f":"0","v":0},{"$error":"#VALUE!"}]
[null,{"$error":"#VALUE!"},"2048-02-01",{"$error":"#VALUE!"},{"$error":"#VALUE!"},{"$f":"IF(AND(Calculator!$D$6=\"Active\",MONTH(C365)=7,D365<12),ROUND(E365*0.015*(D365/12),2),IF(AND(MONTH(C365)=7,OR(Calculator!$D$6=\"Retired\",D365>=12)),ROUND(E365*0.015,2),0))","v":{"$error":"#VALUE!"}},{"$error":"#VALUE!"},null,{"$error":"#VALUE!"},"2048-02-01",{"$error":"#VALUE!"},{"$error":"#VALUE!"},{"$error":"#VALUE!"},{"$error":"#VALUE!"},null,{"$error":"#VALUE!"},"2048-02-01",{"$error":"#VALUE!"},{"$error":"#VALUE!"},{"$f":"0","v":0},{"$error":"#VALUE!"}]
[null,{"$error":"#VALUE!"},"2048-03-01",{"$error":"#VALUE!"},{"$error":"#VALUE!"},{"$f":"IF(AND(Calculator!$D$6=\"Active\",MONTH(C366)=7,D366<12),ROUND(E366*0.015*(D366/12),2),IF(AND(MONTH(C366)=7,OR(Calculator!$D$6=\"Retired\",D366>=12)),ROUND(E366*0.015,2),0))","v":{"$error":"#VALUE!"}},{"$error":"#VALUE!"},null,{"$error":"#VALUE!"},"2048-03-01",{"$error":"#VALUE!"},{"$error":"#VALUE!"},{"$error":"#VALUE!"},{"$error":"#VALUE!"},null,{"$error":"#VALUE!"},"2048-03-01",{"$error":"#VALUE!"},{"$error":"#VALUE!"},{"$f":"0","v":0},{"$error":"#VALUE!"}]
[null,{"$error":"#VALUE!"},{"$f":"EDATE(C366,1)","v":"2048-04-01"},{"$error":"#VALUE!"},{"$error":"#VALUE!"},{"$f":"IF(AND(Calculator!$D$6=\"Active\",MONTH(C367)=7,D367<12),ROUND(E367*0.015*(D367/12),2),IF(AND(MONTH(C367)=7,OR(Calculator!$D$6=\"Retired\",D367>=12)),ROUND(E367*0.015,2),0))","v":{"$error":"#VALUE!"}},{"$f":"E367+F367","v":{"$error":"#VALUE!"}},null,{"$error":"#VALUE!"},"2048-04-01",{"$error":"#VALUE!"},{"$error":"#VALUE!"},{"$error":"#VALUE!"},{"$error":"#VALUE!"},null,{"$error":"#VALUE!"},"2048-04-01",{"$error":"#VALUE!"},{"$error":"#VALUE!"},{"$f":"0","v":0},{"$error":"#VALUE!"}]
[null,{"$error":"#VALUE!"},"2048-05-01",{"$error":"#VALUE!"},{"$error":"#VALUE!"},{"$f":"IF(AND(Calculator!$D$6=\"Active\",MONTH(C368)=7,D368<12),ROUND(E368*0.015*(D368/12),2),IF(AND(MONTH(C368)=7,OR(Calculator!$D$6=\"Retired\",D368>=12)),ROUND(E368*0.015,2),0))","v":{"$error":"#VALUE!"}},{"$error":"#VALUE!"},null,{"$error":"#VALUE!"},"2048-05-01",{"$error":"#VALUE!"},{"$error":"#VALUE!"},{"$error":"#VALUE!"},{"$error":"#VALUE!"},null,{"$error":"#VALUE!"},"2048-05-01",{"$error":"#VALUE!"},{"$error":"#VALUE!"},{"$f":"0","v":0},{"$error":"#VALUE!"}]
[null,{"$error":"#VALUE!"},"2048-06-01",{"$error":"#VALUE!"},{"$error":"#VALUE!"},{"$f":"IF(AND(Calculator!$D$6=\"Active\",MONTH(C369)=7,D369<12),ROUND(E369*0.015*(D369/12),2),IF(AND(MONTH(C369)=7,OR(Calculator!$D$6=\"Retired\",D369>=12)),ROUND(E369*0.015,2),0))","v":{"$error":"#VALUE!"}},{"$error":"#VALUE!"},null,{"$error":"#VALUE!"},"2048-06-01",{"$error":"#VALUE!"},{"$error":"#VALUE!"},{"$error":"#VALUE!"},{"$error":"#VALUE!"},null,{"$error":"#VALUE!"},"2048-06-01",{"$error":"#VALUE!"},{"$error":"#VALUE!"},{"$f":"0","v":0},{"$error":"#VALUE!"}]
[null,{"$error":"#VALUE!"},"2048-07-01",{"$error":"#VALUE!"},{"$error":"#VALUE!"},{"$f":"IF(AND(Calculator!$D$6=\"Active\",MONTH(C370)=7,D370<12),ROUND(E370*0.015*(D370/12),2),IF(AND(MONTH(C370)=7,OR(Calculator!$D$6=\"Retired\",D370>=12)),ROUND(E370*0.015,2),0))","v":{"$error":"#VALUE!"}},{"$error":"#VALUE!"},null,{"$error":"#VALUE!"},"2048-07-01",{"$error":"#VALUE!"},{"$error":"#VALUE!"},{"$error":"#VALUE!"},{"$error":"#VALUE!"},null,{"$error":"#VALUE!"},"2048-07-01",{"$error":"#VALUE!"},{"$error":"#VALUE!"},{"$f":"0","v":0},{"$error":"#VALUE!"}]
[null,{"$error":"#VALUE!"},"2048-08-01",{"$error":"#VALUE!"},{"$error":"#VALUE!"},{"$f":"IF(AND(Calculator!$D$6=\"Active\",MONTH(C371)=7,D371<12),ROUND(E371*0.015*(D371/12),2),IF(AND(MONTH(C371)=7,OR(Calculator!$D$6=\"Retired\",D371>=12)),ROUND(E371*0.015,2),0))","v":{"$error":"#VALUE!"}},{"$error":"#VALUE!"},null,{"$error":"#VALUE!"},"2048-08-01",{"$error":"#VALUE!"},{"$error":"#VALUE!"},{"$error":"#VALUE!"},{"$error":"#VALUE!"},null,{"$error":"#VALUE!"},"2048-08-01",{"$error":"#VALUE!"},{"$error":"#VALUE!"},{"$f":"0","v":0},{"$error":"#VALUE!"}]
[null,{"$error":"#VALUE!"},"2048-09-01",{"$error":"#VALUE!"},{"$error":"#VALUE!"},{"$f":"IF(AND(Calculator!$D$6=\"Active\",MONTH(C372)=7,D372<12),ROUND(E372*0.015*(D372/12),2),IF(AND(MONTH(C372)=7,OR(Calculator!$D$6=\"Retired\",D372>=12)),ROUND(E372*0.015,2),0))","v":{"$error":"#VALUE!"}},{"$error":"#VALUE!"},null,{"$error":"#VALUE!"},"2048-09-01",{"$error":"#VALUE!"},{"$error":"#VALUE!"},{"$error":"#VALUE!"},{"$error":"#VALUE!"},null,{"$error":"#VALUE!"},"2048-09-01",{"$error":"#VALUE!"},{"$error":"#VALUE!"},{"$f":"0","v":0},{"$error":"#VALUE!"}]
[null,{"$error":"#VALUE!"},"2048-10-01",{"$error":"#VALUE!"},{"$error":"#VALUE!"},{"$f":"IF(AND(Calculator!$D$6=\"Active\",MONTH(C373)=7,D373<12),ROUND(E373*0.015*(D373/12),2),IF(AND(MONTH(C373)=7,OR(Calculator!$D$6=\"Retired\",D373>=12)),ROUND(E373*0.015,2),0))","v":{"$error":"#VALUE!"}},{"$error":"#VALUE!"},null,{"$error":"#VALUE!"},"2048-10-01",{"$error":"#VALUE!"},{"$error":"#VALUE!"},{"$error":"#VALUE!"},{"$error":"#VALUE!"},null,{"$error":"#VALUE!"},"2048-10-01",{"$error":"#VALUE!"},{"$error":"#VALUE!"},{"$f":"0","v":0},{"$error":"#VALUE!"}]
[null,{"$error":"#VALUE!"},"2048-11-01",{"$error":"#VALUE!"},{"$error":"#VALUE!"},{"$f":"IF(AND(Calculator!$D$6=\"Active\",MONTH(C374)=7,D374<12),ROUND(E374*0.015*(D374/12),2),IF(AND(MONTH(C374)=7,OR(Calculator!$D$6=\"Retired\",D374>=12)),ROUND(E374*0.015,2),0))","v":{"$error":"#VALUE!"}},{"$error":"#VALUE!"},null,{"$error":"#VALUE!"},"2048-11-01",{"$error":"#VALUE!"},{"$error":"#VALUE!"},{"$error":"#VALUE!"},{"$error":"#VALUE!"},null,{"$error":"#VALUE!"},"2048-11-01",{"$error":"#VALUE!"},{"$error":"#VALUE!"},{"$f":"0","v":0},{"$error":"#VALUE!"}]
[null,{"$error":"#VALUE!"},"2048-12-01",{"$error":"#VALUE!"},{"$error":"#VALUE!"},{"$f":"IF(AND(Calculator!$D$6=\"Active\",MONTH(C375)=7,D375<12),ROUND(E375*0.015*(D375/12),2),IF(AND(MONTH(C375)=7,OR(Calculator!$D$6=\"Retired\",D375>=12)),ROUND(E375*0.015,2),0))","v":{"$error":"#VALUE!"}},{"$error":"#VALUE!"},null,{"$error":"#VALUE!"},"2048-12-01",{"$error":"#VALUE!"},{"$error":"#VALUE!"},{"$error":"#VALUE!"},{"$error":"#VALUE!"},null,{"$error":"#VALUE!"},"2048-12-01",{"$error":"#VALUE!"},{"$error":"#VALUE!"},{"$f":"0","v":0},{"$error":"#VALUE!"}]
[null,{"$error":"#VALUE!"},"2049-01-01",{"$error":"#VALUE!"},{"$error":"#VALUE!"},{"$f":"IF(AND(Calculator!$D$6=\"Active\",MONTH(C376)=7,D376<12),ROUND(E376*0.015*(D376/12),2),IF(AND(MONTH(C376)=7,OR(Calculator!$D$6=\"Retired\",D376>=12)),ROUND(E376*0.015,2),0))","v":{"$error":"#VALUE!"}},{"$error":"#VALUE!"},null,{"$error":"#VALUE!"},"2049-01-01",{"$error":"#VALUE!"},{"$error":"#VALUE!"},{"$error":"#VALUE!"},{"$error":"#VALUE!"},null,{"$error":"#VALUE!"},"2049-01-01",{"$error":"#VALUE!"},{"$error":"#VALUE!"},{"$f":"0","v":0},{"$error":"#VALUE!"}]
[null,{"$error":"#VALUE!"},"2049-02-01",{"$error":"#VALUE!"},{"$error":"#VALUE!"},{"$f":"IF(AND(Calculator!$D$6=\"Active\",MONTH(C377)=7,D377<12),ROUND(E377*0.015*(D377/12),2),IF(AND(MONTH(C377)=7,OR(Calculator!$D$6=\"Retired\",D377>=12)),ROUND(E377*0.015,2),0))","v":{"$error":"#VALUE!"}},{"$error":"#VALUE!"},null,{"$error":"#VALUE!"},"2049-02-01",{"$error":"#VALUE!"},{"$error":"#VALUE!"},{"$error":"#VALUE!"},{"$error":"#VALUE!"},null,{"$error":"#VALUE!"},"2049-02-01",{"$error":"#VALUE!"},{"$error":"#VALUE!"},{"$f":"0","v":0},{"$error":"#VALUE!"}]
[null,{"$error":"#VALUE!"},"2049-03-01",{"$error":"#VALUE!"},{"$error":"#VALUE!"},{"$f":"IF(AND(Calculator!$D$6=\"Active\",MONTH(C378)=7,D378<12),ROUND(E378*0.015*(D378/12),2),IF(AND(MONTH(C378)=7,OR(Calculator!$D$6=\"Retired\",D378>=12)),ROUND(E378*0.015,2),0))","v":{"$error":"#VALUE!"}},{"$error":"#VALUE!"},null,{"$error":"#VALUE!"},"2049-03-01",{"$error":"#VALUE!"},{"$error":"#VALUE!"},{"$error":"#VALUE!"},{"$error":"#VALUE!"},null,{"$error":"#VALUE!"},"2049-03-01",{"$error":"#VALUE!"},{"$error":"#VALUE!"},{"$f":"0","v":0},{"$error":"#VALUE!"}]
[null,{"$error":"#VALUE!"},"2049-04-01",{"$error":"#VALUE!"},{"$error":"#VALUE!"},{"$f":"IF(AND(Calculator!$D$6=\"Active\",MONTH(C379)=7,D379<12),ROUND(E379*0.015*(D379/12),2),IF(AND(MONTH(C379)=7,OR(Calculator!$D$6=\"Retired\",D379>=12)),ROUND(E379*0.015,2),0))","v":{"$error":"#VALUE!"}},{"$error":"#VALUE!"},null,{"$error":"#VALUE!"},"2049-04-01",{"$error":"#VALUE!"},{"$error":"#VALUE!"},{"$error":"#VALUE!"},{"$error":"#VALUE!"},null,{"$error":"#VALUE!"},"2049-04-01",{"$error":"#VALUE!"},{"$error":"#VALUE!"},{"$f":"0","v":0},{"$error":"#VALUE!"}]
[null,{"$error":"#VALUE!"},"2049-05-01",{"$error":"#VALUE!"},{"$error":"#VALUE!"},{"$f":"IF(AND(Calculator!$D$6=\"Active\",MONTH(C380)=7,D380<12),ROUND(E380*0.015*(D380/12),2),IF(AND(MONTH(C380)=7,OR(Calculator!$D$6=\"Retired\",D380>=12)),ROUND(E380*0.015,2),0))","v":{"$error":"#VALUE!"}},{"$error":"#VALUE!"},null,{"$error":"#VALUE!"},"2049-05-01",{"$error":"#VALUE!"},{"$error":"#VALUE!"},{"$error":"#VALUE!"},{"$error":"#VALUE!"},null,{"$error":"#VALUE!"},"2049-05-01",{"$error":"#VALUE!"},{"$error":"#VALUE!"},{"$f":"0","v":0},{"$error":"#VALUE!"}]
[null,{"$error":"#VALUE!"},"2049-06-01",{"$error":"#VALUE!"},{"$error":"#VALUE!"},{"$f":"IF(AND(Calculator!$D$6=\"Active\",MONTH(C381)=7,D381<12),ROUND(E381*0.015*(D381/12),2),IF(AND(MONTH(C381)=7,OR(Calculator!$D$6=\"Retired\",D381>=12)),ROUND(E381*0.015,2),0))","v":{"$error":"#VALUE!"}},{"$error":"#VALUE!"},null,{"$error":"#VALUE!"},"2049-06-01",{"$error":"#VALUE!"},{"$error":"#VALUE!"},{"$error":"#VALUE!"},{"$error":"#VALUE!"},null,{"$error":"#VALUE!"},"2049-06-01",{"$error":"#VALUE!"},{"$error":"#VALUE!"},{"$f":"0","v":0},{"$error":"#VALUE!"}]
[null,{"$error":"#VALUE!"},"2049-07-01",{"$error":"#VALUE!"},{"$error":"#VALUE!"},{"$f":"IF(AND(Calculator!$D$6=\"Active\",MONTH(C382)=7,D382<12),ROUND(E382*0.015*(D382/12),2),IF(AND(MONTH(C382)=7,OR(Calculator!$D$6=\"Retired\",D382>=12)),ROUND(E382*0.015,2),0))","v":{"$error":"#VALUE!"}},{"$error":"#VALUE!"},null,{"$error":"#VALUE!"},"2049-07-01",{"$error":"#VALUE!"},{"$error":"#VALUE!"},{"$error":"#VALUE!"},{"$error":"#VALUE!"},null,{"$error":"#VALUE!"},"2049-07-01",{"$error":"#VALUE!"},{"$error":"#VALUE!"},{"$f":"0","v":0},{"$error":"#VALUE!"}]
[null,{"$error":"#VALUE!"},"2049-08-01",{"$error":"#VALUE!"},{"$error":"#VALUE!"},{"$f":"IF(AND(Calculator!$D$6=\"Active\",MONTH(C383)=7,D383<12),ROUND(E383*0.015*(D383/12),2),IF(AND(MONTH(C383)=7,OR(Calculator!$D$6=\"Retired\",D383>=12)),ROUND(E383*0.015,2),0))","v":{"$error":"#VALUE!"}},{"$error":"#VALUE!"},null,{"$error":"#VALUE!"},"2049-08-01",{"$error":"#VALUE!"},{"$error":"#VALUE!"},{"$error":"#VALUE!"},{"$error":"#VALUE!"},null,{"$error":"#VALUE!"},"2049-08-01",{"$error":"#VALUE!"},{"$error":"#VALUE!"},{"$f":"0","v":0},{"$error":"#VALUE!"}]
[null,{"$error":"#VALUE!"},"2049-09-01",{"$error":"#VALUE!"},{"$error":"#VALUE!"},{"$f":"IF(AND(Calculator!$D$6=\"Active\",MONTH(C384)=7,D384<12),ROUND(E384*0.015*(D384/12),2),IF(AND(MONTH(C384)=7,OR(Calculator!$D$6=\"Retired\",D384>=12)),ROUND(E384*0.015,2),0))","v":{"$error":"#VALUE!"}},{"$error":"#VALUE!"},null,{"$error":"#VALUE!"},"2049-09-01",{"$error":"#VALUE!"},{"$error":"#VALUE!"},{"$f":"IF(AND(MONTH(J384)=7,K384>61),ROUND(L384*0.015,2),0)","v":{"$error":"#VALUE!"}},{"$error":"#VALUE!"},null,{"$error":"#VALUE!"},"2049-09-01",{"$error":"#VALUE!"},{"$error":"#VALUE!"},{"$f":"0","v":0},{"$error":"#VALUE!"}]
[null,{"$error":"#VALUE!"},"2049-10-01",{"$error":"#VALUE!"},{"$error":"#VALUE!"},{"$f":"IF(AND(Calculator!$D$6=\"Active\",MONTH(C385)=7,D385<12),ROUND(E385*0.015*(D385/12),2),IF(AND(MONTH(C385)=7,OR(Calculator!$D$6=\"Retired\",D385>=12)),ROUND(E385*0.015,2),0))","v":{"$error":"#VALUE!"}},{"$error":"#VALUE!"},null,{"$error":"#VALUE!"},"2049-10-01",{"$error":"#VALUE!"},{"$error":"#VALUE!"},{"$error":"#VALUE!"},{"$error":"#VALUE!"},null,{"$error":"#VALUE!"},"2049-10-01",{"$error":"#VALUE!"},{"$error":"#VALUE!"},{"$f":"0","v":0},{"$error":"#VALUE!"}]
[null,{"$error":"#VALUE!"},"2049-11-01",{"$error":"#VALUE!"},{"$error":"#VALUE!"},{"$f":"IF(AND(Calculator!$D$6=\"Active\",MONTH(C386)=7,D386<12),ROUND(E386*0.015*(D386/12),2),IF(AND(MONTH(C386)=7,OR(Calculator!$D$6=\"Retired\",D386>=12)),ROUND(E386*0.015,2),0))","v":{"$error":"#VALUE!"}},{"$error":"#VALUE!"},null,{"$error":"#VALUE!"},"2049-11-01",{"$error":"#VALUE!"},{"$error":"#VALUE!"},{"$error":"#VALUE!"},{"$error":"#VALUE!"},null,{"$error":"#VALUE!"},"2049-11-01",{"$error":"#VALUE!"},{"$error":"#VALUE!"},{"$f":"0","v":0},{"$error":"#VALUE!"}]
[null,{"$error":"#VALUE!"},"2049-12-01",{"$error":"#VALUE!"},{"$error":"#VALUE!"},{"$f":"IF(AND(Calculator!$D$6=\"Active\",MONTH(C387)=7,D387<12),ROUND(E387*0.015*(D387/12),2),IF(AND(MONTH(C387)=7,OR(Calculator!$D$6=\"Retired\",D387>=12)),ROUND(E387*0.015,2),0))","v":{"$error":"#VALUE!"}},{"$error":"#VALUE!"},null,{"$error":"#VALUE!"},"2049-12-01",{"$error":"#VALUE!"},{"$error":"#VALUE!"},{"$error":"#VALUE!"},{"$error":"#VALUE!"},null,{"$error":"#VALUE!"},"2049-12-01",{"$error":"#VALUE!"},{"$error":"#VALUE!"},{"$f":"0","v":0},{"$error":"#VALUE!"}]
[null,{"$f":"IF(MONTH(DoB)=MONTH(C387),B387+1,B387)","v":{"$error":"#VALUE!"}},"2050-01-01",{"$f":"IF(B388>=VLOOKUP(Age_at_Retirement,Life_Expectancy_Table,3,FALSE),\"\",(D387+1))","v":{"$error":"#VALUE!"}},{"$error":"#VALUE!"},{"$f":"IF(AND(Calculator!$D$6=\"Active\",MONTH(C388)=7,D388<12),ROUND(E388*0.015*(D388/12),2),IF(AND(MONTH(C388)=7,OR(Calculator!$D$6=\"Retired\",D388>=12)),ROUND(E388*0.015,2),0))","v":{"$error":"#VALUE!"}},{"$error":"#VALUE!"},null,{"$f":"IF(MONTH(DoB)=MONTH(J387),I387+1,I387)","v":{"$error":"#VALUE!"}},"2050-01-01",{"$f":"IF(I388>=VLOOKUP(Age_at_Retirement,Life_Expectancy_Table,3,FALSE),\"\",(K387+1))","v":{"$error":"#VALUE!"}},{"$error":"#VALUE!"},{"$error":"#VALUE!"},{"$error":"#VALUE!"},null,{"$f":"IF(MONTH(DoB)=MONTH(Q387),P387+1,P387)","v":{"$error":"#VALUE!"}},"2050-01-01",{"$f":"IF(P388>=VLOOKUP(Age_at_Retirement,Life_Expectancy_Table,3,FALSE),\"\",(R387+1))","v":{"$error":"#VALUE!"}},{"$error":"#VALUE!"},{"$f":"0","v":0},{"$error":"#VALUE!"}]
[null,{"$error":"#VALUE!"},"2050-02-01",{"$error":"#VALUE!"},{"$f":"IF(D389=\"\",0,G388)","v":{"$error":"#VALUE!"}},{"$f":"IF(AND(Calculator!$D$6=\"Active\",MONTH(C389)=7,D389<12),ROUND(E389*0.015*(D389/12),2),IF(AND(MONTH(C389)=7,OR(Calculator!$D$6=\"Retired\",D389>=12)),ROUND(E389*0.015,2),0))","v":{"$error":"#VALUE!"}},{"$error":"#VALUE!"},null,{"$error":"#VALUE!"},"2050-02-01",{"$error":"#VALUE!"},{"$f":"IF(K389=\"\",0,N388)","v":{"$error":"#VALUE!"}},{"$error":"#VALUE!"},{"$f":"L389+M389","v":{"$error":"#VALUE!"}},null,{"$error":"#VALUE!"},"2050-02-01",{"$error":"#VALUE!"},{"$f":"IF(R389=\"\",0,U388)","v":{"$error":"#VALUE!"}},{"$f":"0","v":0},{"$f":"S389+T389","v":{"$error":"#VALUE!"}}]
[null,{"$error":"#VALUE!"},"2050-03-01",{"$error":"#VALUE!"},{"$error":"#VALUE!"},{"$f":"IF(AND(Calculator!$D$6=\"Active\",MONTH(C390)=7,D390<12),ROUND(E390*0.015*(D390/12),2),IF(AND(MONTH(C390)=7,OR(Calculator!$D$6=\"Retired\",D390>=12)),ROUND(E390*0.015,2),0))","v":{"$error":"#VALUE!"}},{"$error":"#VALUE!"},null,{"$error":"#VALUE!"},{"$f":"EDATE(J389,1)","v":"2050-03-01"},{"$error":"#VALUE!"},{"$error":"#VALUE!"},{"$error":"#VALUE!"},{"$error":"#VALUE!"},null,{"$error":"#VALUE!"},{"$f":"EDATE(Q389,1)","v":"2050-03-01"},{"$error":"#VALUE!"},{"$error":"#VALUE!"},{"$f":"0","v":0},{"$error":"#VALUE!"}]
[null,{"$error":"#VALUE!"},"2050-04-01",{"$error":"#VALUE!"},{"$error":"#VALUE!"},{"$f":"IF(AND(Calculator!$D$6=\"Active\",MONTH(C391)=7,D391<12),ROUND(E391*0.015*(D391/12),2),IF(AND(MONTH(C391)=7,OR(Calculator!$D$6=\"Retired\",D391>=12)),ROUND(E391*0.015,2),0))","v":{"$error":"#VALUE!"}},{"$error":"#VALUE!"},null,{"$error":"#VALUE!"},"2050-04-01",{"$error":"#VALUE!"},{"$error":"#VALUE!"},{"$error":"#VALUE!"},{"$error":"#VALUE!"},null,{"$error":"#VALUE!"},"2050-04-01",{"$error":"#VALUE!"},{"$error":"#VALUE!"},{"$f":"0","v":0},{"$error":"#VALUE!"}]
[null,{"$error":"#VALUE!"},"2050-05-01",{"$error":"#VALUE!"},{"$error":"#VALUE!"},{"$f":"IF(AND(Calculator!$D$6=\"Active\",MONTH(C392)=7,D392<12),ROUND(E392*0.015*(D392/12),2),IF(AND(MONTH(C392)=7,OR(Calculator!$D$6=\"Retired\",D392>=12)),ROUND(E392*0.015,2),0))","v":{"$error":"#VALUE!"}},{"$error":"#VALUE!"},null,{"$error":"#VALUE!"},"2050-05-01",{"$error":"#VALUE!"},{"$error":"#VALUE!"},{"$error":"#VALUE!"},{"$error":"#VALUE!"},null,{"$error":"#VALUE!"},"2050-05-01",{"$error":"#VALUE!"},{"$error":"#VALUE!"},{"$f":"0","v":0},{"$error":"#VALUE!"}]
[null,{"$error":"#VALUE!"},"2050-06-01",{"$error":"#VALUE!"},{"$error":"#VALUE!"},{"$f":"IF(AND(Calculator!$D$6=\"Active\",MONTH(C393)=7,D393<12),ROUND(E393*0.015*(D393/12),2),IF(AND(MONTH(C393)=7,OR(Calculator!$D$6=\"Retired\",D393>=12)),ROUND(E393*0.015,2),0))","v":{"$error":"#VALUE!"}},{"$error":"#VALUE!"},null,{"$error":"#VALUE!"},"2050-06-01",{"$error":"#VALUE!"},{"$error":"#VALUE!"},{"$error":"#VALUE!"},{"$error":"#VALUE!"},null,{"$error":"#VALUE!"},"2050-06-01",{"$error":"#VALUE!"},{"$error":"#VALUE!"},{"$f":"0","v":0},{"$error":"#VALUE!"}]
[null,{"$error":"#VALUE!"},"2050-07-01",{"$error":"#VALUE!"},{"$error":"#VALUE!"},{"$f":"IF(AND(Calculator!$D$6=\"Active\",MONTH(C394)=7,D394<12),ROUND(E394*0.015*(D394/12),2),IF(AND(MONTH(C394)=7,OR(Calculator!$D$6=\"Retired\",D394>=12)),ROUND(E394*0.015,2),0))","v":{"$error":"#VALUE!"}},{"$error":"#VALUE!"},null,{"$error":"#VALUE!"},"2050-07-01",{"$error":"#VALUE!"},{"$error":"#VALUE!"},{"$error":"#VALUE!"},{"$error":"#VALUE!"},null,{"$error":"#VALUE!"},"2050-07-01",{"$error":"#VALUE!"},{"$error":"#VALUE!"},{"$f":"0","v":0},{"$error":"#VALUE!"}]
[null,{"$error":"#VALUE!"},"2050-08-01",{"$error":"#VALUE!"},{"$error":"#VALUE!"},{"$f":"IF(AND(Calculator!$D$6=\"Active\",MONTH(C395)=7,D395<12),ROUND(E395*0.015*(D395/12),2),IF(AND(MONTH(C395)=7,OR(Calculator!$D$6=\"Retired\",D395>=12)),ROUND(E395*0.015,2),0))","v":{"$error":"#VALUE!"}},{"$error":"#VALUE!"},null,{"$error":"#VALUE!"},"2050-08-01",{"$error":"#VALUE!"},{"$error":"#VALUE!"},{"$error":"#VALUE!"},{"$error":"#VALUE!"},null,{"$error":"#VALUE!"},"2050-08-01",{"$error":"#VALUE!"},{"$error":"#VALUE!"},{"$f":"0","v":0},{"$error":"#VALUE!"}]
[null,{"$error":"#VALUE!"},"2050-09-01",{"$error":"#VALUE!"},{"$error":"#VALUE!"},{"$f":"IF(AND(Calculator!$D$6=\"Active\",MONTH(C396)=7,D396<12),ROUND(E396*0.015*(D396/12),2),IF(AND(MONTH(C396)=7,OR(Calculator!$D$6=\"Retired\",D396>=12)),ROUND(E396*0.015,2),0))","v":{"$error":"#VALUE!"}},{"$error":"#VALUE!"},null,{"$error":"#VALUE!"},"2050-09-01",{"$error":"#VALUE!"},{"$error":"#VALUE!"},{"$error":"#VALUE!"},{"$error":"#VALUE!"},null,{"$error":"#VALUE!"},"2050-09-01",{"$error":"#VALUE!"},{"$error":"#VALUE!"},{"$f":"0","v":0},{"$error":"#VALUE!"}]
[null,{"$error":"#VALUE!"},"2050-10-01",{"$error":"#VALUE!"},{"$error":"#VALUE!"},{"$f":"IF(AND(Calculator!$D$6=\"Active\",MONTH(C397)=7,D397<12),ROUND(E397*0.015*(D397/12),2),IF(AND(MONTH(C397)=7,OR(Calculator!$D$6=\"Retired\",D397>=12)),ROUND(E397*0.015,2),0))","v":{"$error":"#VALUE!"}},{"$error":"#VALUE!"},null,{"$error":"#VALUE!"},"2050-10-01",{"$error":"#VALUE!"},{"$error":"#VALUE!"},{"$error":"#VALUE!"},{"$error":"#VALUE!"},null,{"$error":"#VALUE!"},"2050-10-01",{"$error":"#VALUE!"},{"$error":"#VALUE!"},{"$f":"0","v":0},{"$error":"#VALUE!"}]
[null,{"$error":"#VALUE!"},"2050-11-01",{"$error":"#VALUE!"},{"$error":"#VALUE!"},{"$f":"IF(AND(Calculator!$D$6=\"Active\",MONTH(C398)=7,D398<12),ROUND(E398*0.015*(D398/12),2),IF(AND(MONTH(C398)=7,OR(Calculator!$D$6=\"Retired\",D398>=12)),ROUND(E398*0.015,2),0))","v":{"$error":"#VALUE!"}},{"$error":"#VALUE!"},null,{"$error":"#VALUE!"},"2050-11-01",{"$error":"#VALUE!"},{"$error":"#VALUE!"},{"$error":"#VALUE!"},{"$error":"#VALUE!"},null,{"$error":"#VALUE!"},"2050-11-01",{"$error":"#VALUE!"},{"$error":"#VALUE!"},{"$f":"0","v":0},{"$error":"#VALUE!"}]
[null,{"$error":"#VALUE!"},"2050-12-01",{"$error":"#VALUE!"},{"$error":"#VALUE!"},{"$f":"IF(AND(Calculator!$D$6=\"Active\",MONTH(C399)=7,D399<12),ROUND(E399*0.015*(D399/12),2),IF(AND(MONTH(C399)=7,OR(Calculator!$D$6=\"Retired\",D399>=12)),ROUND(E399*0.015,2),0))","v":{"$error":"#VALUE!"}},{"$error":"#VALUE!"},null,{"$error":"#VALUE!"},"2050-12-01",{"$error":"#VALUE!"},{"$error":"#VALUE!"},{"$error":"#VALUE!"},{"$error":"#VALUE!"},null,{"$error":"#VALUE!"},"2050-12-01",{"$error":"#VALUE!"},{"$error":"#VALUE!"},{"$f":"0","v":0},{"$error":"#VALUE!"}]
[null,{"$error":"#VALUE!"},"2051-01-01",{"$error":"#VALUE!"},{"$error":"#VALUE!"},{"$f":"IF(AND(Calculator!$D$6=\"Active\",MONTH(C400)=7,D400<12),ROUND(E400*0.015*(D400/12),2),IF(AND(MONTH(C400)=7,OR(Calculator!$D$6=\"Retired\",D400>=12)),ROUND(E400*0.015,2),0))","v":{"$error":"#VALUE!"}},{"$error":"#VALUE!"},null,{"$error":"#VALUE!"},"2051-01-01",{"$error":"#VALUE!"},{"$error":"#VALUE!"},{"$error":"#VALUE!"},{"$error":"#VALUE!"},null,{"$error":"#VALUE!"},"2051-01-01",{"$error":"#VALUE!"},{"$error":"#VALUE!"},{"$f":"0","v":0},{"$error":"#VALUE!"}]
[null,{"$error":"#VALUE!"},"2051-02-01",{"$error":"#VALUE!"},{"$error":"#VALUE!"},{"$f":"IF(AND(Calculator!$D$6=\"Active\",MONTH(C401)=7,D401<12),ROUND(E401*0.015*(D401/12),2),IF(AND(MONTH(C401)=7,OR(Calculator!$D$6=\"Retired\",D401>=12)),ROUND(E401*0.015,2),0))","v":{"$error":"#VALUE!"}},{"$error":"#VALUE!"},null,{"$error":"#VALUE!"},"2051-02-01",{"$error":"#VALUE!"},{"$error":"#VALUE!"},{"$error":"#VALUE!"},{"$error":"#VALUE!"},null,{"$error":"#VALUE!"},"2051-02-01",{"$error":"#VALUE!"},{"$error":"#VALUE!"},{"$f":"0","v":0},{"$error":"#VALUE!"}]
[null,{"$error":"#VALUE!"},"2051-03-01",{"$error":"#VALUE!"},{"$error":"#VALUE!"},{"$f":"IF(AND(Calculator!$D$6=\"Active\",MONTH(C402)=7,D402<12),ROUND(E402*0.015*(D402/12),2),IF(AND(MONTH(C402)=7,OR(Calculator!$D$6=\"Retired\",D402>=12)),ROUND(E402*0.015,2),0))","v":{"$error":"#VALUE!"}},{"$error":"#VALUE!"},null,{"$error":"#VALUE!"},"2051-03-01",{"$error":"#VALUE!"},{"$error":"#VALUE!"},{"$error":"#VALUE!"},{"$error":"#VALUE!"},null,{"$error":"#VALUE!"},"2051-03-01",{"$error":"#VALUE!"},{"$error":"#VALUE!"},{"$f":"0","v":0},{"$error":"#VALUE!"}]
[null,{"$error":"#VALUE!"},"2051-04-01",{"$error":"#VALUE!"},{"$error":"#VALUE!"},{"$f":"IF(AND(Calculator!$D$6=\"Active\",MONTH(C403)=7,D403<12),ROUND(E403*0.015*(D403/12),2),IF(AND(MONTH(C403)=7,OR(Calculator!$D$6=\"Retired\",D403>=12)),ROUND(E403*0.015,2),0))","v":{"$error":"#VALUE!"}},{"$error":"#VALUE!"},null,{"$error":"#VALUE!"},"2051-04-01",{"$error":"#VALUE!"},{"$error":"#VALUE!"},{"$error":"#VALUE!"},{"$error":"#VALUE!"},null,{"$error":"#VALUE!"},"2051-04-01",{"$error":"#VALUE!"},{"$error":"#VALUE!"},{"$f":"0","v":0},{"$error":"#VALUE!"}]
[null,{"$error":"#VALUE!"},"2051-05-01",{"$error":"#VALUE!"},{"$error":"#VALUE!"},{"$f":"IF(AND(Calculator!$D$6=\"Active\",MONTH(C404)=7,D404<12),ROUND(E404*0.015*(D404/12),2),IF(AND(MONTH(C404)=7,OR(Calculator!$D$6=\"Retired\",D404>=12)),ROUND(E404*0.015,2),0))","v":{"$error":"#VALUE!"}},{"$error":"#VALUE!"},null,{"$error":"#VALUE!"},"2051-05-01",{"$error":"#VALUE!"},{"$error":"#VALUE!"},{"$error":"#VALUE!"},{"$error":"#VALUE!"},null,{"$error":"#VALUE!"},"2051-05-01",{"$error":"#VALUE!"},{"$error":"#VALUE!"},{"$f":"0","v":0},{"$error":"#VALUE!"}]
[null,{"$error":"#VALUE!"},"2051-06-01",{"$error":"#VALUE!"},{"$error":"#VALUE!"},{"$f":"IF(AND(Calculator!$D$6=\"Active\",MONTH(C405)=7,D405<12),ROUND(E405*0.015*(D405/12),2),IF(AND(MONTH(C405)=7,OR(Calculator!$D$6=\"Retired\",D405>=12)),ROUND(E405*0.015,2),0))","v":{"$error":"#VALUE!"}},{"$error":"#VALUE!"},null,{"$error":"#VALUE!"},"2051-06-01",{"$error":"#VALUE!"},{"$error":"#VALUE!"},{"$error":"#VALUE!"},{"$error":"#VALUE!"},null,{"$error":"#VALUE!"},"2051-06-01",{"$error":"#VALUE!"},{"$error":"#VALUE!"},{"$f":"0","v":0},{"$error":"#VALUE!"}]
[null,{"$error":"#VALUE!"},"2051-07-01",{"$error":"#VALUE!"},{"$error":"#VALUE!"},{"$f":"IF(AND(Calculator!$D$6=\"Active\",MONTH(C406)=7,D406<12),ROUND(E406*0.015*(D406/12),2),IF(AND(MONTH(C406)=7,OR(Calculator!$D$6=\"Retired\",D406>=12)),ROUND(E406*0.015,2),0))","v":{"$error":"#VALUE!"}},{"$error":"#VALUE!"},null,{"$error":"#VALUE!"},"2051-07-01",{"$error":"#VALUE!"},{"$error":"#VALUE!"},{"$error":"#VALUE!"},{"$error":"#VALUE!"},null,{"$error":"#VALUE!"},"2051-07-01",{"$error":"#VALUE!"},{"$error":"#VALUE!"},{"$f":"0","v":0},{"$error":"#VALUE!"}]
[null,{"$error":"#VALUE!"},"2051-08-01",{"$error":"#VALUE!"},{"$error":"#VALUE!"},{"$f":"IF(AND(Calculator!$D$6=\"Active\",MONTH(C407)=7,D407<12),ROUND(E407*0.015*(D407/12),2),IF(AND(MONTH(C407)=7,OR(Calculator!$D$6=\"Retired\",D407>=12)),ROUND(E407*0.015,2),0))","v":{"$error":"#VALUE!"}},{"$error":"#VALUE!"},null,{"$error":"#VALUE!"},"2051-08-01",{"$error":"#VALUE!"},{"$error":"#VALUE!"},{"$error":"#VALUE!"},{"$error":"#VALUE!"},null,{"$error":"#VALUE!"},"2051-08-01",{"$error":"#VALUE!"},{"$error":"#VALUE!"},{"$f":"0","v":0},{"$error":"#VALUE!"}]
[null,{"$error":"#VALUE!"},"2051-09-01",{"$error":"#VALUE!"},{"$error":"#VALUE!"},{"$f":"IF(AND(Calculator!$D$6=\"Active\",MONTH(C408)=7,D408<12),ROUND(E408*0.015*(D408/12),2),IF(AND(MONTH(C408)=7,OR(Calculator!$D$6=\"Retired\",D408>=12)),ROUND(E408*0.015,2),0))","v":{"$error":"#VALUE!"}},{"$error":"#VALUE!"},null,{"$error":"#VALUE!"},"2051-09-01",{"$error":"#VALUE!"},{"$error":"#VALUE!"},{"$error":"#VALUE!"},{"$error":"#VALUE!"},null,{"$error":"#VALUE!"},"2051-09-01",{"$error":"#VALUE!"},{"$error":"#VALUE!"},{"$f":"0","v":0},{"$error":"#VALUE!"}]
[null,{"$error":"#VALUE!"},"2051-10-01",{"$error":"#VALUE!"},{"$error":"#VALUE!"},{"$f":"IF(AND(Calculator!$D$6=\"Active\",MONTH(C409)=7,D409<12),ROUND(E409*0.015*(D409/12),2),IF(AND(MONTH(C409)=7,OR(Calculator!$D$6=\"Retired\",D409>=12)),ROUND(E409*0.015,2),0))","v":{"$error":"#VALUE!"}},{"$error":"#VALUE!"},null,{"$error":"#VALUE!"},"2051-10-01",{"$error":"#VALUE!"},{"$error":"#VALUE!"},{"$error":"#VALUE!"},{"$error":"#VALUE!"},null,{"$error":"#VALUE!"},"2051-10-01",{"$error":"#VALUE!"},{"$error":"#VALUE!"},{"$f":"0","v":0},{"$error":"#VALUE!"}]
[null,{"$error":"#VALUE!"},"2051-11-01",{"$error":"#VALUE!"},{"$error":"#VALUE!"},{"$f":"IF(AND(Calculator!$D$6=\"Active\",MONTH(C410)=7,D410<12),ROUND(E410*0.015*(D410/12),2),IF(AND(MONTH(C410)=7,OR(Calculator!$D$6=\"Retired\",D410>=12)),ROUND(E410*0.015,2),0))","v":{"$error":"#VALUE!"}},{"$error":"#VALUE!"},null,{"$error":"#VALUE!"},"2051-11-01",{"$error":"#VALUE!"},{"$error":"#VALUE!"},{"$error":"#VALUE!"},{"$error":"#VALUE!"},null,{"$error":"#VALUE!"},"2051-11-01",{"$error":"#VALUE!"},{"$error":"#VALUE!"},{"$f":"0","v":0},{"$error":"#VALUE!"}]
[null,{"$error":"#VALUE!"},"2051-12-01",{"$error":"#VALUE!"},{"$error":"#VALUE!"},{"$f":"IF(AND(Calculator!$D$6=\"Active\",MONTH(C411)=7,D411<12),ROUND(E411*0.015*(D411/12),2),IF(AND(MONTH(C411)=7,OR(Calculator!$D$6=\"Retired\",D411>=12)),ROUND(E411*0.015,2),0))","v":{"$error":"#VALUE!"}},{"$error":"#VALUE!"},null,{"$error":"#VALUE!"},"2051-12-01",{"$error":"#VALUE!"},{"$error":"#VALUE!"},{"$error":"#VALUE!"},{"$error":"#VALUE!"},null,{"$error":"#VALUE!"},"2051-12-01",{"$error":"#VALUE!"},{"$error":"#VALUE!"},{"$f":"0","v":0},{"$error":"#VALUE!"}]
[null,{"$error":"#VALUE!"},"2052-01-01",{"$error":"#VALUE!"},{"$error":"#VALUE!"},{"$f":"IF(AND(Calculator!$D$6=\"Active\",MONTH(C412)=7,D412<12),ROUND(E412*0.015*(D412/12),2),IF(AND(MONTH(C412)=7,OR(Calculator!$D$6=\"Retired\",D412>=12)),ROUND(E412*0.015,2),0))","v":{"$error":"#VALUE!"}},{"$error":"#VALUE!"},null,{"$error":"#VALUE!"},"2052-01-01",{"$error":"#VALUE!"},{"$error":"#VALUE!"},{"$error":"#VALUE!"},{"$error":"#VALUE!"},null,{"$error":"#VALUE!"},"2052-01-01",{"$error":"#VALUE!"},{"$error":"#VALUE!"},{"$f":"0","v":0},{"$error":"#VALUE!"}]
[null,{"$error":"#VALUE!"},"2052-02-01",{"$error":"#VALUE!"},{"$error":"#VALUE!"},{"$f":"IF(AND(Calculator!$D$6=\"Active\",MONTH(C413)=7,D413<12),ROUND(E413*0.015*(D413/12),2),IF(AND(MONTH(C413)=7,OR(Calculator!$D$6=\"Retired\",D413>=12)),ROUND(E413*0.015,2),0))","v":{"$error":"#VALUE!"}},{"$error":"#VALUE!"},null,{"$error":"#VALUE!"},"2052-02-01",{"$error":"#VALUE!"},{"$error":"#VALUE!"},{"$error":"#VALUE!"},{"$error":"#VALUE!"},null,{"$error":"#VALUE!"},"2052-02-01",{"$error":"#VALUE!"},{"$error":"#VALUE!"},{"$f":"0","v":0},{"$error":"#VALUE!"}]
[null,{"$error":"#VALUE!"},"2052-03-01",{"$error":"#VALUE!"},{"$error":"#VALUE!"},{"$f":"IF(AND(Calculator!$D$6=\"Active\",MONTH(C414)=7,D414<12),ROUND(E414*0.015*(D414/12),2),IF(AND(MONTH(C414)=7,OR(Calculator!$D$6=\"Retired\",D414>=12)),ROUND(E414*0.015,2),0))","v":{"$error":"#VALUE!"}},{"$error":"#VALUE!"},null,{"$error":"#VALUE!"},"2052-03-01",{"$error":"#VALUE!"},{"$error":"#VALUE!"},{"$error":"#VALUE!"},{"$error":"#VALUE!"},null,{"$error":"#VALUE!"},"2052-03-01",{"$error":"#VALUE!"},{"$error":"#VALUE!"},{"$f":"0","v":0},{"$error":"#VALUE!"}]
[null,{"$error":"#VALUE!"},"2052-04-01",{"$error":"#VALUE!"},{"$error":"#VALUE!"},{"$f":"IF(AND(Calculator!$D$6=\"Active\",MONTH(C415)=7,D415<12),ROUND(E415*0.015*(D415/12),2),IF(AND(MONTH(C415)=7,OR(Calculator!$D$6=\"Retired\",D415>=12)),ROUND(E415*0.015,2),0))","v":{"$error":"#VALUE!"}},{"$error":"#VALUE!"},null,{"$error":"#VALUE!"},"2052-04-01",{"$error":"#VALUE!"},{"$error":"#VALUE!"},{"$error":"#VALUE!"},{"$error":"#VALUE!"},null,{"$error":"#VALUE!"},"2052-04-01",{"$error":"#VALUE!"},{"$error":"#VALUE!"},{"$f":"0","v":0},{"$error":"#VALUE!"}]
[null,{"$error":"#VALUE!"},"2052-05-01",{"$error":"#VALUE!"},{"$error":"#VALUE!"},{"$f":"IF(AND(Calculator!$D$6=\"Active\",MONTH(C416)=7,D416<12),ROUND(E416*0.015*(D416/12),2),IF(AND(MONTH(C416)=7,OR(Calculator!$D$6=\"Retired\",D416>=12)),ROUND(E416*0.015,2),0))","v":{"$error":"#VALUE!"}},{"$error":"#VALUE!"},null,{"$error":"#VALUE!"},"2052-05-01",{"$error":"#VALUE!"},{"$error":"#VALUE!"},{"$error":"#VALUE!"},{"$error":"#VALUE!"},null,{"$error":"#VALUE!"},"2052-05-01",{"$error":"#VALUE!"},{"$error":"#VALUE!"},{"$f":"0","v":0},{"$error":"#VALUE!"}]
[null,{"$error":"#VALUE!"},"2052-06-01",{"$error":"#VALUE!"},{"$error":"#VALUE!"},{"$f":"IF(AND(Calculator!$D$6=\"Active\",MONTH(C417)=7,D417<12),ROUND(E417*0.015*(D417/12),2),IF(AND(MONTH(C417)=7,OR(Calculator!$D$6=\"Retired\",D417>=12)),ROUND(E417*0.015,2),0))","v":{"$error":"#VALUE!"}},{"$error":"#VALUE!"},null,{"$error":"#VALUE!"},"2052-06-01",{"$error":"#VALUE!"},{"$error":"#VALUE!"},{"$error":"#VALUE!"},{"$error":"#VALUE!"},null,{"$error":"#VALUE!"},"2052-06-01",{"$error":"#VALUE!"},{"$error":"#VALUE!"},{"$f":"0","v":0},{"$error":"#VALUE!"}]
[null,{"$error":"#VALUE!"},"2052-07-01",{"$error":"#VALUE!"},{"$error":"#VALUE!"},{"$f":"IF(AND(Calculator!$D$6=\"Active\",MONTH(C418)=7,D418<12),ROUND(E418*0.015*(D418/12),2),IF(AND(MONTH(C418)=7,OR(Calculator!$D$6=\"Retired\",D418>=12)),ROUND(E418*0.015,2),0))","v":{"$error":"#VALUE!"}},{"$error":"#VALUE!"},null,{"$error":"#VALUE!"},"2052-07-01",{"$error":"#VALUE!"},{"$error":"#VALUE!"},{"$error":"#VALUE!"},{"$error":"#VALUE!"},null,{"$error":"#VALUE!"},"2052-07-01",{"$error":"#VALUE!"},{"$error":"#VALUE!"},{"$f":"0","v":0},{"$error":"#VALUE!"}]
[null,{"$error":"#VALUE!"},"2052-08-01",{"$error":"#VALUE!"},{"$error":"#VALUE!"},{"$f":"IF(AND(Calculator!$D$6=\"Active\",MONTH(C419)=7,D419<12),ROUND(E419*0.015*(D419/12),2),IF(AND(MONTH(C419)=7,OR(Calculator!$D$6=\"Retired\",D419>=12)),ROUND(E419*0.015,2),0))","v":{"$error":"#VALUE!"}},{"$error":"#VALUE!"},null,{"$error":"#VALUE!"},"2052-08-01",{"$error":"#VALUE!"},{"$error":"#VALUE!"},{"$error":"#VALUE!"},{"$error":"#VALUE!"},null,{"$error":"#VALUE!"},"2052-08-01",{"$error":"#VALUE!"},{"$error":"#VALUE!"},{"$f":"0","v":0},{"$error":"#VALUE!"}]
[null,{"$error":"#VALUE!"},"2052-09-01",{"$error":"#VALUE!"},{"$error":"#VALUE!"},{"$f":"IF(AND(Calculator!$D$6=\"Active\",MONTH(C420)=7,D420<12),ROUND(E420*0.015*(D420/12),2),IF(AND(MONTH(C420)=7,OR(Calculator!$D$6=\"Retired\",D420>=12)),ROUND(E420*0.015,2),0))","v":{"$error":"#VALUE!"}},{"$error":"#VALUE!"},null,{"$error":"#VALUE!"},"2052-09-01",{"$error":"#VALUE!"},{"$error":"#VALUE!"},{"$error":"#VALUE!"},{"$error":"#VALUE!"},null,{"$error":"#VALUE!"},"2052-09-01",{"$error":"#VALUE!"},{"$error":"#VALUE!"},{"$f":"0","v":0},{"$error":"#VALUE!"}]
[null,{"$error":"#VALUE!"},"2052-10-01",{"$error":"#VALUE!"},{"$error":"#VALUE!"},{"$f":"IF(AND(Calculator!$D$6=\"Active\",MONTH(C421)=7,D421<12),ROUND(E421*0.015*(D421/12),2),IF(AND(MONTH(C421)=7,OR(Calculator!$D$6=\"Retired\",D421>=12)),ROUND(E421*0.015,2),0))","v":{"$error":"#VALUE!"}},{"$error":"#VALUE!"},null,{"$error":"#VALUE!"},"2052-10-01",{"$error":"#VALUE!"},{"$error":"#VALUE!"},{"$error":"#VALUE!"},{"$error":"#VALUE!"},null,{"$error":"#VALUE!"},"2052-10-01",{"$error":"#VALUE!"},{"$error":"#VALUE!"},{"$f":"0","v":0},{"$error":"#VALUE!"}]
[null,{"$error":"#VALUE!"},"2052-11-01",{"$error":"#VALUE!"},{"$error":"#VALUE!"},{"$f":"IF(AND(Calculator!$D$6=\"Active\",MONTH(C422)=7,D422<12),ROUND(E422*0.015*(D422/12),2),IF(AND(MONTH(C422)=7,OR(Calculator!$D$6=\"Retired\",D422>=12)),ROUND(E422*0.015,2),0))","v":{"$error":"#VALUE!"}},{"$error":"#VALUE!"},null,{"$error":"#VALUE!"},"2052-11-01",{"$error":"#VALUE!"},{"$error":"#VALUE!"},{"$error":"#VALUE!"},{"$error":"#VALUE!"},null,{"$error":"#VALUE!"},"2052-11-01",{"$error":"#VALUE!"},{"$error":"#VALUE!"},{"$f":"0","v":0},{"$error":"#VALUE!"}]
[null,{"$error":"#VALUE!"},"2052-12-01",{"$error":"#VALUE!"},{"$error":"#VALUE!"},{"$f":"IF(AND(Calculator!$D$6=\"Active\",MONTH(C423)=7,D423<12),ROUND(E423*0.015*(D423/12),2),IF(AND(MONTH(C423)=7,OR(Calculator!$D$6=\"Retired\",D423>=12)),ROUND(E423*0.015,2),0))","v":{"$error":"#VALUE!"}},{"$error":"#VALUE!"},null,{"$error":"#VALUE!"},"2052-12-01",{"$error":"#VALUE!"},{"$error":"#VALUE!"},{"$error":"#VALUE!"},{"$error":"#VALUE!"},null,{"$error":"#VALUE!"},"2052-12-01",{"$error":"#VALUE!"},{"$error":"#VALUE!"},{"$f":"0","v":0},{"$error":"#VALUE!"}]
[null,{"$error":"#VALUE!"},"2053-01-01",{"$error":"#VALUE!"},{"$error":"#VALUE!"},{"$f":"IF(AND(Calculator!$D$6=\"Active\",MONTH(C424)=7,D424<12),ROUND(E424*0.015*(D424/12),2),IF(AND(MONTH(C424)=7,OR(Calculator!$D$6=\"Retired\",D424>=12)),ROUND(E424*0.015,2),0))","v":{"$error":"#VALUE!"}},{"$error":"#VALUE!"},null,{"$error":"#VALUE!"},"2053-01-01",{"$error":"#VALUE!"},{"$error":"#VALUE!"},{"$error":"#VALUE!"},{"$error":"#VALUE!"},null,{"$error":"#VALUE!"},"2053-01-01",{"$error":"#VALUE!"},{"$error":"#VALUE!"},{"$f":"0","v":0},{"$error":"#VALUE!"}]
[null,{"$error":"#VALUE!"},"2053-02-01",{"$error":"#VALUE!"},{"$error":"#VALUE!"},{"$f":"IF(AND(Calculator!$D$6=\"Active\",MONTH(C425)=7,D425<12),ROUND(E425*0.015*(D425/12),2),IF(AND(MONTH(C425)=7,OR(Calculator!$D$6=\"Retired\",D425>=12)),ROUND(E425*0.015,2),0))","v":{"$error":"#VALUE!"}},{"$error":"#VALUE!"},null,{"$error":"#VALUE!"},"2053-02-01",{"$error":"#VALUE!"},{"$error":"#VALUE!"},{"$error":"#VALUE!"},{"$error":"#VALUE!"},null,{"$error":"#VALUE!"},"2053-02-01",{"$error":"#VALUE!"},{"$error":"#VALUE!"},{"$f":"0","v":0},{"$error":"#VALUE!"}]
[null,{"$error":"#VALUE!"},"2053-03-01",{"$error":"#VALUE!"},{"$error":"#VALUE!"},{"$f":"IF(AND(Calculator!$D$6=\"Active\",MONTH(C426)=7,D426<12),ROUND(E426*0.015*(D426/12),2),IF(AND(MONTH(C426)=7,OR(Calculator!$D$6=\"Retired\",D426>=12)),ROUND(E426*0.015,2),0))","v":{"$error":"#VALUE!"}},{"$error":"#VALUE!"},null,{"$error":"#VALUE!"},"2053-03-01",{"$error":"#VALUE!"},{"$error":"#VALUE!"},{"$error":"#VALUE!"},{"$error":"#VALUE!"},null,{"$error":"#VALUE!"},"2053-03-01",{"$error":"#VALUE!"},{"$error":"#VALUE!"},{"$f":"0","v":0},{"$error":"#VALUE!"}]
[null,{"$error":"#VALUE!"},"2053-04-01",{"$error":"#VALUE!"},{"$error":"#VALUE!"},{"$f":"IF(AND(Calculator!$D$6=\"Active\",MONTH(C427)=7,D427<12),ROUND(E427*0.015*(D427/12),2),IF(AND(MONTH(C427)=7,OR(Calculator!$D$6=\"Retired\",D427>=12)),ROUND(E427*0.015,2),0))","v":{"$error":"#VALUE!"}},{"$error":"#VALUE!"},null,{"$error":"#VALUE!"},"2053-04-01",{"$error":"#VALUE!"},{"$error":"#VALUE!"},{"$error":"#VALUE!"},{"$error":"#VALUE!"},null,{"$error":"#VALUE!"},"2053-04-01",{"$error":"#VALUE!"},{"$error":"#VALUE!"},{"$f":"0","v":0},{"$error":"#VALUE!"}]
[null,{"$error":"#VALUE!"},"2053-05-01",{"$error":"#VALUE!"},{"$error":"#VALUE!"},{"$f":"IF(AND(Calculator!$D$6=\"Active\",MONTH(C428)=7,D428<12),ROUND(E428*0.015*(D428/12),2),IF(AND(MONTH(C428)=7,OR(Calculator!$D$6=\"Retired\",D428>=12)),ROUND(E428*0.015,2),0))","v":{"$error":"#VALUE!"}},{"$error":"#VALUE!"},null,{"$error":"#VALUE!"},"2053-05-01",{"$error":"#VALUE!"},{"$error":"#VALUE!"},{"$error":"#VALUE!"},{"$error":"#VALUE!"},null,{"$error":"#VALUE!"},"2053-05-01",{"$error":"#VALUE!"},{"$error":"#VALUE!"},{"$f":"0","v":0},{"$error":"#VALUE!"}]
[null,{"$error":"#VALUE!"},"2053-06-01",{"$error":"#VALUE!"},{"$error":"#VALUE!"},{"$f":"IF(AND(Calculator!$D$6=\"Active\",MONTH(C429)=7,D429<12),ROUND(E429*0.015*(D429/12),2),IF(AND(MONTH(C429)=7,OR(Calculator!$D$6=\"Retired\",D429>=12)),ROUND(E429*0.015,2),0))","v":{"$error":"#VALUE!"}},{"$error":"#VALUE!"},null,{"$error":"#VALUE!"},"2053-06-01",{"$error":"#VALUE!"},{"$error":"#VALUE!"},{"$error":"#VALUE!"},{"$error":"#VALUE!"},null,{"$error":"#VALUE!"},"2053-06-01",{"$error":"#VALUE!"},{"$error":"#VALUE!"},{"$f":"0","v":0},{"$error":"#VALUE!"}]
[null,{"$error":"#VALUE!"},"2053-07-01",{"$error":"#VALUE!"},{"$error":"#VALUE!"},{"$f":"IF(AND(Calculator!$D$6=\"Active\",MONTH(C430)=7,D430<12),ROUND(E430*0.015*(D430/12),2),IF(AND(MONTH(C430)=7,OR(Calculator!$D$6=\"Retired\",D430>=12)),ROUND(E430*0.015,2),0))","v":{"$error":"#VALUE!"}},{"$error":"#VALUE!"},null,{"$error":"#VALUE!"},"2053-07-01",{"$error":"#VALUE!"},{"$error":"#VALUE!"},{"$error":"#VALUE!"},{"$error":"#VALUE!"},null,{"$error":"#VALUE!"},"2053-07-01",{"$error":"#VALUE!"},{"$error":"#VALUE!"},{"$f":"0","v":0},{"$error":"#VALUE!"}]
[null,{"$error":"#VALUE!"},{"$f":"EDATE(C430,1)","v":"2053-08-01"},{"$error":"#VALUE!"},{"$error":"#VALUE!"},{"$f":"IF(AND(Calculator!$D$6=\"Active\",MONTH(C431)=7,D431<12),ROUND(E431*0.015*(D431/12),2),IF(AND(MONTH(C431)=7,OR(Calculator!$D$6=\"Retired\",D431>=12)),ROUND(E431*0.015,2),0))","v":{"$error":"#VALUE!"}},{"$f":"E431+F431","v":{"$error":"#VALUE!"}},null,{"$error":"#VALUE!"},"2053-08-01",{"$error":"#VALUE!"},{"$error":"#VALUE!"},{"$error":"#VALUE!"},{"$error":"#VALUE!"},null,{"$error":"#VALUE!"},"2053-08-01",{"$error":"#VALUE!"},{"$error":"#VALUE!"},{"$f":"0","v":0},{"$error":"#VALUE!"}]
[null,{"$error":"#VALUE!"},"2053-09-01",{"$error":"#VALUE!"},{"$error":"#VALUE!"},{"$f":"IF(AND(Calculator!$D$6=\"Active\",MONTH(C432)=7,D432<12),ROUND(E432*0.015*(D432/12),2),IF(AND(MONTH(C432)=7,OR(Calculator!$D$6=\"Retired\",D432>=12)),ROUND(E432*0.015,2),0))","v":{"$error":"#VALUE!"}},{"$error":"#VALUE!"},null,{"$error":"#VALUE!"},"2053-09-01",{"$error":"#VALUE!"},{"$error":"#VALUE!"},{"$error":"#VALUE!"},{"$error":"#VALUE!"},null,{"$error":"#VALUE!"},"2053-09-01",{"$error":"#VALUE!"},{"$error":"#VALUE!"},{"$f":"0","v":0},{"$error":"#VALUE!"}]
[null,{"$error":"#VALUE!"},"2053-10-01",{"$error":"#VALUE!"},{"$error":"#VALUE!"},{"$f":"IF(AND(Calculator!$D$6=\"Active\",MONTH(C433)=7,D433<12),ROUND(E433*0.015*(D433/12),2),IF(AND(MONTH(C433)=7,OR(Calculator!$D$6=\"Retired\",D433>=12)),ROUND(E433*0.015,2),0))","v":{"$error":"#VALUE!"}},{"$error":"#VALUE!"},null,{"$error":"#VALUE!"},"2053-10-01",{"$error":"#VALUE!"},{"$error":"#VALUE!"},{"$error":"#VALUE!"},{"$error":"#VALUE!"},null,{"$error":"#VALUE!"},"2053-10-01",{"$error":"#VALUE!"},{"$error":"#VALUE!"},{"$f":"0","v":0},{"$error":"#VALUE!"}]
[null,{"$error":"#VALUE!"},"2053-11-01",{"$error":"#VALUE!"},{"$error":"#VALUE!"},{"$f":"IF(AND(Calculator!$D$6=\"Active\",MONTH(C434)=7,D434<12),ROUND(E434*0.015*(D434/12),2),IF(AND(MONTH(C434)=7,OR(Calculator!$D$6=\"Retired\",D434>=12)),ROUND(E434*0.015,2),0))","v":{"$error":"#VALUE!"}},{"$error":"#VALUE!"},null,{"$error":"#VALUE!"},"2053-11-01",{"$error":"#VALUE!"},{"$error":"#VALUE!"},{"$error":"#VALUE!"},{"$error":"#VALUE!"},null,{"$error":"#VALUE!"},"2053-11-01",{"$error":"#VALUE!"},{"$error":"#VALUE!"},{"$f":"0","v":0},{"$error":"#VALUE!"}]
[null,{"$error":"#VALUE!"},"2053-12-01",{"$error":"#VALUE!"},{"$error":"#VALUE!"},{"$f":"IF(AND(Calculator!$D$6=\"Active\",MONTH(C435)=7,D435<12),ROUND(E435*0.015*(D435/12),2),IF(AND(MONTH(C435)=7,OR(Calculator!$D$6=\"Retired\",D435>=12)),ROUND(E435*0.015,2),0))","v":{"$error":"#VALUE!"}},{"$error":"#VALUE!"},null,{"$error":"#VALUE!"},"2053-12-01",{"$error":"#VALUE!"},{"$error":"#VALUE!"},{"$error":"#VALUE!"},{"$error":"#VALUE!"},null,{"$error":"#VALUE!"},"2053-12-01",{"$error":"#VALUE!"},{"$error":"#VALUE!"},{"$f":"0","v":0},{"$error":"#VALUE!"}]
[null,{"$error":"#VALUE!"},"2054-01-01",{"$error":"#VALUE!"},{"$error":"#VALUE!"},{"$f":"IF(AND(Calculator!$D$6=\"Active\",MONTH(C436)=7,D436<12),ROUND(E436*0.015*(D436/12),2),IF(AND(MONTH(C436)=7,OR(Calculator!$D$6=\"Retired\",D436>=12)),ROUND(E436*0.015,2),0))","v":{"$error":"#VALUE!"}},{"$error":"#VALUE!"},null,{"$error":"#VALUE!"},"2054-01-01",{"$error":"#VALUE!"},{"$error":"#VALUE!"},{"$error":"#VALUE!"},{"$error":"#VALUE!"},null,{"$error":"#VALUE!"},"2054-01-01",{"$error":"#VALUE!"},{"$error":"#VALUE!"},{"$f":"0","v":0},{"$error":"#VALUE!"}]
[null,{"$error":"#VALUE!"},"2054-02-01",{"$error":"#VALUE!"},{"$error":"#VALUE!"},{"$f":"IF(AND(Calculator!$D$6=\"Active\",MONTH(C437)=7,D437<12),ROUND(E437*0.015*(D437/12),2),IF(AND(MONTH(C437)=7,OR(Calculator!$D$6=\"Retired\",D437>=12)),ROUND(E437*0.015,2),0))","v":{"$error":"#VALUE!"}},{"$error":"#VALUE!"},null,{"$error":"#VALUE!"},"2054-02-01",{"$error":"#VALUE!"},{"$error":"#VALUE!"},{"$error":"#VALUE!"},{"$error":"#VALUE!"},null,{"$error":"#VALUE!"},"2054-02-01",{"$error":"#VALUE!"},{"$error":"#VALUE!"},{"$f":"0","v":0},{"$error":"#VALUE!"}]
[null,{"$error":"#VALUE!"},"2054-03-01",{"$error":"#VALUE!"},{"$error":"#VALUE!"},{"$f":"IF(AND(Calculator!$D$6=\"Active\",MONTH(C438)=7,D438<12),ROUND(E438*0.015*(D438/12),2),IF(AND(MONTH(C438)=7,OR(Calculator!$D$6=\"Retired\",D438>=12)),ROUND(E438*0.015,2),0))","v":{"$error":"#VALUE!"}},{"$error":"#VALUE!"},null,{"$error":"#VALUE!"},"2054-03-01",{"$error":"#VALUE!"},{"$error":"#VALUE!"},{"$error":"#VALUE!"},{"$error":"#VALUE!"},null,{"$error":"#VALUE!"},"2054-03-01",{"$error":"#VALUE!"},{"$error":"#VALUE!"},{"$f":"0","v":0},{"$error":"#VALUE!"}]
[null,{"$error":"#VALUE!"},"2054-04-01",{"$error":"#VALUE!"},{"$error":"#VALUE!"},{"$f":"IF(AND(Calculator!$D$6=\"Active\",MONTH(C439)=7,D439<12),ROUND(E439*0.015*(D439/12),2),IF(AND(MONTH(C439)=7,OR(Calculator!$D$6=\"Retired\",D439>=12)),ROUND(E439*0.015,2),0))","v":{"$error":"#VALUE!"}},{"$error":"#VALUE!"},null,{"$error":"#VALUE!"},"2054-04-01",{"$error":"#VALUE!"},{"$error":"#VALUE!"},{"$error":"#VALUE!"},{"$error":"#VALUE!"},null,{"$error":"#VALUE!"},"2054-04-01",{"$error":"#VALUE!"},{"$error":"#VALUE!"},{"$f":"0","v":0},{"$error":"#VALUE!"}]
[null,{"$error":"#VALUE!"},"2054-05-01",{"$error":"#VALUE!"},{"$error":"#VALUE!"},{"$f":"IF(AND(Calculator!$D$6=\"Active\",MONTH(C440)=7,D440<12),ROUND(E440*0.015*(D440/12),2),IF(AND(MONTH(C440)=7,OR(Calculator!$D$6=\"Retired\",D440>=12)),ROUND(E440*0.015,2),0))","v":{"$error":"#VALUE!"}},{"$error":"#VALUE!"},null,{"$error":"#VALUE!"},"2054-05-01",{"$error":"#VALUE!"},{"$error":"#VALUE!"},{"$error":"#VALUE!"},{"$error":"#VALUE!"},null,{"$error":"#VALUE!"},"2054-05-01",{"$error":"#VALUE!"},{"$error":"#VALUE!"},{"$f":"0","v":0},{"$error":"#VALUE!"}]
[null,{"$error":"#VALUE!"},"2054-06-01",{"$error":"#VALUE!"},{"$error":"#VALUE!"},{"$f":"IF(AND(Calculator!$D$6=\"Active\",MONTH(C441)=7,D441<12),ROUND(E441*0.015*(D441/12),2),IF(AND(MONTH(C441)=7,OR(Calculator!$D$6=\"Retired\",D441>=12)),ROUND(E441*0.015,2),0))","v":{"$error":"#VALUE!"}},{"$error":"#VALUE!"},null,{"$error":"#VALUE!"},"2054-06-01",{"$error":"#VALUE!"},{"$error":"#VALUE!"},{"$error":"#VALUE!"},{"$error":"#VALUE!"},null,{"$error":"#VALUE!"},"2054-06-01",{"$error":"#VALUE!"},{"$error":"#VALUE!"},{"$f":"0","v":0},{"$error":"#VALUE!"}]
[null,{"$error":"#VALUE!"},"2054-07-01",{"$error":"#VALUE!"},{"$error":"#VALUE!"},{"$f":"IF(AND(Calculator!$D$6=\"Active\",MONTH(C442)=7,D442<12),ROUND(E442*0.015*(D442/12),2),IF(AND(MONTH(C442)=7,OR(Calculator!$D$6=\"Retired\",D442>=12)),ROUND(E442*0.015,2),0))","v":{"$error":"#VALUE!"}},{"$error":"#VALUE!"},null,{"$error":"#VALUE!"},"2054-07-01",{"$error":"#VALUE!"},{"$error":"#VALUE!"},{"$error":"#VALUE!"},{"$error":"#VALUE!"},null,{"$error":"#VALUE!"},"2054-07-01",{"$error":"#VALUE!"},{"$error":"#VALUE!"},{"$f":"0","v":0},{"$error":"#VALUE!"}]
[null,{"$error":"#VALUE!"},"2054-08-01",{"$error":"#VALUE!"},{"$error":"#VALUE!"},{"$f":"IF(AND(Calculator!$D$6=\"Active\",MONTH(C443)=7,D443<12),ROUND(E443*0.015*(D443/12),2),IF(AND(MONTH(C443)=7,OR(Calculator!$D$6=\"Retired\",D443>=12)),ROUND(E443*0.015,2),0))","v":{"$error":"#VALUE!"}},{"$error":"#VALUE!"},null,{"$error":"#VALUE!"},"2054-08-01",{"$error":"#VALUE!"},{"$error":"#VALUE!"},{"$error":"#VALUE!"},{"$error":"#VALUE!"},null,{"$error":"#VALUE!"},"2054-08-01",{"$error":"#VALUE!"},{"$error":"#VALUE!"},{"$f":"0","v":0},{"$error":"#VALUE!"}]
[null,{"$error":"#VALUE!"},"2054-09-01",{"$error":"#VALUE!"},{"$error":"#VALUE!"},{"$f":"IF(AND(Calculator!$D$6=\"Active\",MONTH(C444)=7,D444<12),ROUND(E444*0.015*(D444/12),2),IF(AND(MONTH(C444)=7,OR(Calculator!$D$6=\"Retired\",D444>=12)),ROUND(E444*0.015,2),0))","v":{"$error":"#VALUE!"}},{"$error":"#VALUE!"},null,{"$error":"#VALUE!"},"2054-09-01",{"$error":"#VALUE!"},{"$error":"#VALUE!"},{"$error":"#VALUE!"},{"$error":"#VALUE!"},null,{"$error":"#VALUE!"},"2054-09-01",{"$error":"#VALUE!"},{"$error":"#VALUE!"},{"$f":"0","v":0},{"$error":"#VALUE!"}]
[null,{"$error":"#VALUE!"},"2054-10-01",{"$error":"#VALUE!"},{"$error":"#VALUE!"},{"$f":"IF(AND(Calculator!$D$6=\"Active\",MONTH(C445)=7,D445<12),ROUND(E445*0.015*(D445/12),2),IF(AND(MONTH(C445)=7,OR(Calculator!$D$6=\"Retired\",D445>=12)),ROUND(E445*0.015,2),0))","v":{"$error":"#VALUE!"}},{"$error":"#VALUE!"},null,{"$error":"#VALUE!"},"2054-10-01",{"$error":"#VALUE!"},{"$error":"#VALUE!"},{"$error":"#VALUE!"},{"$error":"#VALUE!"},null,{"$error":"#VALUE!"},"2054-10-01",{"$error":"#VALUE!"},{"$error":"#VALUE!"},{"$f":"0","v":0},{"$error":"#VALUE!"}]
[null,{"$error":"#VALUE!"},"2054-11-01",{"$error":"#VALUE!"},{"$error":"#VALUE!"},{"$f":"IF(AND(Calculator!$D$6=\"Active\",MONTH(C446)=7,D446<12),ROUND(E446*0.015*(D446/12),2),IF(AND(MONTH(C446)=7,OR(Calculator!$D$6=\"Retired\",D446>=12)),ROUND(E446*0.015,2),0))","v":{"$error":"#VALUE!"}},{"$error":"#VALUE!"},null,{"$error":"#VALUE!"},"2054-11-01",{"$error":"#VALUE!"},{"$error":"#VALUE!"},{"$error":"#VALUE!"},{"$error":"#VALUE!"},null,{"$error":"#VALUE!"},"2054-11-01",{"$error":"#VALUE!"},{"$error":"#VALUE!"},{"$f":"0","v":0},{"$error":"#VALUE!"}]
[null,{"$error":"#VALUE!"},"2054-12-01",{"$error":"#VALUE!"},{"$error":"#VALUE!"},{"$f":"IF(AND(Calculator!$D$6=\"Active\",MONTH(C447)=7,D447<12),ROUND(E447*0.015*(D447/12),2),IF(AND(MONTH(C447)=7,OR(Calculator!$D$6=\"Retired\",D447>=12)),ROUND(E447*0.015,2),0))","v":{"$error":"#VALUE!"}},{"$error":"#VALUE!"},null,{"$error":"#VALUE!"},"2054-12-01",{"$error":"#VALUE!"},{"$error":"#VALUE!"},{"$error":"#VALUE!"},{"$error":"#VALUE!"},null,{"$error":"#VALUE!"},"2054-12-01",{"$error":"#VALUE!"},{"$error":"#VALUE!"},{"$f":"0","v":0},{"$error":"#VALUE!"}]
[null,{"$error":"#VALUE!"},"2055-01-01",{"$error":"#VALUE!"},{"$error":"#VALUE!"},{"$f":"IF(AND(Calculator!$D$6=\"Active\",MONTH(C448)=7,D448<12),ROUND(E448*0.015*(D448/12),2),IF(AND(MONTH(C448)=7,OR(Calculator!$D$6=\"Retired\",D448>=12)),ROUND(E448*0.015,2),0))","v":{"$error":"#VALUE!"}},{"$error":"#VALUE!"},null,{"$error":"#VALUE!"},"2055-01-01",{"$error":"#VALUE!"},{"$error":"#VALUE!"},{"$f":"IF(AND(MONTH(J448)=7,K448>61),ROUND(L448*0.015,2),0)","v":{"$error":"#VALUE!"}},{"$error":"#VALUE!"},null,{"$error":"#VALUE!"},"2055-01-01",{"$error":"#VALUE!"},{"$error":"#VALUE!"},{"$f":"0","v":0},{"$error":"#VALUE!"}]
[null,{"$error":"#VALUE!"},"2055-02-01",{"$error":"#VALUE!"},{"$error":"#VALUE!"},{"$f":"IF(AND(Calculator!$D$6=\"Active\",MONTH(C449)=7,D449<12),ROUND(E449*0.015*(D449/12),2),IF(AND(MONTH(C449)=7,OR(Calculator!$D$6=\"Retired\",D449>=12)),ROUND(E449*0.015,2),0))","v":{"$error":"#VALUE!"}},{"$error":"#VALUE!"},null,{"$error":"#VALUE!"},"2055-02-01",{"$error":"#VALUE!"},{"$error":"#VALUE!"},{"$error":"#VALUE!"},{"$error":"#VALUE!"},null,{"$error":"#VALUE!"},"2055-02-01",{"$error":"#VALUE!"},{"$error":"#VALUE!"},{"$f":"0","v":0},{"$error":"#VALUE!"}]
[null,{"$error":"#VALUE!"},"2055-03-01",{"$error":"#VALUE!"},{"$error":"#VALUE!"},{"$f":"IF(AND(Calculator!$D$6=\"Active\",MONTH(C450)=7,D450<12),ROUND(E450*0.015*(D450/12),2),IF(AND(MONTH(C450)=7,OR(Calculator!$D$6=\"Retired\",D450>=12)),ROUND(E450*0.015,2),0))","v":{"$error":"#VALUE!"}},{"$error":"#VALUE!"},null,{"$error":"#VALUE!"},"2055-03-01",{"$error":"#VALUE!"},{"$error":"#VALUE!"},{"$error":"#VALUE!"},{"$error":"#VALUE!"},null,{"$error":"#VALUE!"},"2055-03-01",{"$error":"#VALUE!"},{"$error":"#VALUE!"},{"$f":"0","v":0},{"$error":"#VALUE!"}]
[null,{"$error":"#VALUE!"},"2055-04-01",{"$error":"#VALUE!"},{"$error":"#VALUE!"},{"$f":"IF(AND(Calculator!$D$6=\"Active\",MONTH(C451)=7,D451<12),ROUND(E451*0.015*(D451/12),2),IF(AND(MONTH(C451)=7,OR(Calculator!$D$6=\"Retired\",D451>=12)),ROUND(E451*0.015,2),0))","v":{"$error":"#VALUE!"}},{"$error":"#VALUE!"},null,{"$error":"#VALUE!"},"2055-04-01",{"$error":"#VALUE!"},{"$error":"#VALUE!"},{"$error":"#VALUE!"},{"$error":"#VALUE!"},null,{"$error":"#VALUE!"},"2055-04-01",{"$error":"#VALUE!"},{"$error":"#VALUE!"},{"$f":"0","v":0},{"$error":"#VALUE!"}]
[null,{"$f":"IF(MONTH(DoB)=MONTH(C451),B451+1,B451)","v":{"$error":"#VALUE!"}},"2055-05-01",{"$f":"IF(B452>=VLOOKUP(Age_at_Retirement,Life_Expectancy_Table,3,FALSE),\"\",(D451+1))","v":{"$error":"#VALUE!"}},{"$error":"#VALUE!"},{"$f":"IF(AND(Calculator!$D$6=\"Active\",MONTH(C452)=7,D452<12),ROUND(E452*0.015*(D452/12),2),IF(AND(MONTH(C452)=7,OR(Calculator!$D$6=\"Retired\",D452>=12)),ROUND(E452*0.015,2),0))","v":{"$error":"#VALUE!"}},{"$error":"#VALUE!"},null,{"$f":"IF(MONTH(DoB)=MONTH(J451),I451+1,I451)","v":{"$error":"#VALUE!"}},"2055-05-01",{"$f":"IF(I452>=VLOOKUP(Age_at_Retirement,Life_Expectancy_Table,3,FALSE),\"\",(K451+1))","v":{"$error":"#VALUE!"}},{"$error":"#VALUE!"},{"$error":"#VALUE!"},{"$error":"#VALUE!"},null,{"$f":"IF(MONTH(DoB)=MONTH(Q451),P451+1,P451)","v":{"$error":"#VALUE!"}},"2055-05-01",{"$f":"IF(P452>=VLOOKUP(Age_at_Retirement,Life_Expectancy_Table,3,FALSE),\"\",(R451+1))","v":{"$error":"#VALUE!"}},{"$error":"#VALUE!"},{"$f":"0","v":0},{"$error":"#VALUE!"}]
[null,{"$error":"#VALUE!"},"2055-06-01",{"$error":"#VALUE!"},{"$f":"IF(D453=\"\",0,G452)","v":{"$error":"#VALUE!"}},{"$f":"IF(AND(Calculator!$D$6=\"Active\",MONTH(C453)=7,D453<12),ROUND(E453*0.015*(D453/12),2),IF(AND(MONTH(C453)=7,OR(Calculator!$D$6=\"Retired\",D453>=12)),ROUND(E453*0.015,2),0))","v":{"$error":"#VALUE!"}},{"$error":"#VALUE!"},null,{"$error":"#VALUE!"},"2055-06-01",{"$error":"#VALUE!"},{"$f":"IF(K453=\"\",0,N452)","v":{"$error":"#VALUE!"}},{"$error":"#VALUE!"},{"$f":"L453+M453","v":{"$error":"#VALUE!"}},null,{"$error":"#VALUE!"},"2055-06-01",{"$error":"#VALUE!"},{"$f":"IF(R453=\"\",0,U452)","v":{"$error":"#VALUE!"}},{"$f":"0","v":0},{"$f":"S453+T453","v":{"$error":"#VALUE!"}}]
[null,{"$error":"#VALUE!"},"2055-07-01",{"$error":"#VALUE!"},{"$error":"#VALUE!"},{"$f":"IF(AND(Calculator!$D$6=\"Active\",MONTH(C454)=7,D454<12),ROUND(E454*0.015*(D454/12),2),IF(AND(MONTH(C454)=7,OR(Calculator!$D$6=\"Retired\",D454>=12)),ROUND(E454*0.015,2),0))","v":{"$error":"#VALUE!"}},{"$error":"#VALUE!"},null,{"$error":"#VALUE!"},{"$f":"EDATE(J453,1)","v":"2055-07-01"},{"$error":"#VALUE!"},{"$error":"#VALUE!"},{"$error":"#VALUE!"},{"$error":"#VALUE!"},null,{"$error":"#VALUE!"},{"$f":"EDATE(Q453,1)","v":"2055-07-01"},{"$error":"#VALUE!"},{"$error":"#VALUE!"},{"$f":"0","v":0},{"$error":"#VALUE!"}]
[null,{"$error":"#VALUE!"},"2055-08-01",{"$error":"#VALUE!"},{"$error":"#VALUE!"},{"$f":"IF(AND(Calculator!$D$6=\"Active\",MONTH(C455)=7,D455<12),ROUND(E455*0.015*(D455/12),2),IF(AND(MONTH(C455)=7,OR(Calculator!$D$6=\"Retired\",D455>=12)),ROUND(E455*0.015,2),0))","v":{"$error":"#VALUE!"}},{"$error":"#VALUE!"},null,{"$error":"#VALUE!"},"2055-08-01",{"$error":"#VALUE!"},{"$error":"#VALUE!"},{"$error":"#VALUE!"},{"$error":"#VALUE!"},null,{"$error":"#VALUE!"},"2055-08-01",{"$error":"#VALUE!"},{"$error":"#VALUE!"},{"$f":"0","v":0},{"$error":"#VALUE!"}]
[null,{"$error":"#VALUE!"},"2055-09-01",{"$error":"#VALUE!"},{"$error":"#VALUE!"},{"$f":"IF(AND(Calculator!$D$6=\"Active\",MONTH(C456)=7,D456<12),ROUND(E456*0.015*(D456/12),2),IF(AND(MONTH(C456)=7,OR(Calculator!$D$6=\"Retired\",D456>=12)),ROUND(E456*0.015,2),0))","v":{"$error":"#VALUE!"}},{"$error":"#VALUE!"},null,{"$error":"#VALUE!"},"2055-09-01",{"$error":"#VALUE!"},{"$error":"#VALUE!"},{"$error":"#VALUE!"},{"$error":"#VALUE!"},null,{"$error":"#VALUE!"},"2055-09-01",{"$error":"#VALUE!"},{"$error":"#VALUE!"},{"$f":"0","v":0},{"$error":"#VALUE!"}]
[null,{"$error":"#VALUE!"},"2055-10-01",{"$error":"#VALUE!"},{"$error":"#VALUE!"},{"$f":"IF(AND(Calculator!$D$6=\"Active\",MONTH(C457)=7,D457<12),ROUND(E457*0.015*(D457/12),2),IF(AND(MONTH(C457)=7,OR(Calculator!$D$6=\"Retired\",D457>=12)),ROUND(E457*0.015,2),0))","v":{"$error":"#VALUE!"}},{"$error":"#VALUE!"},null,{"$error":"#VALUE!"},"2055-10-01",{"$error":"#VALUE!"},{"$error":"#VALUE!"},{"$error":"#VALUE!"},{"$error":"#VALUE!"},null,{"$error":"#VALUE!"},"2055-10-01",{"$error":"#VALUE!"},{"$error":"#VALUE!"},{"$f":"0","v":0},{"$error":"#VALUE!"}]
[null,{"$error":"#VALUE!"},"2055-11-01",{"$error":"#VALUE!"},{"$error":"#VALUE!"},{"$f":"IF(AND(Calculator!$D$6=\"Active\",MONTH(C458)=7,D458<12),ROUND(E458*0.015*(D458/12),2),IF(AND(MONTH(C458)=7,OR(Calculator!$D$6=\"Retired\",D458>=12)),ROUND(E458*0.015,2),0))","v":{"$error":"#VALUE!"}},{"$error":"#VALUE!"},null,{"$error":"#VALUE!"},"2055-11-01",{"$error":"#VALUE!"},{"$error":"#VALUE!"},{"$error":"#VALUE!"},{"$error":"#VALUE!"},null,{"$error":"#VALUE!"},"2055-11-01",{"$error":"#VALUE!"},{"$error":"#VALUE!"},{"$f":"0","v":0},{"$error":"#VALUE!"}]
[null,{"$error":"#VALUE!"},"2055-12-01",{"$error":"#VALUE!"},{"$error":"#VALUE!"},{"$f":"IF(AND(Calculator!$D$6=\"Active\",MONTH(C459)=7,D459<12),ROUND(E459*0.015*(D459/12),2),IF(AND(MONTH(C459)=7,OR(Calculator!$D$6=\"Retired\",D459>=12)),ROUND(E459*0.015,2),0))","v":{"$error":"#VALUE!"}},{"$error":"#VALUE!"},null,{"$error":"#VALUE!"},"2055-12-01",{"$error":"#VALUE!"},{"$error":"#VALUE!"},{"$error":"#VALUE!"},{"$error":"#VALUE!"},null,{"$error":"#VALUE!"},"2055-12-01",{"$error":"#VALUE!"},{"$error":"#VALUE!"},{"$f":"0","v":0},{"$error":"#VALUE!"}]
[null,{"$error":"#VALUE!"},"2056-01-01",{"$error":"#VALUE!"},{"$error":"#VALUE!"},{"$f":"IF(AND(Calculator!$D$6=\"Active\",MONTH(C460)=7,D460<12),ROUND(E460*0.015*(D460/12),2),IF(AND(MONTH(C460)=7,OR(Calculator!$D$6=\"Retired\",D460>=12)),ROUND(E460*0.015,2),0))","v":{"$error":"#VALUE!"}},{"$error":"#VALUE!"},null,{"$error":"#VALUE!"},"2056-01-01",{"$error":"#VALUE!"},{"$error":"#VALUE!"},{"$error":"#VALUE!"},{"$error":"#VALUE!"},null,{"$error":"#VALUE!"},"2056-01-01",{"$error":"#VALUE!"},{"$error":"#VALUE!"},{"$f":"0","v":0},{"$error":"#VALUE!"}]
[null,{"$error":"#VALUE!"},"2056-02-01",{"$error":"#VALUE!"},{"$error":"#VALUE!"},{"$f":"IF(AND(Calculator!$D$6=\"Active\",MONTH(C461)=7,D461<12),ROUND(E461*0.015*(D461/12),2),IF(AND(MONTH(C461)=7,OR(Calculator!$D$6=\"Retired\",D461>=12)),ROUND(E461*0.015,2),0))","v":{"$error":"#VALUE!"}},{"$error":"#VALUE!"},null,{"$error":"#VALUE!"},"2056-02-01",{"$error":"#VALUE!"},{"$error":"#VALUE!"},{"$error":"#VALUE!"},{"$error":"#VALUE!"},null,{"$error":"#VALUE!"},"2056-02-01",{"$error":"#VALUE!"},{"$error":"#VALUE!"},{"$f":"0","v":0},{"$error":"#VALUE!"}]
[null,{"$error":"#VALUE!"},"2056-03-01",{"$error":"#VALUE!"},{"$error":"#VALUE!"},{"$f":"IF(AND(Calculator!$D$6=\"Active\",MONTH(C462)=7,D462<12),ROUND(E462*0.015*(D462/12),2),IF(AND(MONTH(C462)=7,OR(Calculator!$D$6=\"Retired\",D462>=12)),ROUND(E462*0.015,2),0))","v":{"$error":"#VALUE!"}},{"$error":"#VALUE!"},null,{"$error":"#VALUE!"},"2056-03-01",{"$error":"#VALUE!"},{"$error":"#VALUE!"},{"$error":"#VALUE!"},{"$error":"#VALUE!"},null,{"$error":"#VALUE!"},"2056-03-01",{"$error":"#VALUE!"},{"$error":"#VALUE!"},{"$f":"0","v":0},{"$error":"#VALUE!"}]
[null,{"$error":"#VALUE!"},"2056-04-01",{"$error":"#VALUE!"},{"$error":"#VALUE!"},{"$f":"IF(AND(Calculator!$D$6=\"Active\",MONTH(C463)=7,D463<12),ROUND(E463*0.015*(D463/12),2),IF(AND(MONTH(C463)=7,OR(Calculator!$D$6=\"Retired\",D463>=12)),ROUND(E463*0.015,2),0))","v":{"$error":"#VALUE!"}},{"$error":"#VALUE!"},null,{"$error":"#VALUE!"},"2056-04-01",{"$error":"#VALUE!"},{"$error":"#VALUE!"},{"$error":"#VALUE!"},{"$error":"#VALUE!"},null,{"$error":"#VALUE!"},"2056-04-01",{"$error":"#VALUE!"},{"$error":"#VALUE!"},{"$f":"0","v":0},{"$error":"#VALUE!"}]
[null,{"$error":"#VALUE!"},"2056-05-01",{"$error":"#VALUE!"},{"$error":"#VALUE!"},{"$f":"IF(AND(Calculator!$D$6=\"Active\",MONTH(C464)=7,D464<12),ROUND(E464*0.015*(D464/12),2),IF(AND(MONTH(C464)=7,OR(Calculator!$D$6=\"Retired\",D464>=12)),ROUND(E464*0.015,2),0))","v":{"$error":"#VALUE!"}},{"$error":"#VALUE!"},null,{"$error":"#VALUE!"},"2056-05-01",{"$error":"#VALUE!"},{"$error":"#VALUE!"},{"$error":"#VALUE!"},{"$error":"#VALUE!"},null,{"$error":"#VALUE!"},"2056-05-01",{"$error":"#VALUE!"},{"$error":"#VALUE!"},{"$f":"0","v":0},{"$error":"#VALUE!"}]
[null,{"$error":"#VALUE!"},"2056-06-01",{"$error":"#VALUE!"},{"$error":"#VALUE!"},{"$f":"IF(AND(Calculator!$D$6=\"Active\",MONTH(C465)=7,D465<12),ROUND(E465*0.015*(D465/12),2),IF(AND(MONTH(C465)=7,OR(Calculator!$D$6=\"Retired\",D465>=12)),ROUND(E465*0.015,2),0))","v":{"$error":"#VALUE!"}},{"$error":"#VALUE!"},null,{"$error":"#VALUE!"},"2056-06-01",{"$error":"#VALUE!"},{"$error":"#VALUE!"},{"$error":"#VALUE!"},{"$error":"#VALUE!"},null,{"$error":"#VALUE!"},"2056-06-01",{"$error":"#VALUE!"},{"$error":"#VALUE!"},{"$f":"0","v":0},{"$error":"#VALUE!"}]
[null,{"$error":"#VALUE!"},"2056-07-01",{"$error":"#VALUE!"},{"$error":"#VALUE!"},{"$f":"IF(AND(Calculator!$D$6=\"Active\",MONTH(C466)=7,D466<12),ROUND(E466*0.015*(D466/12),2),IF(AND(MONTH(C466)=7,OR(Calculator!$D$6=\"Retired\",D466>=12)),ROUND(E466*0.015,2),0))","v":{"$error":"#VALUE!"}},{"$error":"#VALUE!"},null,{"$error":"#VALUE!"},"2056-07-01",{"$error":"#VALUE!"},{"$error":"#VALUE!"},{"$error":"#VALUE!"},{"$error":"#VALUE!"},null,{"$error":"#VALUE!"},"2056-07-01",{"$error":"#VALUE!"},{"$error":"#VALUE!"},{"$f":"0","v":0},{"$error":"#VALUE!"}]
[null,{"$error":"#VALUE!"},"2056-08-01",{"$error":"#VALUE!"},{"$error":"#VALUE!"},{"$f":"IF(AND(Calculator!$D$6=\"Active\",MONTH(C467)=7,D467<12),ROUND(E467*0.015*(D467/12),2),IF(AND(MONTH(C467)=7,OR(Calculator!$D$6=\"Retired\",D467>=12)),ROUND(E467*0.015,2),0))","v":{"$error":"#VALUE!"}},{"$error":"#VALUE!"},null,{"$error":"#VALUE!"},"2056-08-01",{"$error":"#VALUE!"},{"$error":"#VALUE!"},{"$error":"#VALUE!"},{"$error":"#VALUE!"},null,{"$error":"#VALUE!"},"2056-08-01",{"$error":"#VALUE!"},{"$error":"#VALUE!"},{"$f":"0","v":0},{"$error":"#VALUE!"}]
[null,{"$error":"#VALUE!"},"2056-09-01",{"$error":"#VALUE!"},{"$error":"#VALUE!"},{"$f":"IF(AND(Calculator!$D$6=\"Active\",MONTH(C468)=7,D468<12),ROUND(E468*0.015*(D468/12),2),IF(AND(MONTH(C468)=7,OR(Calculator!$D$6=\"Retired\",D468>=12)),ROUND(E468*0.015,2),0))","v":{"$error":"#VALUE!"}},{"$error":"#VALUE!"},null,{"$error":"#VALUE!"},"2056-09-01",{"$error":"#VALUE!"},{"$error":"#VALUE!"},{"$error":"#VALUE!"},{"$error":"#VALUE!"},null,{"$error":"#VALUE!"},"2056-09-01",{"$error":"#VALUE!"},{"$error":"#VALUE!"},{"$f":"0","v":0},{"$error":"#VALUE!"}]
[null,{"$error":"#VALUE!"},"2056-10-01",{"$error":"#VALUE!"},{"$error":"#VALUE!"},{"$f":"IF(AND(Calculator!$D$6=\"Active\",MONTH(C469)=7,D469<12),ROUND(E469*0.015*(D469/12),2),IF(AND(MONTH(C469)=7,OR(Calculator!$D$6=\"Retired\",D469>=12)),ROUND(E469*0.015,2),0))","v":{"$error":"#VALUE!"}},{"$error":"#VALUE!"},null,{"$error":"#VALUE!"},"2056-10-01",{"$error":"#VALUE!"},{"$error":"#VALUE!"},{"$error":"#VALUE!"},{"$error":"#VALUE!"},null,{"$error":"#VALUE!"},"2056-10-01",{"$error":"#VALUE!"},{"$error":"#VALUE!"},{"$f":"0","v":0},{"$error":"#VALUE!"}]
[null,{"$error":"#VALUE!"},"2056-11-01",{"$error":"#VALUE!"},{"$error":"#VALUE!"},{"$f":"IF(AND(Calculator!$D$6=\"Active\",MONTH(C470)=7,D470<12),ROUND(E470*0.015*(D470/12),2),IF(AND(MONTH(C470)=7,OR(Calculator!$D$6=\"Retired\",D470>=12)),ROUND(E470*0.015,2),0))","v":{"$error":"#VALUE!"}},{"$error":"#VALUE!"},null,{"$error":"#VALUE!"},"2056-11-01",{"$error":"#VALUE!"},{"$error":"#VALUE!"},{"$error":"#VALUE!"},{"$error":"#VALUE!"},null,{"$error":"#VALUE!"},"2056-11-01",{"$error":"#VALUE!"},{"$error":"#VALUE!"},{"$f":"0","v":0},{"$error":"#VALUE!"}]
[null,{"$error":"#VALUE!"},"2056-12-01",{"$error":"#VALUE!"},{"$error":"#VALUE!"},{"$f":"IF(AND(Calculator!$D$6=\"Active\",MONTH(C471)=7,D471<12),ROUND(E471*0.015*(D471/12),2),IF(AND(MONTH(C471)=7,OR(Calculator!$D$6=\"Retired\",D471>=12)),ROUND(E471*0.015,2),0))","v":{"$error":"#VALUE!"}},{"$error":"#VALUE!"},null,{"$error":"#VALUE!"},"2056-12-01",{"$error":"#VALUE!"},{"$error":"#VALUE!"},{"$error":"#VALUE!"},{"$error":"#VALUE!"},null,{"$error":"#VALUE!"},"2056-12-01",{"$error":"#VALUE!"},{"$error":"#VALUE!"},{"$f":"0","v":0},{"$error":"#VALUE!"}]
[null,{"$error":"#VALUE!"},"2057-01-01",{"$error":"#VALUE!"},{"$error":"#VALUE!"},{"$f":"IF(AND(Calculator!$D$6=\"Active\",MONTH(C472)=7,D472<12),ROUND(E472*0.015*(D472/12),2),IF(AND(MONTH(C472)=7,OR(Calculator!$D$6=\"Retired\",D472>=12)),ROUND(E472*0.015,2),0))","v":{"$error":"#VALUE!"}},{"$error":"#VALUE!"},null,{"$error":"#VALUE!"},"2057-01-01",{"$error":"#VALUE!"},{"$error":"#VALUE!"},{"$error":"#VALUE!"},{"$error":"#VALUE!"},null,{"$error":"#VALUE!"},"2057-01-01",{"$error":"#VALUE!"},{"$error":"#VALUE!"},{"$f":"0","v":0},{"$error":"#VALUE!"}]
[null,{"$error":"#VALUE!"},"2057-02-01",{"$error":"#VALUE!"},{"$error":"#VALUE!"},{"$f":"IF(AND(Calculator!$D$6=\"Active\",MONTH(C473)=7,D473<12),ROUND(E473*0.015*(D473/12),2),IF(AND(MONTH(C473)=7,OR(Calculator!$D$6=\"Retired\",D473>=12)),ROUND(E473*0.015,2),0))","v":{"$error":"#VALUE!"}},{"$error":"#VALUE!"},null,{"$error":"#VALUE!"},"2057-02-01",{"$error":"#VALUE!"},{"$error":"#VALUE!"},{"$error":"#VALUE!"},{"$error":"#VALUE!"},null,{"$error":"#VALUE!"},"2057-02-01",{"$error":"#VALUE!"},{"$error":"#VALUE!"},{"$f":"0","v":0},{"$error":"#VALUE!"}]
[null,{"$error":"#VALUE!"},"2057-03-01",{"$error":"#VALUE!"},{"$error":"#VALUE!"},{"$f":"IF(AND(Calculator!$D$6=\"Active\",MONTH(C474)=7,D474<12),ROUND(E474*0.015*(D474/12),2),IF(AND(MONTH(C474)=7,OR(Calculator!$D$6=\"Retired\",D474>=12)),ROUND(E474*0.015,2),0))","v":{"$error":"#VALUE!"}},{"$error":"#VALUE!"},null,{"$error":"#VALUE!"},"2057-03-01",{"$error":"#VALUE!"},{"$error":"#VALUE!"},{"$error":"#VALUE!"},{"$error":"#VALUE!"},null,{"$error":"#VALUE!"},"2057-03-01",{"$error":"#VALUE!"},{"$error":"#VALUE!"},{"$f":"0","v":0},{"$error":"#VALUE!"}]
[null,{"$error":"#VALUE!"},"2057-04-01",{"$error":"#VALUE!"},{"$error":"#VALUE!"},{"$f":"IF(AND(Calculator!$D$6=\"Active\",MONTH(C475)=7,D475<12),ROUND(E475*0.015*(D475/12),2),IF(AND(MONTH(C475)=7,OR(Calculator!$D$6=\"Retired\",D475>=12)),ROUND(E475*0.015,2),0))","v":{"$error":"#VALUE!"}},{"$error":"#VALUE!"},null,{"$error":"#VALUE!"},"2057-04-01",{"$error":"#VALUE!"},{"$error":"#VALUE!"},{"$error":"#VALUE!"},{"$error":"#VALUE!"},null,{"$error":"#VALUE!"},"2057-04-01",{"$error":"#VALUE!"},{"$error":"#VALUE!"},{"$f":"0","v":0},{"$error":"#VALUE!"}]
[null,{"$error":"#VALUE!"},"2057-05-01",{"$error":"#VALUE!"},{"$error":"#VALUE!"},{"$f":"IF(AND(Calculator!$D$6=\"Active\",MONTH(C476)=7,D476<12),ROUND(E476*0.015*(D476/12),2),IF(AND(MONTH(C476)=7,OR(Calculator!$D$6=\"Retired\",D476>=12)),ROUND(E476*0.015,2),0))","v":{"$error":"#VALUE!"}},{"$error":"#VALUE!"},null,{"$error":"#VALUE!"},"2057-05-01",{"$error":"#VALUE!"},{"$error":"#VALUE!"},{"$error":"#VALUE!"},{"$error":"#VALUE!"},null,{"$error":"#VALUE!"},"2057-05-01",{"$error":"#VALUE!"},{"$error":"#VALUE!"},{"$f":"0","v":0},{"$error":"#VALUE!"}]
[null,{"$error":"#VALUE!"},"2057-06-01",{"$error":"#VALUE!"},{"$error":"#VALUE!"},{"$f":"IF(AND(Calculator!$D$6=\"Active\",MONTH(C477)=7,D477<12),ROUND(E477*0.015*(D477/12),2),IF(AND(MONTH(C477)=7,OR(Calculator!$D$6=\"Retired\",D477>=12)),ROUND(E477*0.015,2),0))","v":{"$error":"#VALUE!"}},{"$error":"#VALUE!"},null,{"$error":"#VALUE!"},"2057-06-01",{"$error":"#VALUE!"},{"$error":"#VALUE!"},{"$error":"#VALUE!"},{"$error":"#VALUE!"},null,{"$error":"#VALUE!"},"2057-06-01",{"$error":"#VALUE!"},{"$error":"#VALUE!"},{"$f":"0","v":0},{"$error":"#VALUE!"}]
[null,{"$error":"#VALUE!"},"2057-07-01",{"$error":"#VALUE!"},{"$error":"#VALUE!"},{"$f":"IF(AND(Calculator!$D$6=\"Active\",MONTH(C478)=7,D478<12),ROUND(E478*0.015*(D478/12),2),IF(AND(MONTH(C478)=7,OR(Calculator!$D$6=\"Retired\",D478>=12)),ROUND(E478*0.015,2),0))","v":{"$error":"#VALUE!"}},{"$error":"#VALUE!"},null,{"$error":"#VALUE!"},"2057-07-01",{"$error":"#VALUE!"},{"$error":"#VALUE!"},{"$error":"#VALUE!"},{"$error":"#VALUE!"},null,{"$error":"#VALUE!"},"2057-07-01",{"$error":"#VALUE!"},{"$error":"#VALUE!"},{"$f":"0","v":0},{"$error":"#VALUE!"}]
[null,{"$error":"#VALUE!"},"2057-08-01",{"$error":"#VALUE!"},{"$error":"#VALUE!"},{"$f":"IF(AND(Calculator!$D$6=\"Active\",MONTH(C479)=7,D479<12),ROUND(E479*0.015*(D479/12),2),IF(AND(MONTH(C479)=7,OR(Calculator!$D$6=\"Retired\",D479>=12)),ROUND(E479*0.015,2),0))","v":{"$error":"#VALUE!"}},{"$error":"#VALUE!"},null,{"$error":"#VALUE!"},"2057-08-01",{"$error":"#VALUE!"},{"$error":"#VALUE!"},{"$error":"#VALUE!"},{"$error":"#VALUE!"},null,{"$error":"#VALUE!"},"2057-08-01",{"$error":"#VALUE!"},{"$error":"#VALUE!"},{"$f":"0","v":0},{"$error":"#VALUE!"}]
[null,{"$error":"#VALUE!"},"2057-09-01",{"$error":"#VALUE!"},{"$error":"#VALUE!"},{"$f":"IF(AND(Calculator!$D$6=\"Active\",MONTH(C480)=7,D480<12),ROUND(E480*0.015*(D480/12),2),IF(AND(MONTH(C480)=7,OR(Calculator!$D$6=\"Retired\",D480>=12)),ROUND(E480*0.015,2),0))","v":{"$error":"#VALUE!"}},{"$error":"#VALUE!"},null,{"$error":"#VALUE!"},"2057-09-01",{"$error":"#VALUE!"},{"$error":"#VALUE!"},{"$error":"#VALUE!"},{"$error":"#VALUE!"},null,{"$error":"#VALUE!"},"2057-09-01",{"$error":"#VALUE!"},{"$error":"#VALUE!"},{"$f":"0","v":0},{"$error":"#VALUE!"}]
[null,{"$error":"#VALUE!"},"2057-10-01",{"$error":"#VALUE!"},{"$error":"#VALUE!"},{"$f":"IF(AND(Calculator!$D$6=\"Active\",MONTH(C481)=7,D481<12),ROUND(E481*0.015*(D481/12),2),IF(AND(MONTH(C481)=7,OR(Calculator!$D$6=\"Retired\",D481>=12)),ROUND(E481*0.015,2),0))","v":{"$error":"#VALUE!"}},{"$error":"#VALUE!"},null,{"$error":"#VALUE!"},"2057-10-01",{"$error":"#VALUE!"},{"$error":"#VALUE!"},{"$error":"#VALUE!"},{"$error":"#VALUE!"},null,{"$error":"#VALUE!"},"2057-10-01",{"$error":"#VALUE!"},{"$error":"#VALUE!"},{"$f":"0","v":0},{"$error":"#VALUE!"}]
[null,{"$error":"#VALUE!"},"2057-11-01",{"$error":"#VALUE!"},{"$error":"#VALUE!"},{"$f":"IF(AND(Calculator!$D$6=\"Active\",MONTH(C482)=7,D482<12),ROUND(E482*0.015*(D482/12),2),IF(AND(MONTH(C482)=7,OR(Calculator!$D$6=\"Retired\",D482>=12)),ROUND(E482*0.015,2),0))","v":{"$error":"#VALUE!"}},{"$error":"#VALUE!"},null,{"$error":"#VALUE!"},"2057-11-01",{"$error":"#VALUE!"},{"$error":"#VALUE!"},{"$error":"#VALUE!"},{"$error":"#VALUE!"},null,{"$error":"#VALUE!"},"2057-11-01",{"$error":"#VALUE!"},{"$error":"#VALUE!"},{"$f":"0","v":0},{"$error":"#VALUE!"}]
[null,{"$error":"#VALUE!"},"2057-12-01",{"$error":"#VALUE!"},{"$error":"#VALUE!"},{"$f":"IF(AND(Calculator!$D$6=\"Active\",MONTH(C483)=7,D483<12),ROUND(E483*0.015*(D483/12),2),IF(AND(MONTH(C483)=7,OR(Calculator!$D$6=\"Retired\",D483>=12)),ROUND(E483*0.015,2),0))","v":{"$error":"#VALUE!"}},{"$error":"#VALUE!"},null,{"$error":"#VALUE!"},"2057-12-01",{"$error":"#VALUE!"},{"$error":"#VALUE!"},{"$error":"#VALUE!"},{"$error":"#VALUE!"},null,{"$error":"#VALUE!"},"2057-12-01",{"$error":"#VALUE!"},{"$error":"#VALUE!"},{"$f":"0","v":0},{"$error":"#VALUE!"}]
[null,{"$error":"#VALUE!"},"2058-01-01",{"$error":"#VALUE!"},{"$error":"#VALUE!"},{"$f":"IF(AND(Calculator!$D$6=\"Active\",MONTH(C484)=7,D484<12),ROUND(E484*0.015*(D484/12),2),IF(AND(MONTH(C484)=7,OR(Calculator!$D$6=\"Retired\",D484>=12)),ROUND(E484*0.015,2),0))","v":{"$error":"#VALUE!"}},{"$error":"#VALUE!"},null,{"$error":"#VALUE!"},"2058-01-01",{"$error":"#VALUE!"},{"$error":"#VALUE!"},{"$error":"#VALUE!"},{"$error":"#VALUE!"},null,{"$error":"#VALUE!"},"2058-01-01",{"$error":"#VALUE!"},{"$error":"#VALUE!"},{"$f":"0","v":0},{"$error":"#VALUE!"}]
[null,{"$error":"#VALUE!"},"2058-02-01",{"$error":"#VALUE!"},{"$error":"#VALUE!"},{"$f":"IF(AND(Calculator!$D$6=\"Active\",MONTH(C485)=7,D485<12),ROUND(E485*0.015*(D485/12),2),IF(AND(MONTH(C485)=7,OR(Calculator!$D$6=\"Retired\",D485>=12)),ROUND(E485*0.015,2),0))","v":{"$error":"#VALUE!"}},{"$error":"#VALUE!"},null,{"$error":"#VALUE!"},"2058-02-01",{"$error":"#VALUE!"},{"$error":"#VALUE!"},{"$error":"#VALUE!"},{"$error":"#VALUE!"},null,{"$error":"#VALUE!"},"2058-02-01",{"$error":"#VALUE!"},{"$error":"#VALUE!"},{"$f":"0","v":0},{"$error":"#VALUE!"}]
[null,{"$error":"#VALUE!"},"2058-03-01",{"$error":"#VALUE!"},{"$error":"#VALUE!"},{"$f":"IF(AND(Calculator!$D$6=\"Active\",MONTH(C486)=7,D486<12),ROUND(E486*0.015*(D486/12),2),IF(AND(MONTH(C486)=7,OR(Calculator!$D$6=\"Retired\",D486>=12)),ROUND(E486*0.015,2),0))","v":{"$error":"#VALUE!"}},{"$error":"#VALUE!"},null,{"$error":"#VALUE!"},"2058-03-01",{"$error":"#VALUE!"},{"$error":"#VALUE!"},{"$error":"#VALUE!"},{"$error":"#VALUE!"},null,{"$error":"#VALUE!"},"2058-03-01",{"$error":"#VALUE!"},{"$error":"#VALUE!"},{"$f":"0","v":0},{"$error":"#VALUE!"}]
[null,{"$error":"#VALUE!"},"2058-04-01",{"$error":"#VALUE!"},{"$error":"#VALUE!"},{"$f":"IF(AND(Calculator!$D$6=\"Active\",MONTH(C487)=7,D487<12),ROUND(E487*0.015*(D487/12),2),IF(AND(MONTH(C487)=7,OR(Calculator!$D$6=\"Retired\",D487>=12)),ROUND(E487*0.015,2),0))","v":{"$error":"#VALUE!"}},{"$error":"#VALUE!"},null,{"$error":"#VALUE!"},"2058-04-01",{"$error":"#VALUE!"},{"$error":"#VALUE!"},{"$error":"#VALUE!"},{"$error":"#VALUE!"},null,{"$error":"#VALUE!"},"2058-04-01",{"$error":"#VALUE!"},{"$error":"#VALUE!"},{"$f":"0","v":0},{"$error":"#VALUE!"}]
[null,{"$error":"#VALUE!"},"2058-05-01",{"$error":"#VALUE!"},{"$error":"#VALUE!"},{"$f":"IF(AND(Calculator!$D$6=\"Active\",MONTH(C488)=7,D488<12),ROUND(E488*0.015*(D488/12),2),IF(AND(MONTH(C488)=7,OR(Calculator!$D$6=\"Retired\",D488>=12)),ROUND(E488*0.015,2),0))","v":{"$error":"#VALUE!"}},{"$error":"#VALUE!"},null,{"$error":"#VALUE!"},"2058-05-01",{"$error":"#VALUE!"},{"$error":"#VALUE!"},{"$error":"#VALUE!"},{"$error":"#VALUE!"},null,{"$error":"#VALUE!"},"2058-05-01",{"$error":"#VALUE!"},{"$error":"#VALUE!"},{"$f":"0","v":0},{"$error":"#VALUE!"}]
[null,{"$error":"#VALUE!"},"2058-06-01",{"$error":"#VALUE!"},{"$error":"#VALUE!"},{"$f":"IF(AND(Calculator!$D$6=\"Active\",MONTH(C489)=7,D489<12),ROUND(E489*0.015*(D489/12),2),IF(AND(MONTH(C489)=7,OR(Calculator!$D$6=\"Retired\",D489>=12)),ROUND(E489*0.015,2),0))","v":{"$error":"#VALUE!"}},{"$error":"#VALUE!"},null,{"$error":"#VALUE!"},"2058-06-01",{"$error":"#VALUE!"},{"$error":"#VALUE!"},{"$error":"#VALUE!"},{"$error":"#VALUE!"},null,{"$error":"#VALUE!"},"2058-06-01",{"$error":"#VALUE!"},{"$error":"#VALUE!"},{"$f":"0","v":0},{"$error":"#VALUE!"}]
[null,{"$error":"#VALUE!"},"2058-07-01",{"$error":"#VALUE!"},{"$error":"#VALUE!"},{"$f":"IF(AND(Calculator!$D$6=\"Active\",MONTH(C490)=7,D490<12),ROUND(E490*0.015*(D490/12),2),IF(AND(MONTH(C490)=7,OR(Calculator!$D$6=\"Retired\",D490>=12)),ROUND(E490*0.015,2),0))","v":{"$error":"#VALUE!"}},{"$error":"#VALUE!"},null,{"$error":"#VALUE!"},"2058-07-01",{"$error":"#VALUE!"},{"$error":"#VALUE!"},{"$error":"#VALUE!"},{"$error":"#VALUE!"},null,{"$error":"#VALUE!"},"2058-07-01",{"$error":"#VALUE!"},{"$error":"#VALUE!"},{"$f":"0","v":0},{"$error":"#VALUE!"}]
[null,{"$error":"#VALUE!"},"2058-08-01",{"$error":"#VALUE!"},{"$error":"#VALUE!"},{"$f":"IF(AND(Calculator!$D$6=\"Active\",MONTH(C491)=7,D491<12),ROUND(E491*0.015*(D491/12),2),IF(AND(MONTH(C491)=7,OR(Calculator!$D$6=\"Retired\",D491>=12)),ROUND(E491*0.015,2),0))","v":{"$error":"#VALUE!"}},{"$error":"#VALUE!"},null,{"$error":"#VALUE!"},"2058-08-01",{"$error":"#VALUE!"},{"$error":"#VALUE!"},{"$error":"#VALUE!"},{"$error":"#VALUE!"},null,{"$error":"#VALUE!"},"2058-08-01",{"$error":"#VALUE!"},{"$error":"#VALUE!"},{"$f":"0","v":0},{"$error":"#VALUE!"}]
[null,{"$error":"#VALUE!"},"2058-09-01",{"$error":"#VALUE!"},{"$error":"#VALUE!"},{"$f":"IF(AND(Calculator!$D$6=\"Active\",MONTH(C492)=7,D492<12),ROUND(E492*0.015*(D492/12),2),IF(AND(MONTH(C492)=7,OR(Calculator!$D$6=\"Retired\",D492>=12)),ROUND(E492*0.015,2),0))","v":{"$error":"#VALUE!"}},{"$error":"#VALUE!"},null,{"$error":"#VALUE!"},"2058-09-01",{"$error":"#VALUE!"},{"$error":"#VALUE!"},{"$error":"#VALUE!"},{"$error":"#VALUE!"},null,{"$error":"#VALUE!"},"2058-09-01",{"$error":"#VALUE!"},{"$error":"#VALUE!"},{"$f":"0","v":0},{"$error":"#VALUE!"}]
[null,{"$error":"#VALUE!"},"2058-10-01",{"$error":"#VALUE!"},{"$error":"#VALUE!"},{"$f":"IF(AND(Calculator!$D$6=\"Active\",MONTH(C493)=7,D493<12),ROUND(E493*0.015*(D493/12),2),IF(AND(MONTH(C493)=7,OR(Calculator!$D$6=\"Retired\",D493>=12)),ROUND(E493*0.015,2),0))","v":{"$error":"#VALUE!"}},{"$error":"#VALUE!"},null,{"$error":"#VALUE!"},"2058-10-01",{"$error":"#VALUE!"},{"$error":"#VALUE!"},{"$error":"#VALUE!"},{"$error":"#VALUE!"},null,{"$error":"#VALUE!"},"2058-10-01",{"$error":"#VALUE!"},{"$error":"#VALUE!"},{"$f":"0","v":0},{"$error":"#VALUE!"}]
[null,{"$error":"#VALUE!"},"2058-11-01",{"$error":"#VALUE!"},{"$error":"#VALUE!"},{"$f":"IF(AND(Calculator!$D$6=\"Active\",MONTH(C494)=7,D494<12),ROUND(E494*0.015*(D494/12),2),IF(AND(MONTH(C494)=7,OR(Calculator!$D$6=\"Retired\",D494>=12)),ROUND(E494*0.015,2),0))","v":{"$error":"#VALUE!"}},{"$error":"#VALUE!"},null,{"$error":"#VALUE!"},"2058-11-01",{"$error":"#VALUE!"},{"$error":"#VALUE!"},{"$error":"#VALUE!"},{"$error":"#VALUE!"},null,{"$error":"#VALUE!"},"2058-11-01",{"$error":"#VALUE!"},{"$error":"#VALUE!"},{"$f":"0","v":0},{"$error":"#VALUE!"}]
[null,{"$error":"#VALUE!"},{"$f":"EDATE(C494,1)","v":"2058-12-01"},{"$error":"#VALUE!"},{"$error":"#VALUE!"},{"$f":"IF(AND(Calculator!$D$6=\"Active\",MONTH(C495)=7,D495<12),ROUND(E495*0.015*(D495/12),2),IF(AND(MONTH(C495)=7,OR(Calculator!$D$6=\"Retired\",D495>=12)),ROUND(E495*0.015,2),0))","v":{"$error":"#VALUE!"}},{"$f":"E495+F495","v":{"$error":"#VALUE!"}},null,{"$error":"#VALUE!"},"2058-12-01",{"$error":"#VALUE!"},{"$error":"#VALUE!"},{"$error":"#VALUE!"},{"$error":"#VALUE!"},null,{"$error":"#VALUE!"},"2058-12-01",{"$error":"#VALUE!"},{"$error":"#VALUE!"},{"$f":"0","v":0},{"$error":"#VALUE!"}]
[null,{"$error":"#VALUE!"},"2059-01-01",{"$error":"#VALUE!"},{"$error":"#VALUE!"},{"$f":"IF(AND(Calculator!$D$6=\"Active\",MONTH(C496)=7,D496<12),ROUND(E496*0.015*(D496/12),2),IF(AND(MONTH(C496)=7,OR(Calculator!$D$6=\"Retired\",D496>=12)),ROUND(E496*0.015,2),0))","v":{"$error":"#VALUE!"}},{"$error":"#VALUE!"},null,{"$error":"#VALUE!"},"2059-01-01",{"$error":"#VALUE!"},{"$error":"#VALUE!"},{"$error":"#VALUE!"},{"$error":"#VALUE!"},null,{"$error":"#VALUE!"},"2059-01-01",{"$error":"#VALUE!"},{"$error":"#VALUE!"},{"$f":"0","v":0},{"$error":"#VALUE!"}]
[null,{"$error":"#VALUE!"},"2059-02-01",{"$error":"#VALUE!"},{"$error":"#VALUE!"},{"$f":"IF(AND(Calculator!$D$6=\"Active\",MONTH(C497)=7,D497<12),ROUND(E497*0.015*(D497/12),2),IF(AND(MONTH(C497)=7,OR(Calculator!$D$6=\"Retired\",D497>=12)),ROUND(E497*0.015,2),0))","v":{"$error":"#VALUE!"}},{"$error":"#VALUE!"},null,{"$error":"#VALUE!"},"2059-02-01",{"$error":"#VALUE!"},{"$error":"#VALUE!"},{"$error":"#VALUE!"},{"$error":"#VALUE!"},null,{"$error":"#VALUE!"},"2059-02-01",{"$error":"#VALUE!"},{"$error":"#VALUE!"},{"$f":"0","v":0},{"$error":"#VALUE!"}]
[null,{"$error":"#VALUE!"},"2059-03-01",{"$error":"#VALUE!"},{"$error":"#VALUE!"},{"$f":"IF(AND(Calculator!$D$6=\"Active\",MONTH(C498)=7,D498<12),ROUND(E498*0.015*(D498/12),2),IF(AND(MONTH(C498)=7,OR(Calculator!$D$6=\"Retired\",D498>=12)),ROUND(E498*0.015,2),0))","v":{"$error":"#VALUE!"}},{"$error":"#VALUE!"},null,{"$error":"#VALUE!"},"2059-03-01",{"$error":"#VALUE!"},{"$error":"#VALUE!"},{"$error":"#VALUE!"},{"$error":"#VALUE!"},null,{"$error":"#VALUE!"},"2059-03-01",{"$error":"#VALUE!"},{"$error":"#VALUE!"},{"$f":"0","v":0},{"$error":"#VALUE!"}]
[null,{"$error":"#VALUE!"},"2059-04-01",{"$error":"#VALUE!"},{"$error":"#VALUE!"},{"$f":"IF(AND(Calculator!$D$6=\"Active\",MONTH(C499)=7,D499<12),ROUND(E499*0.015*(D499/12),2),IF(AND(MONTH(C499)=7,OR(Calculator!$D$6=\"Retired\",D499>=12)),ROUND(E499*0.015,2),0))","v":{"$error":"#VALUE!"}},{"$error":"#VALUE!"},null,{"$error":"#VALUE!"},"2059-04-01",{"$error":"#VALUE!"},{"$error":"#VALUE!"},{"$error":"#VALUE!"},{"$error":"#VALUE!"},null,{"$error":"#VALUE!"},"2059-04-01",{"$error":"#VALUE!"},{"$error":"#VALUE!"},{"$f":"0","v":0},{"$error":"#VALUE!"}]
[null,{"$error":"#VALUE!"},"2059-05-01",{"$error":"#VALUE!"},{"$error":"#VALUE!"},{"$f":"IF(AND(Calculator!$D$6=\"Active\",MONTH(C500)=7,D500<12),ROUND(E500*0.015*(D500/12),2),IF(AND(MONTH(C500)=7,OR(Calculator!$D$6=\"Retired\",D500>=12)),ROUND(E500*0.015,2),0))","v":{"$error":"#VALUE!"}},{"$error":"#VALUE!"},null,{"$error":"#VALUE!"},"2059-05-01",{"$error":"#VALUE!"},{"$error":"#VALUE!"},{"$error":"#VALUE!"},{"$error":"#VALUE!"},null,{"$error":"#VALUE!"},"2059-05-01",{"$error":"#VALUE!"},{"$error":"#VALUE!"},{"$f":"0","v":0},{"$error":"#VALUE!"}]
[null,{"$error":"#VALUE!"},"2059-06-01",{"$error":"#VALUE!"},{"$error":"#VALUE!"},{"$f":"IF(AND(Calculator!$D$6=\"Active\",MONTH(C501)=7,D501<12),ROUND(E501*0.015*(D501/12),2),IF(AND(MONTH(C501)=7,OR(Calculator!$D$6=\"Retired\",D501>=12)),ROUND(E501*0.015,2),0))","v":{"$error":"#VALUE!"}},{"$error":"#VALUE!"},null,{"$error":"#VALUE!"},"2059-06-01",{"$error":"#VALUE!"},{"$error":"#VALUE!"},{"$error":"#VALUE!"},{"$error":"#VALUE!"},null,{"$error":"#VALUE!"},"2059-06-01",{"$error":"#VALUE!"},{"$error":"#VALUE!"},{"$f":"0","v":0},{"$error":"#VALUE!"}]
[null,{"$error":"#VALUE!"},"2059-07-01",{"$error":"#VALUE!"},{"$error":"#VALUE!"},{"$f":"IF(AND(Calculator!$D$6=\"Active\",MONTH(C502)=7,D502<12),ROUND(E502*0.015*(D502/12),2),IF(AND(MONTH(C502)=7,OR(Calculator!$D$6=\"Retired\",D502>=12)),ROUND(E502*0.015,2),0))","v":{"$error":"#VALUE!"}},{"$error":"#VALUE!"},null,{"$error":"#VALUE!"},"2059-07-01",{"$error":"#VALUE!"},{"$error":"#VALUE!"},{"$error":"#VALUE!"},{"$error":"#VALUE!"},null,{"$error":"#VALUE!"},"2059-07-01",{"$error":"#VALUE!"},{"$error":"#VALUE!"},{"$f":"0","v":0},{"$error":"#VALUE!"}]
[null,{"$error":"#VALUE!"},"2059-08-01",{"$error":"#VALUE!"},{"$error":"#VALUE!"},{"$f":"IF(AND(Calculator!$D$6=\"Active\",MONTH(C503)=7,D503<12),ROUND(E503*0.015*(D503/12),2),IF(AND(MONTH(C503)=7,OR(Calculator!$D$6=\"Retired\",D503>=12)),ROUND(E503*0.015,2),0))","v":{"$error":"#VALUE!"}},{"$error":"#VALUE!"},null,{"$error":"#VALUE!"},"2059-08-01",{"$error":"#VALUE!"},{"$error":"#VALUE!"},{"$error":"#VALUE!"},{"$error":"#VALUE!"},null,{"$error":"#VALUE!"},"2059-08-01",{"$error":"#VALUE!"},{"$error":"#VALUE!"},{"$f":"0","v":0},{"$error":"#VALUE!"}]
[null,{"$error":"#VALUE!"},"2059-09-01",{"$error":"#VALUE!"},{"$error":"#VALUE!"},{"$f":"IF(AND(Calculator!$D$6=\"Active\",MONTH(C504)=7,D504<12),ROUND(E504*0.015*(D504/12),2),IF(AND(MONTH(C504)=7,OR(Calculator!$D$6=\"Retired\",D504>=12)),ROUND(E504*0.015,2),0))","v":{"$error":"#VALUE!"}},{"$error":"#VALUE!"},null,{"$error":"#VALUE!"},"2059-09-01",{"$error":"#VALUE!"},{"$error":"#VALUE!"},{"$error":"#VALUE!"},{"$error":"#VALUE!"},null,{"$error":"#VALUE!"},"2059-09-01",{"$error":"#VALUE!"},{"$error":"#VALUE!"},{"$f":"0","v":0},{"$error":"#VALUE!"}]
[null,{"$error":"#VALUE!"},"2059-10-01",{"$error":"#VALUE!"},{"$error":"#VALUE!"},{"$f":"IF(AND(Calculator!$D$6=\"Active\",MONTH(C505)=7,D505<12),ROUND(E505*0.015*(D505/12),2),IF(AND(MONTH(C505)=7,OR(Calculator!$D$6=\"Retired\",D505>=12)),ROUND(E505*0.015,2),0))","v":{"$error":"#VALUE!"}},{"$error":"#VALUE!"},null,{"$error":"#VALUE!"},"2059-10-01",{"$error":"#VALUE!"},{"$error":"#VALUE!"},{"$error":"#VALUE!"},{"$error":"#VALUE!"},null,{"$error":"#VALUE!"},"2059-10-01",{"$error":"#VALUE!"},{"$error":"#VALUE!"},{"$f":"0","v":0},{"$error":"#VALUE!"}]
[null,{"$error":"#VALUE!"},"2059-11-01",{"$error":"#VALUE!"},{"$error":"#VALUE!"},{"$f":"IF(AND(Calculator!$D$6=\"Active\",MONTH(C506)=7,D506<12),ROUND(E506*0.015*(D506/12),2),IF(AND(MONTH(C506)=7,OR(Calculator!$D$6=\"Retired\",D506>=12)),ROUND(E506*0.015,2),0))","v":{"$error":"#VALUE!"}},{"$error":"#VALUE!"},null,{"$error":"#VALUE!"},"2059-11-01",{"$error":"#VALUE!"},{"$error":"#VALUE!"},{"$error":"#VALUE!"},{"$error":"#VALUE!"},null,{"$error":"#VALUE!"},"2059-11-01",{"$error":"#VALUE!"},{"$error":"#VALUE!"},{"$f":"0","v":0},{"$error":"#VALUE!"}]
[null,{"$error":"#VALUE!"},"2059-12-01",{"$error":"#VALUE!"},{"$error":"#VALUE!"},{"$f":"IF(AND(Calculator!$D$6=\"Active\",MONTH(C507)=7,D507<12),ROUND(E507*0.015*(D507/12),2),IF(AND(MONTH(C507)=7,OR(Calculator!$D$6=\"Retired\",D507>=12)),ROUND(E507*0.015,2),0))","v":{"$error":"#VALUE!"}},{"$error":"#VALUE!"},null,{"$error":"#VALUE!"},"2059-12-01",{"$error":"#VALUE!"},{"$error":"#VALUE!"},{"$error":"#VALUE!"},{"$error":"#VALUE!"},null,{"$error":"#VALUE!"},"2059-12-01",{"$error":"#VALUE!"},{"$error":"#VALUE!"},{"$f":"0","v":0},{"$error":"#VALUE!"}]
[null,{"$error":"#VALUE!"},"2060-01-01",{"$error":"#VALUE!"},{"$error":"#VALUE!"},{"$f":"IF(AND(Calculator!$D$6=\"Active\",MONTH(C508)=7,D508<12),ROUND(E508*0.015*(D508/12),2),IF(AND(MONTH(C508)=7,OR(Calculator!$D$6=\"Retired\",D508>=12)),ROUND(E508*0.015,2),0))","v":{"$error":"#VALUE!"}},{"$error":"#VALUE!"},null,{"$error":"#VALUE!"},"2060-01-01",{"$error":"#VALUE!"},{"$error":"#VALUE!"},{"$error":"#VALUE!"},{"$error":"#VALUE!"},null,{"$error":"#VALUE!"},"2060-01-01",{"$error":"#VALUE!"},{"$error":"#VALUE!"},{"$f":"0","v":0},{"$error":"#VALUE!"}]
[null,{"$error":"#VALUE!"},"2060-02-01",{"$error":"#VALUE!"},{"$error":"#VALUE!"},{"$f":"IF(AND(Calculator!$D$6=\"Active\",MONTH(C509)=7,D509<12),ROUND(E509*0.015*(D509/12),2),IF(AND(MONTH(C509)=7,OR(Calculator!$D$6=\"Retired\",D509>=12)),ROUND(E509*0.015,2),0))","v":{"$error":"#VALUE!"}},{"$error":"#VALUE!"},null,{"$error":"#VALUE!"},"2060-02-01",{"$error":"#VALUE!"},{"$error":"#VALUE!"},{"$error":"#VALUE!"},{"$error":"#VALUE!"},null,{"$error":"#VALUE!"},"2060-02-01",{"$error":"#VALUE!"},{"$error":"#VALUE!"},{"$f":"0","v":0},{"$error":"#VALUE!"}]
[null,{"$error":"#VALUE!"},"2060-03-01",{"$error":"#VALUE!"},{"$error":"#VALUE!"},{"$f":"IF(AND(Calculator!$D$6=\"Active\",MONTH(C510)=7,D510<12),ROUND(E510*0.015*(D510/12),2),IF(AND(MONTH(C510)=7,OR(Calculator!$D$6=\"Retired\",D510>=12)),ROUND(E510*0.015,2),0))","v":{"$error":"#VALUE!"}},{"$error":"#VALUE!"},null,{"$error":"#VALUE!"},"2060-03-01",{"$error":"#VALUE!"},{"$error":"#VALUE!"},{"$error":"#VALUE!"},{"$error":"#VALUE!"},null,{"$error":"#VALUE!"},"2060-03-01",{"$error":"#VALUE!"},{"$error":"#VALUE!"},{"$f":"0","v":0},{"$error":"#VALUE!"}]
[null,{"$error":"#VALUE!"},"2060-04-01",{"$error":"#VALUE!"},{"$error":"#VALUE!"},{"$f":"IF(AND(Calculator!$D$6=\"Active\",MONTH(C511)=7,D511<12),ROUND(E511*0.015*(D511/12),2),IF(AND(MONTH(C511)=7,OR(Calculator!$D$6=\"Retired\",D511>=12)),ROUND(E511*0.015,2),0))","v":{"$error":"#VALUE!"}},{"$error":"#VALUE!"},null,{"$error":"#VALUE!"},"2060-04-01",{"$error":"#VALUE!"},{"$error":"#VALUE!"},{"$error":"#VALUE!"},{"$error":"#VALUE!"},null,{"$error":"#VALUE!"},"2060-04-01",{"$error":"#VALUE!"},{"$error":"#VALUE!"},{"$f":"0","v":0},{"$error":"#VALUE!"}]
[null,{"$error":"#VALUE!"},"2060-05-01",{"$error":"#VALUE!"},{"$error":"#VALUE!"},{"$f":"IF(AND(Calculator!$D$6=\"Active\",MONTH(C512)=7,D512<12),ROUND(E512*0.015*(D512/12),2),IF(AND(MONTH(C512)=7,OR(Calculator!$D$6=\"Retired\",D512>=12)),ROUND(E512*0.015,2),0))","v":{"$error":"#VALUE!"}},{"$error":"#VALUE!"},null,{"$error":"#VALUE!"},"2060-05-01",{"$error":"#VALUE!"},{"$error":"#VALUE!"},{"$f":"IF(AND(MONTH(J512)=7,K512>61),ROUND(L512*0.015,2),0)","v":{"$error":"#VALUE!"}},{"$error":"#VALUE!"},null,{"$error":"#VALUE!"},"2060-05-01",{"$error":"#VALUE!"},{"$error":"#VALUE!"},{"$f":"0","v":0},{"$error":"#VALUE!"}]
[null,{"$error":"#VALUE!"},"2060-06-01",{"$error":"#VALUE!"},{"$error":"#VALUE!"},{"$f":"IF(AND(Calculator!$D$6=\"Active\",MONTH(C513)=7,D513<12),ROUND(E513*0.015*(D513/12),2),IF(AND(MONTH(C513)=7,OR(Calculator!$D$6=\"Retired\",D513>=12)),ROUND(E513*0.015,2),0))","v":{"$error":"#VALUE!"}},{"$error":"#VALUE!"},null,{"$error":"#VALUE!"},"2060-06-01",{"$error":"#VALUE!"},{"$error":"#VALUE!"},{"$error":"#VALUE!"},{"$error":"#VALUE!"},null,{"$error":"#VALUE!"},"2060-06-01",{"$error":"#VALUE!"},{"$error":"#VALUE!"},{"$f":"0","v":0},{"$error":"#VALUE!"}]
[null,{"$error":"#VALUE!"},"2060-07-01",{"$error":"#VALUE!"},{"$error":"#VALUE!"},{"$f":"IF(AND(Calculator!$D$6=\"Active\",MONTH(C514)=7,D514<12),ROUND(E514*0.015*(D514/12),2),IF(AND(MONTH(C514)=7,OR(Calculator!$D$6=\"Retired\",D514>=12)),ROUND(E514*0.015,2),0))","v":{"$error":"#VALUE!"}},{"$error":"#VALUE!"},null,{"$error":"#VALUE!"},"2060-07-01",{"$error":"#VALUE!"},{"$error":"#VALUE!"},{"$error":"#VALUE!"},{"$error":"#VALUE!"},null,{"$error":"#VALUE!"},"2060-07-01",{"$error":"#VALUE!"},{"$error":"#VALUE!"},{"$f":"0","v":0},{"$error":"#VALUE!"}]
[null,{"$error":"#VALUE!"},"2060-08-01",{"$error":"#VALUE!"},{"$error":"#VALUE!"},{"$f":"IF(AND(Calculator!$D$6=\"Active\",MONTH(C515)=7,D515<12),ROUND(E515*0.015*(D515/12),2),IF(AND(MONTH(C515)=7,OR(Calculator!$D$6=\"Retired\",D515>=12)),ROUND(E515*0.015,2),0))","v":{"$error":"#VALUE!"}},{"$error":"#VALUE!"},null,{"$error":"#VALUE!"},"2060-08-01",{"$error":"#VALUE!"},{"$error":"#VALUE!"},{"$error":"#VALUE!"},{"$error":"#VALUE!"},null,{"$error":"#VALUE!"},"2060-08-01",{"$error":"#VALUE!"},{"$error":"#VALUE!"},{"$f":"0","v":0},{"$error":"#VALUE!"}]
[null,{"$f":"IF(MONTH(DoB)=MONTH(C515),B515+1,B515)","v":{"$error":"#VALUE!"}},"2060-09-01",{"$f":"IF(B516>=VLOOKUP(Age_at_Retirement,Life_Expectancy_Table,3,FALSE),\"\",(D515+1))","v":{"$error":"#VALUE!"}},{"$error":"#VALUE!"},{"$f":"IF(AND(Calculator!$D$6=\"Active\",MONTH(C516)=7,D516<12),ROUND(E516*0.015*(D516/12),2),IF(AND(MONTH(C516)=7,OR(Calculator!$D$6=\"Retired\",D516>=12)),ROUND(E516*0.015,2),0))","v":{"$error":"#VALUE!"}},{"$error":"#VALUE!"},null,{"$f":"IF(MONTH(DoB)=MONTH(J515),I515+1,I515)","v":{"$error":"#VALUE!"}},"2060-09-01",{"$f":"IF(I516>=VLOOKUP(Age_at_Retirement,Life_Expectancy_Table,3,FALSE),\"\",(K515+1))","v":{"$error":"#VALUE!"}},{"$error":"#VALUE!"},{"$error":"#VALUE!"},{"$error":"#VALUE!"},null,{"$f":"IF(MONTH(DoB)=MONTH(Q515),P515+1,P515)","v":{"$error":"#VALUE!"}},"2060-09-01",{"$f":"IF(P516>=VLOOKUP(Age_at_Retirement,Life_Expectancy_Table,3,FALSE),\"\",(R515+1))","v":{"$error":"#VALUE!"}},{"$error":"#VALUE!"},{"$f":"0","v":0},{"$error":"#VALUE!"}]
[null,{"$error":"#VALUE!"},"2060-10-01",{"$error":"#VALUE!"},{"$f":"IF(D517=\"\",0,G516)","v":{"$error":"#VALUE!"}},{"$f":"IF(AND(Calculator!$D$6=\"Active\",MONTH(C517)=7,D517<12),ROUND(E517*0.015*(D517/12),2),IF(AND(MONTH(C517)=7,OR(Calculator!$D$6=\"Retired\",D517>=12)),ROUND(E517*0.015,2),0))","v":{"$error":"#VALUE!"}},{"$error":"#VALUE!"},null,{"$error":"#VALUE!"},"2060-10-01",{"$error":"#VALUE!"},{"$f":"IF(K517=\"\",0,N516)","v":{"$error":"#VALUE!"}},{"$error":"#VALUE!"},{"$f":"L517+M517","v":{"$error":"#VALUE!"}},null,{"$error":"#VALUE!"},"2060-10-01",{"$error":"#VALUE!"},{"$f":"IF(R517=\"\",0,U516)","v":{"$error":"#VALUE!"}},{"$f":"0","v":0},{"$f":"S517+T517","v":{"$error":"#VALUE!"}}]
[null,{"$error":"#VALUE!"},"2060-11-01",{"$error":"#VALUE!"},{"$error":"#VALUE!"},{"$f":"IF(AND(Calculator!$D$6=\"Active\",MONTH(C518)=7,D518<12),ROUND(E518*0.015*(D518/12),2),IF(AND(MONTH(C518)=7,OR(Calculator!$D$6=\"Retired\",D518>=12)),ROUND(E518*0.015,2),0))","v":{"$error":"#VALUE!"}},{"$error":"#VALUE!"},null,{"$error":"#VALUE!"},{"$f":"EDATE(J517,1)","v":"2060-11-01"},{"$error":"#VALUE!"},{"$error":"#VALUE!"},{"$error":"#VALUE!"},{"$error":"#VALUE!"},null,{"$error":"#VALUE!"},{"$f":"EDATE(Q517,1)","v":"2060-11-01"},{"$error":"#VALUE!"},{"$error":"#VALUE!"},{"$f":"0","v":0},{"$error":"#VALUE!"}]
[null,{"$error":"#VALUE!"},"2060-12-01",{"$error":"#VALUE!"},{"$error":"#VALUE!"},{"$f":"IF(AND(Calculator!$D$6=\"Active\",MONTH(C519)=7,D519<12),ROUND(E519*0.015*(D519/12),2),IF(AND(MONTH(C519)=7,OR(Calculator!$D$6=\"Retired\",D519>=12)),ROUND(E519*0.015,2),0))","v":{"$error":"#VALUE!"}},{"$error":"#VALUE!"},null,{"$error":"#VALUE!"},"2060-12-01",{"$error":"#VALUE!"},{"$error":"#VALUE!"},{"$error":"#VALUE!"},{"$error":"#VALUE!"},null,{"$error":"#VALUE!"},"2060-12-01",{"$error":"#VALUE!"},{"$error":"#VALUE!"},{"$f":"0","v":0},{"$error":"#VALUE!"}]
[null,{"$error":"#VALUE!"},"2061-01-01",{"$error":"#VALUE!"},{"$error":"#VALUE!"},{"$f":"IF(AND(Calculator!$D$6=\"Active\",MONTH(C520)=7,D520<12),ROUND(E520*0.015*(D520/12),2),IF(AND(MONTH(C520)=7,OR(Calculator!$D$6=\"Retired\",D520>=12)),ROUND(E520*0.015,2),0))","v":{"$error":"#VALUE!"}},{"$error":"#VALUE!"},null,{"$error":"#VALUE!"},"2061-01-01",{"$error":"#VALUE!"},{"$error":"#VALUE!"},{"$error":"#VALUE!"},{"$error":"#VALUE!"},null,{"$error":"#VALUE!"},"2061-01-01",{"$error":"#VALUE!"},{"$error":"#VALUE!"},{"$f":"0","v":0},{"$error":"#VALUE!"}]
[null,{"$error":"#VALUE!"},"2061-02-01",{"$error":"#VALUE!"},{"$error":"#VALUE!"},{"$f":"IF(AND(Calculator!$D$6=\"Active\",MONTH(C521)=7,D521<12),ROUND(E521*0.015*(D521/12),2),IF(AND(MONTH(C521)=7,OR(Calculator!$D$6=\"Retired\",D521>=12)),ROUND(E521*0.015,2),0))","v":{"$error":"#VALUE!"}},{"$error":"#VALUE!"},null,{"$error":"#VALUE!"},"2061-02-01",{"$error":"#VALUE!"},{"$error":"#VALUE!"},{"$error":"#VALUE!"},{"$error":"#VALUE!"},null,{"$error":"#VALUE!"},"2061-02-01",{"$error":"#VALUE!"},{"$error":"#VALUE!"},{"$f":"0","v":0},{"$error":"#VALUE!"}]
[null,{"$error":"#VALUE!"},"2061-03-01",{"$error":"#VALUE!"},{"$error":"#VALUE!"},{"$f":"IF(AND(Calculator!$D$6=\"Active\",MONTH(C522)=7,D522<12),ROUND(E522*0.015*(D522/12),2),IF(AND(MONTH(C522)=7,OR(Calculator!$D$6=\"Retired\",D522>=12)),ROUND(E522*0.015,2),0))","v":{"$error":"#VALUE!"}},{"$error":"#VALUE!"},null,{"$error":"#VALUE!"},"2061-03-01",{"$error":"#VALUE!"},{"$error":"#VALUE!"},{"$error":"#VALUE!"},{"$error":"#VALUE!"},null,{"$error":"#VALUE!"},"2061-03-01",{"$error":"#VALUE!"},{"$error":"#VALUE!"},{"$f":"0","v":0},{"$error":"#VALUE!"}]
[null,{"$error":"#VALUE!"},"2061-04-01",{"$error":"#VALUE!"},{"$error":"#VALUE!"},{"$f":"IF(AND(Calculator!$D$6=\"Active\",MONTH(C523)=7,D523<12),ROUND(E523*0.015*(D523/12),2),IF(AND(MONTH(C523)=7,OR(Calculator!$D$6=\"Retired\",D523>=12)),ROUND(E523*0.015,2),0))","v":{"$error":"#VALUE!"}},{"$error":"#VALUE!"},null,{"$error":"#VALUE!"},"2061-04-01",{"$error":"#VALUE!"},{"$error":"#VALUE!"},{"$error":"#VALUE!"},{"$error":"#VALUE!"},null,{"$error":"#VALUE!"},"2061-04-01",{"$error":"#VALUE!"},{"$error":"#VALUE!"},{"$f":"0","v":0},{"$error":"#VALUE!"}]
[null,{"$error":"#VALUE!"},"2061-05-01",{"$error":"#VALUE!"},{"$error":"#VALUE!"},{"$f":"IF(AND(Calculator!$D$6=\"Active\",MONTH(C524)=7,D524<12),ROUND(E524*0.015*(D524/12),2),IF(AND(MONTH(C524)=7,OR(Calculator!$D$6=\"Retired\",D524>=12)),ROUND(E524*0.015,2),0))","v":{"$error":"#VALUE!"}},{"$error":"#VALUE!"},null,{"$error":"#VALUE!"},"2061-05-01",{"$error":"#VALUE!"},{"$error":"#VALUE!"},{"$error":"#VALUE!"},{"$error":"#VALUE!"},null,{"$error":"#VALUE!"},"2061-05-01",{"$error":"#VALUE!"},{"$error":"#VALUE!"},{"$f":"0","v":0},{"$error":"#VALUE!"}]
[null,{"$error":"#VALUE!"},"2061-06-01",{"$error":"#VALUE!"},{"$error":"#VALUE!"},{"$f":"IF(AND(Calculator!$D$6=\"Active\",MONTH(C525)=7,D525<12),ROUND(E525*0.015*(D525/12),2),IF(AND(MONTH(C525)=7,OR(Calculator!$D$6=\"Retired\",D525>=12)),ROUND(E525*0.015,2),0))","v":{"$error":"#VALUE!"}},{"$error":"#VALUE!"},null,{"$error":"#VALUE!"},"2061-06-01",{"$error":"#VALUE!"},{"$error":"#VALUE!"},{"$error":"#VALUE!"},{"$error":"#VALUE!"},null,{"$error":"#VALUE!"},"2061-06-01",{"$error":"#VALUE!"},{"$error":"#VALUE!"},{"$f":"0","v":0},{"$error":"#VALUE!"}]
[null,{"$error":"#VALUE!"},"2061-07-01",{"$error":"#VALUE!"},{"$error":"#VALUE!"},{"$f":"IF(AND(Calculator!$D$6=\"Active\",MONTH(C526)=7,D526<12),ROUND(E526*0.015*(D526/12),2),IF(AND(MONTH(C526)=7,OR(Calculator!$D$6=\"Retired\",D526>=12)),ROUND(E526*0.015,2),0))","v":{"$error":"#VALUE!"}},{"$error":"#VALUE!"},null,{"$error":"#VALUE!"},"2061-07-01",{"$error":"#VALUE!"},{"$error":"#VALUE!"},{"$error":"#VALUE!"},{"$error":"#VALUE!"},null,{"$error":"#VALUE!"},"2061-07-01",{"$error":"#VALUE!"},{"$error":"#VALUE!"},{"$f":"0","v":0},{"$error":"#VALUE!"}]
[null,{"$error":"#VALUE!"},"2061-08-01",{"$error":"#VALUE!"},{"$error":"#VALUE!"},{"$f":"IF(AND(Calculator!$D$6=\"Active\",MONTH(C527)=7,D527<12),ROUND(E527*0.015*(D527/12),2),IF(AND(MONTH(C527)=7,OR(Calculator!$D$6=\"Retired\",D527>=12)),ROUND(E527*0.015,2),0))","v":{"$error":"#VALUE!"}},{"$error":"#VALUE!"},null,{"$error":"#VALUE!"},"2061-08-01",{"$error":"#VALUE!"},{"$error":"#VALUE!"},{"$error":"#VALUE!"},{"$error":"#VALUE!"},null,{"$error":"#VALUE!"},"2061-08-01",{"$error":"#VALUE!"},{"$error":"#VALUE!"},{"$f":"0","v":0},{"$error":"#VALUE!"}]
[null,{"$error":"#VALUE!"},"2061-09-01",{"$error":"#VALUE!"},{"$error":"#VALUE!"},{"$f":"IF(AND(Calculator!$D$6=\"Active\",MONTH(C528)=7,D528<12),ROUND(E528*0.015*(D528/12),2),IF(AND(MONTH(C528)=7,OR(Calculator!$D$6=\"Retired\",D528>=12)),ROUND(E528*0.015,2),0))","v":{"$error":"#VALUE!"}},{"$error":"#VALUE!"},null,{"$error":"#VALUE!"},"2061-09-01",{"$error":"#VALUE!"},{"$error":"#VALUE!"},{"$error":"#VALUE!"},{"$error":"#VALUE!"},null,{"$error":"#VALUE!"},"2061-09-01",{"$error":"#VALUE!"},{"$error":"#VALUE!"},{"$f":"0","v":0},{"$error":"#VALUE!"}]
[null,{"$error":"#VALUE!"},"2061-10-01",{"$error":"#VALUE!"},{"$error":"#VALUE!"},{"$f":"IF(AND(Calculator!$D$6=\"Active\",MONTH(C529)=7,D529<12),ROUND(E529*0.015*(D529/12),2),IF(AND(MONTH(C529)=7,OR(Calculator!$D$6=\"Retired\",D529>=12)),ROUND(E529*0.015,2),0))","v":{"$error":"#VALUE!"}},{"$error":"#VALUE!"},null,{"$error":"#VALUE!"},"2061-10-01",{"$error":"#VALUE!"},{"$error":"#VALUE!"},{"$error":"#VALUE!"},{"$error":"#VALUE!"},null,{"$error":"#VALUE!"},"2061-10-01",{"$error":"#VALUE!"},{"$error":"#VALUE!"},{"$f":"0","v":0},{"$error":"#VALUE!"}]
[null,{"$error":"#VALUE!"},"2061-11-01",{"$error":"#VALUE!"},{"$error":"#VALUE!"},{"$f":"IF(AND(Calculator!$D$6=\"Active\",MONTH(C530)=7,D530<12),ROUND(E530*0.015*(D530/12),2),IF(AND(MONTH(C530)=7,OR(Calculator!$D$6=\"Retired\",D530>=12)),ROUND(E530*0.015,2),0))","v":{"$error":"#VALUE!"}},{"$error":"#VALUE!"},null,{"$error":"#VALUE!"},"2061-11-01",{"$error":"#VALUE!"},{"$error":"#VALUE!"},{"$error":"#VALUE!"},{"$error":"#VALUE!"},null,{"$error":"#VALUE!"},"2061-11-01",{"$error":"#VALUE!"},{"$error":"#VALUE!"},{"$f":"0","v":0},{"$error":"#VALUE!"}]
[null,{"$error":"#VALUE!"},"2061-12-01",{"$error":"#VALUE!"},{"$error":"#VALUE!"},{"$f":"IF(AND(Calculator!$D$6=\"Active\",MONTH(C531)=7,D531<12),ROUND(E531*0.015*(D531/12),2),IF(AND(MONTH(C531)=7,OR(Calculator!$D$6=\"Retired\",D531>=12)),ROUND(E531*0.015,2),0))","v":{"$error":"#VALUE!"}},{"$error":"#VALUE!"},null,{"$error":"#VALUE!"},"2061-12-01",{"$error":"#VALUE!"},{"$error":"#VALUE!"},{"$error":"#VALUE!"},{"$error":"#VALUE!"},null,{"$error":"#VALUE!"},"2061-12-01",{"$error":"#VALUE!"},{"$error":"#VALUE!"},{"$f":"0","v":0},{"$error":"#VALUE!"}]
[null,{"$error":"#VALUE!"},"2062-01-01",{"$error":"#VALUE!"},{"$error":"#VALUE!"},{"$f":"IF(AND(Calculator!$D$6=\"Active\",MONTH(C532)=7,D532<12),ROUND(E532*0.015*(D532/12),2),IF(AND(MONTH(C532)=7,OR(Calculator!$D$6=\"Retired\",D532>=12)),ROUND(E532*0.015,2),0))","v":{"$error":"#VALUE!"}},{"$error":"#VALUE!"},null,{"$error":"#VALUE!"},"2062-01-01",{"$error":"#VALUE!"},{"$error":"#VALUE!"},{"$error":"#VALUE!"},{"$error":"#VALUE!"},null,{"$error":"#VALUE!"},"2062-01-01",{"$error":"#VALUE!"},{"$error":"#VALUE!"},{"$f":"0","v":0},{"$error":"#VALUE!"}]
[null,{"$error":"#VALUE!"},"2062-02-01",{"$error":"#VALUE!"},{"$error":"#VALUE!"},{"$f":"IF(AND(Calculator!$D$6=\"Active\",MONTH(C533)=7,D533<12),ROUND(E533*0.015*(D533/12),2),IF(AND(MONTH(C533)=7,OR(Calculator!$D$6=\"Retired\",D533>=12)),ROUND(E533*0.015,2),0))","v":{"$error":"#VALUE!"}},{"$error":"#VALUE!"},null,{"$error":"#VALUE!"},"2062-02-01",{"$error":"#VALUE!"},{"$error":"#VALUE!"},{"$error":"#VALUE!"},{"$error":"#VALUE!"},null,{"$error":"#VALUE!"},"2062-02-01",{"$error":"#VALUE!"},{"$error":"#VALUE!"},{"$f":"0","v":0},{"$error":"#VALUE!"}]
[null,{"$error":"#VALUE!"},"2062-03-01",{"$error":"#VALUE!"},{"$error":"#VALUE!"},{"$f":"IF(AND(Calculator!$D$6=\"Active\",MONTH(C534)=7,D534<12),ROUND(E534*0.015*(D534/12),2),IF(AND(MONTH(C534)=7,OR(Calculator!$D$6=\"Retired\",D534>=12)),ROUND(E534*0.015,2),0))","v":{"$error":"#VALUE!"}},{"$error":"#VALUE!"},null,{"$error":"#VALUE!"},"2062-03-01",{"$error":"#VALUE!"},{"$error":"#VALUE!"},{"$error":"#VALUE!"},{"$error":"#VALUE!"},null,{"$error":"#VALUE!"},"2062-03-01",{"$error":"#VALUE!"},{"$error":"#VALUE!"},{"$f":"0","v":0},{"$error":"#VALUE!"}]
[null,{"$error":"#VALUE!"},"2062-04-01",{"$error":"#VALUE!"},{"$error":"#VALUE!"},{"$f":"IF(AND(Calculator!$D$6=\"Active\",MONTH(C535)=7,D535<12),ROUND(E535*0.015*(D535/12),2),IF(AND(MONTH(C535)=7,OR(Calculator!$D$6=\"Retired\",D535>=12)),ROUND(E535*0.015,2),0))","v":{"$error":"#VALUE!"}},{"$error":"#VALUE!"},null,{"$error":"#VALUE!"},"2062-04-01",{"$error":"#VALUE!"},{"$error":"#VALUE!"},{"$error":"#VALUE!"},{"$error":"#VALUE!"},null,{"$error":"#VALUE!"},"2062-04-01",{"$error":"#VALUE!"},{"$error":"#VALUE!"},{"$f":"0","v":0},{"$error":"#VALUE!"}]
[null,{"$error":"#VALUE!"},"2062-05-01",{"$error":"#VALUE!"},{"$error":"#VALUE!"},{"$f":"IF(AND(Calculator!$D$6=\"Active\",MONTH(C536)=7,D536<12),ROUND(E536*0.015*(D536/12),2),IF(AND(MONTH(C536)=7,OR(Calculator!$D$6=\"Retired\",D536>=12)),ROUND(E536*0.015,2),0))","v":{"$error":"#VALUE!"}},{"$error":"#VALUE!"},null,{"$error":"#VALUE!"},"2062-05-01",{"$error":"#VALUE!"},{"$error":"#VALUE!"},{"$error":"#VALUE!"},{"$error":"#VALUE!"},null,{"$error":"#VALUE!"},"2062-05-01",{"$error":"#VALUE!"},{"$error":"#VALUE!"},{"$f":"0","v":0},{"$error":"#VALUE!"}]
[null,{"$error":"#VALUE!"},"2062-06-01",{"$error":"#VALUE!"},{"$error":"#VALUE!"},{"$f":"IF(AND(Calculator!$D$6=\"Active\",MONTH(C537)=7,D537<12),ROUND(E537*0.015*(D537/12),2),IF(AND(MONTH(C537)=7,OR(Calculator!$D$6=\"Retired\",D537>=12)),ROUND(E537*0.015,2),0))","v":{"$error":"#VALUE!"}},{"$error":"#VALUE!"},null,{"$error":"#VALUE!"},"2062-06-01",{"$error":"#VALUE!"},{"$error":"#VALUE!"},{"$error":"#VALUE!"},{"$error":"#VALUE!"},null,{"$error":"#VALUE!"},"2062-06-01",{"$error":"#VALUE!"},{"$error":"#VALUE!"},{"$f":"0","v":0},{"$error":"#VALUE!"}]
[null,{"$error":"#VALUE!"},"2062-07-01",{"$error":"#VALUE!"},{"$error":"#VALUE!"},{"$f":"IF(AND(Calculator!$D$6=\"Active\",MONTH(C538)=7,D538<12),ROUND(E538*0.015*(D538/12),2),IF(AND(MONTH(C538)=7,OR(Calculator!$D$6=\"Retired\",D538>=12)),ROUND(E538*0.015,2),0))","v":{"$error":"#VALUE!"}},{"$error":"#VALUE!"},null,{"$error":"#VALUE!"},"2062-07-01",{"$error":"#VALUE!"},{"$error":"#VALUE!"},{"$error":"#VALUE!"},{"$error":"#VALUE!"},null,{"$error":"#VALUE!"},"2062-07-01",{"$error":"#VALUE!"},{"$error":"#VALUE!"},{"$f":"0","v":0},{"$error":"#VALUE!"}]
[null,{"$error":"#VALUE!"},"2062-08-01",{"$error":"#VALUE!"},{"$error":"#VALUE!"},{"$f":"IF(AND(Calculator!$D$6=\"Active\",MONTH(C539)=7,D539<12),ROUND(E539*0.015*(D539/12),2),IF(AND(MONTH(C539)=7,OR(Calculator!$D$6=\"Retired\",D539>=12)),ROUND(E539*0.015,2),0))","v":{"$error":"#VALUE!"}},{"$error":"#VALUE!"},null,{"$error":"#VALUE!"},"2062-08-01",{"$error":"#VALUE!"},{"$error":"#VALUE!"},{"$error":"#VALUE!"},{"$error":"#VALUE!"},null,{"$error":"#VALUE!"},"2062-08-01",{"$error":"#VALUE!"},{"$error":"#VALUE!"},{"$f":"0","v":0},{"$error":"#VALUE!"}]
[null,{"$error":"#VALUE!"},"2062-09-01",{"$error":"#VALUE!"},{"$error":"#VALUE!"},{"$f":"IF(AND(Calculator!$D$6=\"Active\",MONTH(C540)=7,D540<12),ROUND(E540*0.015*(D540/12),2),IF(AND(MONTH(C540)=7,OR(Calculator!$D$6=\"Retired\",D540>=12)),ROUND(E540*0.015,2),0))","v":{"$error":"#VALUE!"}},{"$error":"#VALUE!"},null,{"$error":"#VALUE!"},"2062-09-01",{"$error":"#VALUE!"},{"$error":"#VALUE!"},{"$error":"#VALUE!"},{"$error":"#VALUE!"},null,{"$error":"#VALUE!"},"2062-09-01",{"$error":"#VALUE!"},{"$error":"#VALUE!"},{"$f":"0","v":0},{"$error":"#VALUE!"}]
[null,{"$error":"#VALUE!"},"2062-10-01",{"$error":"#VALUE!"},{"$error":"#VALUE!"},{"$f":"IF(AND(Calculator!$D$6=\"Active\",MONTH(C541)=7,D541<12),ROUND(E541*0.015*(D541/12),2),IF(AND(MONTH(C541)=7,OR(Calculator!$D$6=\"Retired\",D541>=12)),ROUND(E541*0.015,2),0))","v":{"$error":"#VALUE!"}},{"$error":"#VALUE!"},null,{"$error":"#VALUE!"},"2062-10-01",{"$error":"#VALUE!"},{"$error":"#VALUE!"},{"$error":"#VALUE!"},{"$error":"#VALUE!"},null,{"$error":"#VALUE!"},"2062-10-01",{"$error":"#VALUE!"},{"$error":"#VALUE!"},{"$f":"0","v":0},{"$error":"#VALUE!"}]
[null,{"$error":"#VALUE!"},"2062-11-01",{"$error":"#VALUE!"},{"$error":"#VALUE!"},{"$f":"IF(AND(Calculator!$D$6=\"Active\",MONTH(C542)=7,D542<12),ROUND(E542*0.015*(D542/12),2),IF(AND(MONTH(C542)=7,OR(Calculator!$D$6=\"Retired\",D542>=12)),ROUND(E542*0.015,2),0))","v":{"$error":"#VALUE!"}},{"$error":"#VALUE!"},null,{"$error":"#VALUE!"},"2062-11-01",{"$error":"#VALUE!"},{"$error":"#VALUE!"},{"$error":"#VALUE!"},{"$error":"#VALUE!"},null,{"$error":"#VALUE!"},"2062-11-01",{"$error":"#VALUE!"},{"$error":"#VALUE!"},{"$f":"0","v":0},{"$error":"#VALUE!"}]
[null,{"$error":"#VALUE!"},"2062-12-01",{"$error":"#VALUE!"},{"$error":"#VALUE!"},{"$f":"IF(AND(Calculator!$D$6=\"Active\",MONTH(C543)=7,D543<12),ROUND(E543*0.015*(D543/12),2),IF(AND(MONTH(C543)=7,OR(Calculator!$D$6=\"Retired\",D543>=12)),ROUND(E543*0.015,2),0))","v":{"$error":"#VALUE!"}},{"$error":"#VALUE!"},null,{"$error":"#VALUE!"},"2062-12-01",{"$error":"#VALUE!"},{"$error":"#VALUE!"},{"$error":"#VALUE!"},{"$error":"#VALUE!"},null,{"$error":"#VALUE!"},"2062-12-01",{"$error":"#VALUE!"},{"$error":"#VALUE!"},{"$f":"0","v":0},{"$error":"#VALUE!"}]
[null,{"$error":"#VALUE!"},"2063-01-01",{"$error":"#VALUE!"},{"$error":"#VALUE!"},{"$f":"IF(AND(Calculator!$D$6=\"Active\",MONTH(C544)=7,D544<12),ROUND(E544*0.015*(D544/12),2),IF(AND(MONTH(C544)=7,OR(Calculator!$D$6=\"Retired\",D544>=12)),ROUND(E544*0.015,2),0))","v":{"$error":"#VALUE!"}},{"$error":"#VALUE!"},null,{"$error":"#VALUE!"},"2063-01-01",{"$error":"#VALUE!"},{"$error":"#VALUE!"},{"$error":"#VALUE!"},{"$error":"#VALUE!"},null,{"$error":"#VALUE!"},"2063-01-01",{"$error":"#VALUE!"},{"$error":"#VALUE!"},{"$f":"0","v":0},{"$error":"#VALUE!"}]
[null,{"$error":"#VALUE!"},"2063-02-01",{"$error":"#VALUE!"},{"$error":"#VALUE!"},{"$f":"IF(AND(Calculator!$D$6=\"Active\",MONTH(C545)=7,D545<12),ROUND(E545*0.015*(D545/12),2),IF(AND(MONTH(C545)=7,OR(Calculator!$D$6=\"Retired\",D545>=12)),ROUND(E545*0.015,2),0))","v":{"$error":"#VALUE!"}},{"$error":"#VALUE!"},null,{"$error":"#VALUE!"},"2063-02-01",{"$error":"#VALUE!"},{"$error":"#VALUE!"},{"$error":"#VALUE!"},{"$error":"#VALUE!"},null,{"$error":"#VALUE!"},"2063-02-01",{"$error":"#VALUE!"},{"$error":"#VALUE!"},{"$f":"0","v":0},{"$error":"#VALUE!"}]
[null,{"$error":"#VALUE!"},"2063-03-01",{"$error":"#VALUE!"},{"$error":"#VALUE!"},{"$f":"IF(AND(Calculator!$D$6=\"Active\",MONTH(C546)=7,D546<12),ROUND(E546*0.015*(D546/12),2),IF(AND(MONTH(C546)=7,OR(Calculator!$D$6=\"Retired\",D546>=12)),ROUND(E546*0.015,2),0))","v":{"$error":"#VALUE!"}},{"$error":"#VALUE!"},null,{"$error":"#VALUE!"},"2063-03-01",{"$error":"#VALUE!"},{"$error":"#VALUE!"},{"$error":"#VALUE!"},{"$error":"#VALUE!"},null,{"$error":"#VALUE!"},"2063-03-01",{"$error":"#VALUE!"},{"$error":"#VALUE!"},{"$f":"0","v":0},{"$error":"#VALUE!"}]
[null,{"$error":"#VALUE!"},"2063-04-01",{"$error":"#VALUE!"},{"$error":"#VALUE!"},{"$f":"IF(AND(Calculator!$D$6=\"Active\",MONTH(C547)=7,D547<12),ROUND(E547*0.015*(D547/12),2),IF(AND(MONTH(C547)=7,OR(Calculator!$D$6=\"Retired\",D547>=12)),ROUND(E547*0.015,2),0))","v":{"$error":"#VALUE!"}},{"$error":"#VALUE!"},null,{"$error":"#VALUE!"},"2063-04-01",{"$error":"#VALUE!"},{"$error":"#VALUE!"},{"$error":"#VALUE!"},{"$error":"#VALUE!"},null,{"$error":"#VALUE!"},"2063-04-01",{"$error":"#VALUE!"},{"$error":"#VALUE!"},{"$f":"0","v":0},{"$error":"#VALUE!"}]
[null,{"$error":"#VALUE!"},"2063-05-01",{"$error":"#VALUE!"},{"$error":"#VALUE!"},{"$f":"IF(AND(Calculator!$D$6=\"Active\",MONTH(C548)=7,D548<12),ROUND(E548*0.015*(D548/12),2),IF(AND(MONTH(C548)=7,OR(Calculator!$D$6=\"Retired\",D548>=12)),ROUND(E548*0.015,2),0))","v":{"$error":"#VALUE!"}},{"$error":"#VALUE!"},null,{"$error":"#VALUE!"},"2063-05-01",{"$error":"#VALUE!"},{"$error":"#VALUE!"},{"$error":"#VALUE!"},{"$error":"#VALUE!"},null,{"$error":"#VALUE!"},"2063-05-01",{"$error":"#VALUE!"},{"$error":"#VALUE!"},{"$f":"0","v":0},{"$error":"#VALUE!"}]
[null,{"$error":"#VALUE!"},"2063-06-01",{"$error":"#VALUE!"},{"$error":"#VALUE!"},{"$f":"IF(AND(Calculator!$D$6=\"Active\",MONTH(C549)=7,D549<12),ROUND(E549*0.015*(D549/12),2),IF(AND(MONTH(C549)=7,OR(Calculator!$D$6=\"Retired\",D549>=12)),ROUND(E549*0.015,2),0))","v":{"$error":"#VALUE!"}},{"$error":"#VALUE!"},null,{"$error":"#VALUE!"},"2063-06-01",{"$error":"#VALUE!"},{"$error":"#VALUE!"},{"$error":"#VALUE!"},{"$error":"#VALUE!"},null,{"$error":"#VALUE!"},"2063-06-01",{"$error":"#VALUE!"},{"$error":"#VALUE!"},{"$f":"0","v":0},{"$error":"#VALUE!"}]
[null,{"$error":"#VALUE!"},"2063-07-01",{"$error":"#VALUE!"},{"$error":"#VALUE!"},{"$f":"IF(AND(Calculator!$D$6=\"Active\",MONTH(C550)=7,D550<12),ROUND(E550*0.015*(D550/12),2),IF(AND(MONTH(C550)=7,OR(Calculator!$D$6=\"Retired\",D550>=12)),ROUND(E550*0.015,2),0))","v":{"$error":"#VALUE!"}},{"$error":"#VALUE!"},null,{"$error":"#VALUE!"},"2063-07-01",{"$error":"#VALUE!"},{"$error":"#VALUE!"},{"$error":"#VALUE!"},{"$error":"#VALUE!"},null,{"$error":"#VALUE!"},"2063-07-01",{"$error":"#VALUE!"},{"$error":"#VALUE!"},{"$f":"0","v":0},{"$error":"#VALUE!"}]
[null,{"$error":"#VALUE!"},"2063-08-01",{"$error":"#VALUE!"},{"$error":"#VALUE!"},{"$f":"IF(AND(Calculator!$D$6=\"Active\",MONTH(C551)=7,D551<12),ROUND(E551*0.015*(D551/12),2),IF(AND(MONTH(C551)=7,OR(Calculator!$D$6=\"Retired\",D551>=12)),ROUND(E551*0.015,2),0))","v":{"$error":"#VALUE!"}},{"$error":"#VALUE!"},null,{"$error":"#VALUE!"},"2063-08-01",{"$error":"#VALUE!"},{"$error":"#VALUE!"},{"$error":"#VALUE!"},{"$error":"#VALUE!"},null,{"$error":"#VALUE!"},"2063-08-01",{"$error":"#VALUE!"},{"$error":"#VALUE!"},{"$f":"0","v":0},{"$error":"#VALUE!"}]
[null,{"$error":"#VALUE!"},"2063-09-01",{"$error":"#VALUE!"},{"$error":"#VALUE!"},{"$f":"IF(AND(Calculator!$D$6=\"Active\",MONTH(C552)=7,D552<12),ROUND(E552*0.015*(D552/12),2),IF(AND(MONTH(C552)=7,OR(Calculator!$D$6=\"Retired\",D552>=12)),ROUND(E552*0.015,2),0))","v":{"$error":"#VALUE!"}},{"$error":"#VALUE!"},null,{"$error":"#VALUE!"},"2063-09-01",{"$error":"#VALUE!"},{"$error":"#VALUE!"},{"$error":"#VALUE!"},{"$error":"#VALUE!"},null,{"$error":"#VALUE!"},"2063-09-01",{"$error":"#VALUE!"},{"$error":"#VALUE!"},{"$f":"0","v":0},{"$error":"#VALUE!"}]
[null,{"$error":"#VALUE!"},"2063-10-01",{"$error":"#VALUE!"},{"$error":"#VALUE!"},{"$f":"IF(AND(Calculator!$D$6=\"Active\",MONTH(C553)=7,D553<12),ROUND(E553*0.015*(D553/12),2),IF(AND(MONTH(C553)=7,OR(Calculator!$D$6=\"Retired\",D553>=12)),ROUND(E553*0.015,2),0))","v":{"$error":"#VALUE!"}},{"$error":"#VALUE!"},null,{"$error":"#VALUE!"},"2063-10-01",{"$error":"#VALUE!"},{"$error":"#VALUE!"},{"$error":"#VALUE!"},{"$error":"#VALUE!"},null,{"$error":"#VALUE!"},"2063-10-01",{"$error":"#VALUE!"},{"$error":"#VALUE!"},{"$f":"0","v":0},{"$error":"#VALUE!"}]
[null,{"$error":"#VALUE!"},"2063-11-01",{"$error":"#VALUE!"},{"$error":"#VALUE!"},{"$f":"IF(AND(Calculator!$D$6=\"Active\",MONTH(C554)=7,D554<12),ROUND(E554*0.015*(D554/12),2),IF(AND(MONTH(C554)=7,OR(Calculator!$D$6=\"Retired\",D554>=12)),ROUND(E554*0.015,2),0))","v":{"$error":"#VALUE!"}},{"$error":"#VALUE!"},null,{"$error":"#VALUE!"},"2063-11-01",{"$error":"#VALUE!"},{"$error":"#VALUE!"},{"$error":"#VALUE!"},{"$error":"#VALUE!"},null,{"$error":"#VALUE!"},"2063-11-01",{"$error":"#VALUE!"},{"$error":"#VALUE!"},{"$f":"0","v":0},{"$error":"#VALUE!"}]
[null,{"$error":"#VALUE!"},"2063-12-01",{"$error":"#VALUE!"},{"$error":"#VALUE!"},{"$f":"IF(AND(Calculator!$D$6=\"Active\",MONTH(C555)=7,D555<12),ROUND(E555*0.015*(D555/12),2),IF(AND(MONTH(C555)=7,OR(Calculator!$D$6=\"Retired\",D555>=12)),ROUND(E555*0.015,2),0))","v":{"$error":"#VALUE!"}},{"$error":"#VALUE!"},null,{"$error":"#VALUE!"},"2063-12-01",{"$error":"#VALUE!"},{"$error":"#VALUE!"},{"$error":"#VALUE!"},{"$error":"#VALUE!"},null,{"$error":"#VALUE!"},"2063-12-01",{"$error":"#VALUE!"},{"$error":"#VALUE!"},{"$f":"0","v":0},{"$error":"#VALUE!"}]
[null,{"$error":"#VALUE!"},"2064-01-01",{"$error":"#VALUE!"},{"$error":"#VALUE!"},{"$f":"IF(AND(Calculator!$D$6=\"Active\",MONTH(C556)=7,D556<12),ROUND(E556*0.015*(D556/12),2),IF(AND(MONTH(C556)=7,OR(Calculator!$D$6=\"Retired\",D556>=12)),ROUND(E556*0.015,2),0))","v":{"$error":"#VALUE!"}},{"$error":"#VALUE!"},null,{"$error":"#VALUE!"},"2064-01-01",{"$error":"#VALUE!"},{"$error":"#VALUE!"},{"$error":"#VALUE!"},{"$error":"#VALUE!"},null,{"$error":"#VALUE!"},"2064-01-01",{"$error":"#VALUE!"},{"$error":"#VALUE!"},{"$f":"0","v":0},{"$error":"#VALUE!"}]
[null,{"$error":"#VALUE!"},"2064-02-01",{"$error":"#VALUE!"},{"$error":"#VALUE!"},{"$f":"IF(AND(Calculator!$D$6=\"Active\",MONTH(C557)=7,D557<12),ROUND(E557*0.015*(D557/12),2),IF(AND(MONTH(C557)=7,OR(Calculator!$D$6=\"Retired\",D557>=12)),ROUND(E557*0.015,2),0))","v":{"$error":"#VALUE!"}},{"$error":"#VALUE!"},null,{"$error":"#VALUE!"},"2064-02-01",{"$error":"#VALUE!"},{"$error":"#VALUE!"},{"$error":"#VALUE!"},{"$error":"#VALUE!"},null,{"$error":"#VALUE!"},"2064-02-01",{"$error":"#VALUE!"},{"$error":"#VALUE!"},{"$f":"0","v":0},{"$error":"#VALUE!"}]
[null,{"$error":"#VALUE!"},"2064-03-01",{"$error":"#VALUE!"},{"$error":"#VALUE!"},{"$f":"IF(AND(Calculator!$D$6=\"Active\",MONTH(C558)=7,D558<12),ROUND(E558*0.015*(D558/12),2),IF(AND(MONTH(C558)=7,OR(Calculator!$D$6=\"Retired\",D558>=12)),ROUND(E558*0.015,2),0))","v":{"$error":"#VALUE!"}},{"$error":"#VALUE!"},null,{"$error":"#VALUE!"},"2064-03-01",{"$error":"#VALUE!"},{"$error":"#VALUE!"},{"$error":"#VALUE!"},{"$error":"#VALUE!"},null,{"$error":"#VALUE!"},"2064-03-01",{"$error":"#VALUE!"},{"$error":"#VALUE!"},{"$f":"0","v":0},{"$error":"#VALUE!"}]
[null,{"$error":"#VALUE!"},{"$f":"EDATE(C558,1)","v":"2064-04-01"},{"$error":"#VALUE!"},{"$error":"#VALUE!"},{"$f":"IF(AND(Calculator!$D$6=\"Active\",MONTH(C559)=7,D559<12),ROUND(E559*0.015*(D559/12),2),IF(AND(MONTH(C559)=7,OR(Calculator!$D$6=\"Retired\",D559>=12)),ROUND(E559*0.015,2),0))","v":{"$error":"#VALUE!"}},{"$f":"E559+F559","v":{"$error":"#VALUE!"}},null,{"$error":"#VALUE!"},"2064-04-01",{"$error":"#VALUE!"},{"$error":"#VALUE!"},{"$error":"#VALUE!"},{"$error":"#VALUE!"},null,{"$error":"#VALUE!"},"2064-04-01",{"$error":"#VALUE!"},{"$error":"#VALUE!"},{"$f":"0","v":0},{"$error":"#VALUE!"}]
[null,{"$error":"#VALUE!"},"2064-05-01",{"$error":"#VALUE!"},{"$error":"#VALUE!"},{"$f":"IF(AND(Calculator!$D$6=\"Active\",MONTH(C560)=7,D560<12),ROUND(E560*0.015*(D560/12),2),IF(AND(MONTH(C560)=7,OR(Calculator!$D$6=\"Retired\",D560>=12)),ROUND(E560*0.015,2),0))","v":{"$error":"#VALUE!"}},{"$error":"#VALUE!"},null,{"$error":"#VALUE!"},"2064-05-01",{"$error":"#VALUE!"},{"$error":"#VALUE!"},{"$error":"#VALUE!"},{"$error":"#VALUE!"},null,{"$error":"#VALUE!"},"2064-05-01",{"$error":"#VALUE!"},{"$error":"#VALUE!"},{"$f":"0","v":0},{"$error":"#VALUE!"}]
[null,{"$error":"#VALUE!"},"2064-06-01",{"$error":"#VALUE!"},{"$error":"#VALUE!"},{"$f":"IF(AND(Calculator!$D$6=\"Active\",MONTH(C561)=7,D561<12),ROUND(E561*0.015*(D561/12),2),IF(AND(MONTH(C561)=7,OR(Calculator!$D$6=\"Retired\",D561>=12)),ROUND(E561*0.015,2),0))","v":{"$error":"#VALUE!"}},{"$error":"#VALUE!"},null,{"$error":"#VALUE!"},"2064-06-01",{"$error":"#VALUE!"},{"$error":"#VALUE!"},{"$error":"#VALUE!"},{"$error":"#VALUE!"},null,{"$error":"#VALUE!"},"2064-06-01",{"$error":"#VALUE!"},{"$error":"#VALUE!"},{"$f":"0","v":0},{"$error":"#VALUE!"}]
[null,{"$error":"#VALUE!"},"2064-07-01",{"$error":"#VALUE!"},{"$error":"#VALUE!"},{"$f":"IF(AND(Calculator!$D$6=\"Active\",MONTH(C562)=7,D562<12),ROUND(E562*0.015*(D562/12),2),IF(AND(MONTH(C562)=7,OR(Calculator!$D$6=\"Retired\",D562>=12)),ROUND(E562*0.015,2),0))","v":{"$error":"#VALUE!"}},{"$error":"#VALUE!"},null,{"$error":"#VALUE!"},"2064-07-01",{"$error":"#VALUE!"},{"$error":"#VALUE!"},{"$error":"#VALUE!"},{"$error":"#VALUE!"},null,{"$error":"#VALUE!"},"2064-07-01",{"$error":"#VALUE!"},{"$error":"#VALUE!"},{"$f":"0","v":0},{"$error":"#VALUE!"}]
[null,{"$error":"#VALUE!"},"2064-08-01",{"$error":"#VALUE!"},{"$error":"#VALUE!"},{"$f":"IF(AND(Calculator!$D$6=\"Active\",MONTH(C563)=7,D563<12),ROUND(E563*0.015*(D563/12),2),IF(AND(MONTH(C563)=7,OR(Calculator!$D$6=\"Retired\",D563>=12)),ROUND(E563*0.015,2),0))","v":{"$error":"#VALUE!"}},{"$error":"#VALUE!"},null,{"$error":"#VALUE!"},"2064-08-01",{"$error":"#VALUE!"},{"$error":"#VALUE!"},{"$error":"#VALUE!"},{"$error":"#VALUE!"},null,{"$error":"#VALUE!"},"2064-08-01",{"$error":"#VALUE!"},{"$error":"#VALUE!"},{"$f":"0","v":0},{"$error":"#VALUE!"}]
[null,{"$error":"#VALUE!"},"2064-09-01",{"$error":"#VALUE!"},{"$error":"#VALUE!"},{"$f":"IF(AND(Calculator!$D$6=\"Active\",MONTH(C564)=7,D564<12),ROUND(E564*0.015*(D564/12),2),IF(AND(MONTH(C564)=7,OR(Calculator!$D$6=\"Retired\",D564>=12)),ROUND(E564*0.015,2),0))","v":{"$error":"#VALUE!"}},{"$error":"#VALUE!"},null,{"$error":"#VALUE!"},"2064-09-01",{"$error":"#VALUE!"},{"$error":"#VALUE!"},{"$error":"#VALUE!"},{"$error":"#VALUE!"},null,{"$error":"#VALUE!"},"2064-09-01",{"$error":"#VALUE!"},{"$error":"#VALUE!"},{"$f":"0","v":0},{"$error":"#VALUE!"}]
[null,{"$error":"#VALUE!"},"2064-10-01",{"$error":"#VALUE!"},{"$error":"#VALUE!"},{"$f":"IF(AND(Calculator!$D$6=\"Active\",MONTH(C565)=7,D565<12),ROUND(E565*0.015*(D565/12),2),IF(AND(MONTH(C565)=7,OR(Calculator!$D$6=\"Retired\",D565>=12)),ROUND(E565*0.015,2),0))","v":{"$error":"#VALUE!"}},{"$error":"#VALUE!"},null,{"$error":"#VALUE!"},"2064-10-01",{"$error":"#VALUE!"},{"$error":"#VALUE!"},{"$error":"#VALUE!"},{"$error":"#VALUE!"},null,{"$error":"#VALUE!"},"2064-10-01",{"$error":"#VALUE!"},{"$error":"#VALUE!"},{"$f":"0","v":0},{"$error":"#VALUE!"}]
[null,{"$error":"#VALUE!"},"2064-11-01",{"$error":"#VALUE!"},{"$error":"#VALUE!"},{"$f":"IF(AND(Calculator!$D$6=\"Active\",MONTH(C566)=7,D566<12),ROUND(E566*0.015*(D566/12),2),IF(AND(MONTH(C566)=7,OR(Calculator!$D$6=\"Retired\",D566>=12)),ROUND(E566*0.015,2),0))","v":{"$error":"#VALUE!"}},{"$error":"#VALUE!"},null,{"$error":"#VALUE!"},"2064-11-01",{"$error":"#VALUE!"},{"$error":"#VALUE!"},{"$error":"#VALUE!"},{"$error":"#VALUE!"},null,{"$error":"#VALUE!"},"2064-11-01",{"$error":"#VALUE!"},{"$error":"#VALUE!"},{"$f":"0","v":0},{"$error":"#VALUE!"}]
[null,{"$error":"#VALUE!"},"2064-12-01",{"$error":"#VALUE!"},{"$error":"#VALUE!"},{"$f":"IF(AND(Calculator!$D$6=\"Active\",MONTH(C567)=7,D567<12),ROUND(E567*0.015*(D567/12),2),IF(AND(MONTH(C567)=7,OR(Calculator!$D$6=\"Retired\",D567>=12)),ROUND(E567*0.015,2),0))","v":{"$error":"#VALUE!"}},{"$error":"#VALUE!"},null,{"$error":"#VALUE!"},"2064-12-01",{"$error":"#VALUE!"},{"$error":"#VALUE!"},{"$error":"#VALUE!"},{"$error":"#VALUE!"},null,{"$error":"#VALUE!"},"2064-12-01",{"$error":"#VALUE!"},{"$error":"#VALUE!"},{"$f":"0","v":0},{"$error":"#VALUE!"}]
[null,{"$error":"#VALUE!"},"2065-01-01",{"$error":"#VALUE!"},{"$error":"#VALUE!"},{"$f":"IF(AND(Calculator!$D$6=\"Active\",MONTH(C568)=7,D568<12),ROUND(E568*0.015*(D568/12),2),IF(AND(MONTH(C568)=7,OR(Calculator!$D$6=\"Retired\",D568>=12)),ROUND(E568*0.015,2),0))","v":{"$error":"#VALUE!"}},{"$error":"#VALUE!"},null,{"$error":"#VALUE!"},"2065-01-01",{"$error":"#VALUE!"},{"$error":"#VALUE!"},{"$error":"#VALUE!"},{"$error":"#VALUE!"},null,{"$error":"#VALUE!"},"2065-01-01",{"$error":"#VALUE!"},{"$error":"#VALUE!"},{"$f":"0","v":0},{"$error":"#VALUE!"}]
[null,{"$error":"#VALUE!"},"2065-02-01",{"$error":"#VALUE!"},{"$error":"#VALUE!"},{"$f":"IF(AND(Calculator!$D$6=\"Active\",MONTH(C569)=7,D569<12),ROUND(E569*0.015*(D569/12),2),IF(AND(MONTH(C569)=7,OR(Calculator!$D$6=\"Retired\",D569>=12)),ROUND(E569*0.015,2),0))","v":{"$error":"#VALUE!"}},{"$error":"#VALUE!"},null,{"$error":"#VALUE!"},"2065-02-01",{"$error":"#VALUE!"},{"$error":"#VALUE!"},{"$error":"#VALUE!"},{"$error":"#VALUE!"},null,{"$error":"#VALUE!"},"2065-02-01",{"$error":"#VALUE!"},{"$error":"#VALUE!"},{"$f":"0","v":0},{"$error":"#VALUE!"}]
[null,{"$error":"#VALUE!"},"2065-03-01",{"$error":"#VALUE!"},{"$error":"#VALUE!"},{"$f":"IF(AND(Calculator!$D$6=\"Active\",MONTH(C570)=7,D570<12),ROUND(E570*0.015*(D570/12),2),IF(AND(MONTH(C570)=7,OR(Calculator!$D$6=\"Retired\",D570>=12)),ROUND(E570*0.015,2),0))","v":{"$error":"#VALUE!"}},{"$error":"#VALUE!"},null,{"$error":"#VALUE!"},"2065-03-01",{"$error":"#VALUE!"},{"$error":"#VALUE!"},{"$error":"#VALUE!"},{"$error":"#VALUE!"},null,{"$error":"#VALUE!"},"2065-03-01",{"$error":"#VALUE!"},{"$error":"#VALUE!"},{"$f":"0","v":0},{"$error":"#VALUE!"}]
[null,{"$error":"#VALUE!"},"2065-04-01",{"$error":"#VALUE!"},{"$error":"#VALUE!"},{"$f":"IF(AND(Calculator!$D$6=\"Active\",MONTH(C571)=7,D571<12),ROUND(E571*0.015*(D571/12),2),IF(AND(MONTH(C571)=7,OR(Calculator!$D$6=\"Retired\",D571>=12)),ROUND(E571*0.015,2),0))","v":{"$error":"#VALUE!"}},{"$error":"#VALUE!"},null,{"$error":"#VALUE!"},"2065-04-01",{"$error":"#VALUE!"},{"$error":"#VALUE!"},{"$error":"#VALUE!"},{"$error":"#VALUE!"},null,{"$error":"#VALUE!"},"2065-04-01",{"$error":"#VALUE!"},{"$error":"#VALUE!"},{"$f":"0","v":0},{"$error":"#VALUE!"}]
[null,{"$error":"#VALUE!"},"2065-05-01",{"$error":"#VALUE!"},{"$error":"#VALUE!"},{"$f":"IF(AND(Calculator!$D$6=\"Active\",MONTH(C572)=7,D572<12),ROUND(E572*0.015*(D572/12),2),IF(AND(MONTH(C572)=7,OR(Calculator!$D$6=\"Retired\",D572>=12)),ROUND(E572*0.015,2),0))","v":{"$error":"#VALUE!"}},{"$error":"#VALUE!"},null,{"$error":"#VALUE!"},"2065-05-01",{"$error":"#VALUE!"},{"$error":"#VALUE!"},{"$error":"#VALUE!"},{"$error":"#VALUE!"},null,{"$error":"#VALUE!"},"2065-05-01",{"$error":"#VALUE!"},{"$error":"#VALUE!"},{"$f":"0","v":0},{"$error":"#VALUE!"}]
[null,{"$error":"#VALUE!"},"2065-06-01",{"$error":"#VALUE!"},{"$error":"#VALUE!"},{"$f":"IF(AND(Calculator!$D$6=\"Active\",MONTH(C573)=7,D573<12),ROUND(E573*0.015*(D573/12),2),IF(AND(MONTH(C573)=7,OR(Calculator!$D$6=\"Retired\",D573>=12)),ROUND(E573*0.015,2),0))","v":{"$error":"#VALUE!"}},{"$error":"#VALUE!"},null,{"$error":"#VALUE!"},"2065-06-01",{"$error":"#VALUE!"},{"$error":"#VALUE!"},{"$error":"#VALUE!"},{"$error":"#VALUE!"},null,{"$error":"#VALUE!"},"2065-06-01",{"$error":"#VALUE!"},{"$error":"#VALUE!"},{"$f":"0","v":0},{"$error":"#VALUE!"}]
[null,{"$error":"#VALUE!"},"2065-07-01",{"$error":"#VALUE!"},{"$error":"#VALUE!"},{"$f":"IF(AND(Calculator!$D$6=\"Active\",MONTH(C574)=7,D574<12),ROUND(E574*0.015*(D574/12),2),IF(AND(MONTH(C574)=7,OR(Calculator!$D$6=\"Retired\",D574>=12)),ROUND(E574*0.015,2),0))","v":{"$error":"#VALUE!"}},{"$error":"#VALUE!"},null,{"$error":"#VALUE!"},"2065-07-01",{"$error":"#VALUE!"},{"$error":"#VALUE!"},{"$error":"#VALUE!"},{"$error":"#VALUE!"},null,{"$error":"#VALUE!"},"2065-07-01",{"$error":"#VALUE!"},{"$error":"#VALUE!"},{"$f":"0","v":0},{"$error":"#VALUE!"}]
[null,{"$error":"#VALUE!"},"2065-08-01",{"$error":"#VALUE!"},{"$error":"#VALUE!"},{"$f":"IF(AND(Calculator!$D$6=\"Active\",MONTH(C575)=7,D575<12),ROUND(E575*0.015*(D575/12),2),IF(AND(MONTH(C575)=7,OR(Calculator!$D$6=\"Retired\",D575>=12)),ROUND(E575*0.015,2),0))","v":{"$error":"#VALUE!"}},{"$error":"#VALUE!"},null,{"$error":"#VALUE!"},"2065-08-01",{"$error":"#VALUE!"},{"$error":"#VALUE!"},{"$error":"#VALUE!"},{"$error":"#VALUE!"},null,{"$error":"#VALUE!"},"2065-08-01",{"$error":"#VALUE!"},{"$error":"#VALUE!"},{"$f":"0","v":0},{"$error":"#VALUE!"}]
[null,{"$error":"#VALUE!"},"2065-09-01",{"$error":"#VALUE!"},{"$error":"#VALUE!"},{"$f":"IF(AND(Calculator!$D$6=\"Active\",MONTH(C576)=7,D576<12),ROUND(E576*0.015*(D576/12),2),IF(AND(MONTH(C576)=7,OR(Calculator!$D$6=\"Retired\",D576>=12)),ROUND(E576*0.015,2),0))","v":{"$error":"#VALUE!"}},{"$error":"#VALUE!"},null,{"$error":"#VALUE!"},"2065-09-01",{"$error":"#VALUE!"},{"$error":"#VALUE!"},{"$f":"IF(AND(MONTH(J576)=7,K576>61),ROUND(L576*0.015,2),0)","v":{"$error":"#VALUE!"}},{"$error":"#VALUE!"},null,{"$error":"#VALUE!"},"2065-09-01",{"$error":"#VALUE!"},{"$error":"#VALUE!"},{"$f":"0","v":0},{"$error":"#VALUE!"}]
[null,{"$error":"#VALUE!"},"2065-10-01",{"$error":"#VALUE!"},{"$error":"#VALUE!"},{"$f":"IF(AND(Calculator!$D$6=\"Active\",MONTH(C577)=7,D577<12),ROUND(E577*0.015*(D577/12),2),IF(AND(MONTH(C577)=7,OR(Calculator!$D$6=\"Retired\",D577>=12)),ROUND(E577*0.015,2),0))","v":{"$error":"#VALUE!"}},{"$error":"#VALUE!"},null,{"$error":"#VALUE!"},"2065-10-01",{"$error":"#VALUE!"},{"$error":"#VALUE!"},{"$error":"#VALUE!"},{"$error":"#VALUE!"},null,{"$error":"#VALUE!"},"2065-10-01",{"$error":"#VALUE!"},{"$error":"#VALUE!"},{"$f":"0","v":0},{"$error":"#VALUE!"}]
[null,{"$error":"#VALUE!"},"2065-11-01",{"$error":"#VALUE!"},{"$error":"#VALUE!"},{"$f":"IF(AND(Calculator!$D$6=\"Active\",MONTH(C578)=7,D578<12),ROUND(E578*0.015*(D578/12),2),IF(AND(MONTH(C578)=7,OR(Calculator!$D$6=\"Retired\",D578>=12)),ROUND(E578*0.015,2),0))","v":{"$error":"#VALUE!"}},{"$error":"#VALUE!"},null,{"$error":"#VALUE!"},"2065-11-01",{"$error":"#VALUE!"},{"$error":"#VALUE!"},{"$error":"#VALUE!"},{"$error":"#VALUE!"},null,{"$error":"#VALUE!"},"2065-11-01",{"$error":"#VALUE!"},{"$error":"#VALUE!"},{"$f":"0","v":0},{"$error":"#VALUE!"}]
[null,{"$error":"#VALUE!"},"2065-12-01",{"$error":"#VALUE!"},{"$error":"#VALUE!"},{"$f":"IF(AND(Calculator!$D$6=\"Active\",MONTH(C579)=7,D579<12),ROUND(E579*0.015*(D579/12),2),IF(AND(MONTH(C579)=7,OR(Calculator!$D$6=\"Retired\",D579>=12)),ROUND(E579*0.015,2),0))","v":{"$error":"#VALUE!"}},{"$error":"#VALUE!"},null,{"$error":"#VALUE!"},"2065-12-01",{"$error":"#VALUE!"},{"$error":"#VALUE!"},{"$error":"#VALUE!"},{"$error":"#VALUE!"},null,{"$error":"#VALUE!"},"2065-12-01",{"$error":"#VALUE!"},{"$error":"#VALUE!"},{"$f":"0","v":0},{"$error":"#VALUE!"}]
[null,{"$f":"IF(MONTH(DoB)=MONTH(C579),B579+1,B579)","v":{"$error":"#VALUE!"}},"2066-01-01",{"$f":"IF(B580>=VLOOKUP(Age_at_Retirement,Life_Expectancy_Table,3,FALSE),\"\",(D579+1))","v":{"$error":"#VALUE!"}},{"$error":"#VALUE!"},{"$f":"IF(AND(Calculator!$D$6=\"Active\",MONTH(C580)=7,D580<12),ROUND(E580*0.015*(D580/12),2),IF(AND(MONTH(C580)=7,OR(Calculator!$D$6=\"Retired\",D580>=12)),ROUND(E580*0.015,2),0))","v":{"$error":"#VALUE!"}},{"$error":"#VALUE!"},null,{"$f":"IF(MONTH(DoB)=MONTH(J579),I579+1,I579)","v":{"$error":"#VALUE!"}},"2066-01-01",{"$f":"IF(I580>=VLOOKUP(Age_at_Retirement,Life_Expectancy_Table,3,FALSE),\"\",(K579+1))","v":{"$error":"#VALUE!"}},{"$error":"#VALUE!"},{"$error":"#VALUE!"},{"$error":"#VALUE!"},null,{"$f":"IF(MONTH(DoB)=MONTH(Q579),P579+1,P579)","v":{"$error":"#VALUE!"}},"2066-01-01",{"$f":"IF(P580>=VLOOKUP(Age_at_Retirement,Life_Expectancy_Table,3,FALSE),\"\",(R579+1))","v":{"$error":"#VALUE!"}},{"$error":"#VALUE!"},{"$f":"0","v":0},{"$error":"#VALUE!"}]
[null,{"$error":"#VALUE!"},"2066-02-01",{"$error":"#VALUE!"},{"$f":"IF(D581=\"\",0,G580)","v":{"$error":"#VALUE!"}},{"$f":"IF(AND(Calculator!$D$6=\"Active\",MONTH(C581)=7,D581<12),ROUND(E581*0.015*(D581/12),2),IF(AND(MONTH(C581)=7,OR(Calculator!$D$6=\"Retired\",D581>=12)),ROUND(E581*0.015,2),0))","v":{"$error":"#VALUE!"}},{"$error":"#VALUE!"},null,{"$error":"#VALUE!"},"2066-02-01",{"$error":"#VALUE!"},{"$f":"IF(K581=\"\",0,N580)","v":{"$error":"#VALUE!"}},{"$error":"#VALUE!"},{"$f":"L581+M581","v":{"$error":"#VALUE!"}},null,{"$error":"#VALUE!"},"2066-02-01",{"$error":"#VALUE!"},{"$f":"IF(R581=\"\",0,U580)","v":{"$error":"#VALUE!"}},{"$f":"0","v":0},{"$f":"S581+T581","v":{"$error":"#VALUE!"}}]
[null,{"$error":"#VALUE!"},"2066-03-01",{"$error":"#VALUE!"},{"$error":"#VALUE!"},{"$f":"IF(AND(Calculator!$D$6=\"Active\",MONTH(C582)=7,D582<12),ROUND(E582*0.015*(D582/12),2),IF(AND(MONTH(C582)=7,OR(Calculator!$D$6=\"Retired\",D582>=12)),ROUND(E582*0.015,2),0))","v":{"$error":"#VALUE!"}},{"$error":"#VALUE!"},null,{"$error":"#VALUE!"},{"$f":"EDATE(J581,1)","v":"2066-03-01"},{"$error":"#VALUE!"},{"$error":"#VALUE!"},{"$error":"#VALUE!"},{"$error":"#VALUE!"},null,{"$error":"#VALUE!"},{"$f":"EDATE(Q581,1)","v":"2066-03-01"},{"$error":"#VALUE!"},{"$error":"#VALUE!"},{"$f":"0","v":0},{"$error":"#VALUE!"}]
[null,{"$error":"#VALUE!"},"2066-04-01",{"$error":"#VALUE!"},{"$error":"#VALUE!"},{"$f":"IF(AND(Calculator!$D$6=\"Active\",MONTH(C583)=7,D583<12),ROUND(E583*0.015*(D583/12),2),IF(AND(MONTH(C583)=7,OR(Calculator!$D$6=\"Retired\",D583>=12)),ROUND(E583*0.015,2),0))","v":{"$error":"#VALUE!"}},{"$error":"#VALUE!"},null,{"$error":"#VALUE!"},"2066-04-01",{"$error":"#VALUE!"},{"$error":"#VALUE!"},{"$error":"#VALUE!"},{"$error":"#VALUE!"},null,{"$error":"#VALUE!"},"2066-04-01",{"$error":"#VALUE!"},{"$error":"#VALUE!"},{"$f":"0","v":0},{"$error":"#VALUE!"}]
[null,{"$error":"#VALUE!"},"2066-05-01",{"$error":"#VALUE!"},{"$error":"#VALUE!"},{"$f":"IF(AND(Calculator!$D$6=\"Active\",MONTH(C584)=7,D584<12),ROUND(E584*0.015*(D584/12),2),IF(AND(MONTH(C584)=7,OR(Calculator!$D$6=\"Retired\",D584>=12)),ROUND(E584*0.015,2),0))","v":{"$error":"#VALUE!"}},{"$error":"#VALUE!"},null,{"$error":"#VALUE!"},"2066-05-01",{"$error":"#VALUE!"},{"$error":"#VALUE!"},{"$error":"#VALUE!"},{"$error":"#VALUE!"},null,{"$error":"#VALUE!"},"2066-05-01",{"$error":"#VALUE!"},{"$error":"#VALUE!"},{"$f":"0","v":0},{"$error":"#VALUE!"}]
[null,{"$error":"#VALUE!"},"2066-06-01",{"$error":"#VALUE!"},{"$error":"#VALUE!"},{"$f":"IF(AND(Calculator!$D$6=\"Active\",MONTH(C585)=7,D585<12),ROUND(E585*0.015*(D585/12),2),IF(AND(MONTH(C585)=7,OR(Calculator!$D$6=\"Retired\",D585>=12)),ROUND(E585*0.015,2),0))","v":{"$error":"#VALUE!"}},{"$error":"#VALUE!"},null,{"$error":"#VALUE!"},"2066-06-01",{"$error":"#VALUE!"},{"$error":"#VALUE!"},{"$error":"#VALUE!"},{"$error":"#VALUE!"},null,{"$error":"#VALUE!"},"2066-06-01",{"$error":"#VALUE!"},{"$error":"#VALUE!"},{"$f":"0","v":0},{"$error":"#VALUE!"}]
[null,{"$error":"#VALUE!"},"2066-07-01",{"$error":"#VALUE!"},{"$error":"#VALUE!"},{"$f":"IF(AND(Calculator!$D$6=\"Active\",MONTH(C586)=7,D586<12),ROUND(E586*0.015*(D586/12),2),IF(AND(MONTH(C586)=7,OR(Calculator!$D$6=\"Retired\",D586>=12)),ROUND(E586*0.015,2),0))","v":{"$error":"#VALUE!"}},{"$error":"#VALUE!"},null,{"$error":"#VALUE!"},"2066-07-01",{"$error":"#VALUE!"},{"$error":"#VALUE!"},{"$error":"#VALUE!"},{"$error":"#VALUE!"},null,{"$error":"#VALUE!"},"2066-07-01",{"$error":"#VALUE!"},{"$error":"#VALUE!"},{"$f":"0","v":0},{"$error":"#VALUE!"}]
[null,{"$error":"#VALUE!"},"2066-08-01",{"$error":"#VALUE!"},{"$error":"#VALUE!"},{"$f":"IF(AND(Calculator!$D$6=\"Active\",MONTH(C587)=7,D587<12),ROUND(E587*0.015*(D587/12),2),IF(AND(MONTH(C587)=7,OR(Calculator!$D$6=\"Retired\",D587>=12)),ROUND(E587*0.015,2),0))","v":{"$error":"#VALUE!"}},{"$error":"#VALUE!"},null,{"$error":"#VALUE!"},"2066-08-01",{"$error":"#VALUE!"},{"$error":"#VALUE!"},{"$error":"#VALUE!"},{"$error":"#VALUE!"},null,{"$error":"#VALUE!"},"2066-08-01",{"$error":"#VALUE!"},{"$error":"#VALUE!"},{"$f":"0","v":0},{"$error":"#VALUE!"}]
[null,{"$error":"#VALUE!"},"2066-09-01",{"$error":"#VALUE!"},{"$error":"#VALUE!"},{"$f":"IF(AND(Calculator!$D$6=\"Active\",MONTH(C588)=7,D588<12),ROUND(E588*0.015*(D588/12),2),IF(AND(MONTH(C588)=7,OR(Calculator!$D$6=\"Retired\",D588>=12)),ROUND(E588*0.015,2),0))","v":{"$error":"#VALUE!"}},{"$error":"#VALUE!"},null,{"$error":"#VALUE!"},"2066-09-01",{"$error":"#VALUE!"},{"$error":"#VALUE!"},{"$error":"#VALUE!"},{"$error":"#VALUE!"},null,{"$error":"#VALUE!"},"2066-09-01",{"$error":"#VALUE!"},{"$error":"#VALUE!"},{"$f":"0","v":0},{"$error":"#VALUE!"}]
[null,{"$error":"#VALUE!"},"2066-10-01",{"$error":"#VALUE!"},{"$error":"#VALUE!"},{"$f":"IF(AND(Calculator!$D$6=\"Active\",MONTH(C589)=7,D589<12),ROUND(E589*0.015*(D589/12),2),IF(AND(MONTH(C589)=7,OR(Calculator!$D$6=\"Retired\",D589>=12)),ROUND(E589*0.015,2),0))","v":{"$error":"#VALUE!"}},{"$error":"#VALUE!"},null,{"$error":"#VALUE!"},"2066-10-01",{"$error":"#VALUE!"},{"$error":"#VALUE!"},{"$error":"#VALUE!"},{"$error":"#VALUE!"},null,{"$error":"#VALUE!"},"2066-10-01",{"$error":"#VALUE!"},{"$error":"#VALUE!"},{"$f":"0","v":0},{"$error":"#VALUE!"}]
[null,{"$error":"#VALUE!"},"2066-11-01",{"$error":"#VALUE!"},{"$error":"#VALUE!"},{"$f":"IF(AND(Calculator!$D$6=\"Active\",MONTH(C590)=7,D590<12),ROUND(E590*0.015*(D590/12),2),IF(AND(MONTH(C590)=7,OR(Calculator!$D$6=\"Retired\",D590>=12)),ROUND(E590*0.015,2),0))","v":{"$error":"#VALUE!"}},{"$error":"#VALUE!"},null,{"$error":"#VALUE!"},"2066-11-01",{"$error":"#VALUE!"},{"$error":"#VALUE!"},{"$error":"#VALUE!"},{"$error":"#VALUE!"},null,{"$error":"#VALUE!"},"2066-11-01",{"$error":"#VALUE!"},{"$error":"#VALUE!"},{"$f":"0","v":0},{"$error":"#VALUE!"}]
[null,{"$error":"#VALUE!"},"2066-12-01",{"$error":"#VALUE!"},{"$error":"#VALUE!"},{"$f":"IF(AND(Calculator!$D$6=\"Active\",MONTH(C591)=7,D591<12),ROUND(E591*0.015*(D591/12),2),IF(AND(MONTH(C591)=7,OR(Calculator!$D$6=\"Retired\",D591>=12)),ROUND(E591*0.015,2),0))","v":{"$error":"#VALUE!"}},{"$error":"#VALUE!"},null,{"$error":"#VALUE!"},"2066-12-01",{"$error":"#VALUE!"},{"$error":"#VALUE!"},{"$error":"#VALUE!"},{"$error":"#VALUE!"},null,{"$error":"#VALUE!"},"2066-12-01",{"$error":"#VALUE!"},{"$error":"#VALUE!"},{"$f":"0","v":0},{"$error":"#VALUE!"}]
[null,{"$error":"#VALUE!"},"2067-01-01",{"$error":"#VALUE!"},{"$error":"#VALUE!"},{"$f":"IF(AND(Calculator!$D$6=\"Active\",MONTH(C592)=7,D592<12),ROUND(E592*0.015*(D592/12),2),IF(AND(MONTH(C592)=7,OR(Calculator!$D$6=\"Retired\",D592>=12)),ROUND(E592*0.015,2),0))","v":{"$error":"#VALUE!"}},{"$error":"#VALUE!"},null,{"$error":"#VALUE!"},"2067-01-01",{"$error":"#VALUE!"},{"$error":"#VALUE!"},{"$error":"#VALUE!"},{"$error":"#VALUE!"},null,{"$error":"#VALUE!"},"2067-01-01",{"$error":"#VALUE!"},{"$error":"#VALUE!"},{"$f":"0","v":0},{"$error":"#VALUE!"}]
[null,{"$error":"#VALUE!"},"2067-02-01",{"$error":"#VALUE!"},{"$error":"#VALUE!"},{"$f":"IF(AND(Calculator!$D$6=\"Active\",MONTH(C593)=7,D593<12),ROUND(E593*0.015*(D593/12),2),IF(AND(MONTH(C593)=7,OR(Calculator!$D$6=\"Retired\",D593>=12)),ROUND(E593*0.015,2),0))","v":{"$error":"#VALUE!"}},{"$error":"#VALUE!"},null,{"$error":"#VALUE!"},"2067-02-01",{"$error":"#VALUE!"},{"$error":"#VALUE!"},{"$error":"#VALUE!"},{"$error":"#VALUE!"},null,{"$error":"#VALUE!"},"2067-02-01",{"$error":"#VALUE!"},{"$error":"#VALUE!"},{"$f":"0","v":0},{"$error":"#VALUE!"}]
[null,{"$error":"#VALUE!"},"2067-03-01",{"$error":"#VALUE!"},{"$error":"#VALUE!"},{"$f":"IF(AND(Calculator!$D$6=\"Active\",MONTH(C594)=7,D594<12),ROUND(E594*0.015*(D594/12),2),IF(AND(MONTH(C594)=7,OR(Calculator!$D$6=\"Retired\",D594>=12)),ROUND(E594*0.015,2),0))","v":{"$error":"#VALUE!"}},{"$error":"#VALUE!"},null,{"$error":"#VALUE!"},"2067-03-01",{"$error":"#VALUE!"},{"$error":"#VALUE!"},{"$error":"#VALUE!"},{"$error":"#VALUE!"},null,{"$error":"#VALUE!"},"2067-03-01",{"$error":"#VALUE!"},{"$error":"#VALUE!"},{"$f":"0","v":0},{"$error":"#VALUE!"}]
[null,{"$error":"#VALUE!"},"2067-04-01",{"$error":"#VALUE!"},{"$error":"#VALUE!"},{"$f":"IF(AND(Calculator!$D$6=\"Active\",MONTH(C595)=7,D595<12),ROUND(E595*0.015*(D595/12),2),IF(AND(MONTH(C595)=7,OR(Calculator!$D$6=\"Retired\",D595>=12)),ROUND(E595*0.015,2),0))","v":{"$error":"#VALUE!"}},{"$error":"#VALUE!"},null,{"$error":"#VALUE!"},"2067-04-01",{"$error":"#VALUE!"},{"$error":"#VALUE!"},{"$error":"#VALUE!"},{"$error":"#VALUE!"},null,{"$error":"#VALUE!"},"2067-04-01",{"$error":"#VALUE!"},{"$error":"#VALUE!"},{"$f":"0","v":0},{"$error":"#VALUE!"}]
[null,{"$error":"#VALUE!"},"2067-05-01",{"$error":"#VALUE!"},{"$error":"#VALUE!"},{"$f":"IF(AND(Calculator!$D$6=\"Active\",MONTH(C596)=7,D596<12),ROUND(E596*0.015*(D596/12),2),IF(AND(MONTH(C596)=7,OR(Calculator!$D$6=\"Retired\",D596>=12)),ROUND(E596*0.015,2),0))","v":{"$error":"#VALUE!"}},{"$error":"#VALUE!"},null,{"$error":"#VALUE!"},"2067-05-01",{"$error":"#VALUE!"},{"$error":"#VALUE!"},{"$error":"#VALUE!"},{"$error":"#VALUE!"},null,{"$error":"#VALUE!"},"2067-05-01",{"$error":"#VALUE!"},{"$error":"#VALUE!"},{"$f":"0","v":0},{"$error":"#VALUE!"}]
[null,{"$error":"#VALUE!"},"2067-06-01",{"$error":"#VALUE!"},{"$error":"#VALUE!"},{"$f":"IF(AND(Calculator!$D$6=\"Active\",MONTH(C597)=7,D597<12),ROUND(E597*0.015*(D597/12),2),IF(AND(MONTH(C597)=7,OR(Calculator!$D$6=\"Retired\",D597>=12)),ROUND(E597*0.015,2),0))","v":{"$error":"#VALUE!"}},{"$error":"#VALUE!"},null,{"$error":"#VALUE!"},"2067-06-01",{"$error":"#VALUE!"},{"$error":"#VALUE!"},{"$error":"#VALUE!"},{"$error":"#VALUE!"},null,{"$error":"#VALUE!"},"2067-06-01",{"$error":"#VALUE!"},{"$error":"#VALUE!"},{"$f":"0","v":0},{"$error":"#VALUE!"}]
[null,{"$error":"#VALUE!"},{"$f":"EDATE(C597,1)","v":"2067-07-01"},{"$error":"#VALUE!"},{"$f":"IF(D598=\"\",0,G597)","v":{"$error":"#VALUE!"}},{"$f":"IF(AND(Calculator!$D$6=\"Active\",MONTH(C598)=7,D598<12),ROUND(E598*0.015*(D598/12),2),IF(AND(MONTH(C598)=7,OR(Calculator!$D$6=\"Retired\",D598>=12)),ROUND(E598*0.015,2),0))","v":{"$error":"#VALUE!"}},{"$f":"E598+F598","v":{"$error":"#VALUE!"}},null,{"$error":"#VALUE!"},"2067-07-01",{"$error":"#VALUE!"},{"$error":"#VALUE!"},{"$error":"#VALUE!"},{"$error":"#VALUE!"},null,{"$error":"#VALUE!"},"2067-07-01",{"$error":"#VALUE!"},{"$error":"#VALUE!"},{"$f":"0","v":0},{"$error":"#VALUE!"}]
[null,{"$error":"#VALUE!"},"2067-08-01",{"$error":"#VALUE!"},{"$error":"#VALUE!"},{"$f":"IF(AND(Calculator!$D$6=\"Active\",MONTH(C599)=7,D599<12),ROUND(E599*0.015*(D599/12),2),IF(AND(MONTH(C599)=7,OR(Calculator!$D$6=\"Retired\",D599>=12)),ROUND(E599*0.015,2),0))","v":{"$error":"#VALUE!"}},{"$error":"#VALUE!"},null,{"$error":"#VALUE!"},"2067-08-01",{"$error":"#VALUE!"},{"$error":"#VALUE!"},{"$error":"#VALUE!"},{"$error":"#VALUE!"},null,{"$error":"#VALUE!"},"2067-08-01",{"$error":"#VALUE!"},{"$error":"#VALUE!"},{"$f":"0","v":0},{"$error":"#VALUE!"}]
[null,{"$error":"#VALUE!"},"2067-09-01",{"$error":"#VALUE!"},{"$error":"#VALUE!"},{"$f":"IF(AND(Calculator!$D$6=\"Active\",MONTH(C600)=7,D600<12),ROUND(E600*0.015*(D600/12),2),IF(AND(MONTH(C600)=7,OR(Calculator!$D$6=\"Retired\",D600>=12)),ROUND(E600*0.015,2),0))","v":{"$error":"#VALUE!"}},{"$error":"#VALUE!"},null,{"$error":"#VALUE!"},"2067-09-01",{"$error":"#VALUE!"},{"$error":"#VALUE!"},{"$error":"#VALUE!"},{"$error":"#VALUE!"},null,{"$error":"#VALUE!"},"2067-09-01",{"$error":"#VALUE!"},{"$error":"#VALUE!"},{"$f":"0","v":0},{"$error":"#VALUE!"}]
[null,{"$error":"#VALUE!"},"2067-10-01",{"$error":"#VALUE!"},{"$error":"#VALUE!"},{"$f":"IF(AND(Calculator!$D$6=\"Active\",MONTH(C601)=7,D601<12),ROUND(E601*0.015*(D601/12),2),IF(AND(MONTH(C601)=7,OR(Calculator!$D$6=\"Retired\",D601>=12)),ROUND(E601*0.015,2),0))","v":{"$error":"#VALUE!"}},{"$error":"#VALUE!"},null,{"$error":"#VALUE!"},"2067-10-01",{"$error":"#VALUE!"},{"$error":"#VALUE!"},{"$error":"#VALUE!"},{"$error":"#VALUE!"},null,{"$error":"#VALUE!"},"2067-10-01",{"$error":"#VALUE!"},{"$error":"#VALUE!"},{"$f":"0","v":0},{"$error":"#VALUE!"}]
[null,{"$error":"#VALUE!"},"2067-11-01",{"$error":"#VALUE!"},{"$error":"#VALUE!"},{"$f":"IF(AND(Calculator!$D$6=\"Active\",MONTH(C602)=7,D602<12),ROUND(E602*0.015*(D602/12),2),IF(AND(MONTH(C602)=7,OR(Calculator!$D$6=\"Retired\",D602>=12)),ROUND(E602*0.015,2),0))","v":{"$error":"#VALUE!"}},{"$error":"#VALUE!"},null,{"$error":"#VALUE!"},"2067-11-01",{"$error":"#VALUE!"},{"$error":"#VALUE!"},{"$error":"#VALUE!"},{"$error":"#VALUE!"},null,{"$error":"#VALUE!"},"2067-11-01",{"$error":"#VALUE!"},{"$error":"#VALUE!"},{"$f":"0","v":0},{"$error":"#VALUE!"}]
[null,{"$error":"#VALUE!"},"2067-12-01",{"$error":"#VALUE!"},{"$error":"#VALUE!"},{"$f":"IF(AND(Calculator!$D$6=\"Active\",MONTH(C603)=7,D603<12),ROUND(E603*0.015*(D603/12),2),IF(AND(MONTH(C603)=7,OR(Calculator!$D$6=\"Retired\",D603>=12)),ROUND(E603*0.015,2),0))","v":{"$error":"#VALUE!"}},{"$error":"#VALUE!"},null,{"$error":"#VALUE!"},"2067-12-01",{"$error":"#VALUE!"},{"$error":"#VALUE!"},{"$error":"#VALUE!"},{"$error":"#VALUE!"},null,{"$error":"#VALUE!"},"2067-12-01",{"$error":"#VALUE!"},{"$error":"#VALUE!"},{"$f":"0","v":0},{"$error":"#VALUE!"}]
[null,{"$error":"#VALUE!"},"2068-01-01",{"$error":"#VALUE!"},{"$error":"#VALUE!"},{"$f":"IF(AND(Calculator!$D$6=\"Active\",MONTH(C604)=7,D604<12),ROUND(E604*0.015*(D604/12),2),IF(AND(MONTH(C604)=7,OR(Calculator!$D$6=\"Retired\",D604>=12)),ROUND(E604*0.015,2),0))","v":{"$error":"#VALUE!"}},{"$error":"#VALUE!"},null,{"$error":"#VALUE!"},"2068-01-01",{"$error":"#VALUE!"},{"$error":"#VALUE!"},{"$error":"#VALUE!"},{"$error":"#VALUE!"},null,{"$error":"#VALUE!"},"2068-01-01",{"$error":"#VALUE!"},{"$error":"#VALUE!"},{"$f":"0","v":0},{"$error":"#VALUE!"}]
[null,{"$error":"#VALUE!"},"2068-02-01",{"$error":"#VALUE!"},{"$error":"#VALUE!"},{"$f":"IF(AND(Calculator!$D$6=\"Active\",MONTH(C605)=7,D605<12),ROUND(E605*0.015*(D605/12),2),IF(AND(MONTH(C605)=7,OR(Calculator!$D$6=\"Retired\",D605>=12)),ROUND(E605*0.015,2),0))","v":{"$error":"#VALUE!"}},{"$error":"#VALUE!"},null,{"$error":"#VALUE!"},"2068-02-01",{"$error":"#VALUE!"},{"$error":"#VALUE!"},{"$error":"#VALUE!"},{"$error":"#VALUE!"},null,{"$error":"#VALUE!"},"2068-02-01",{"$error":"#VALUE!"},{"$error":"#VALUE!"},{"$f":"0","v":0},{"$error":"#VALUE!"}]
[null,{"$error":"#VALUE!"},"2068-03-01",{"$error":"#VALUE!"},{"$error":"#VALUE!"},{"$f":"IF(AND(Calculator!$D$6=\"Active\",MONTH(C606)=7,D606<12),ROUND(E606*0.015*(D606/12),2),IF(AND(MONTH(C606)=7,OR(Calculator!$D$6=\"Retired\",D606>=12)),ROUND(E606*0.015,2),0))","v":{"$error":"#VALUE!"}},{"$error":"#VALUE!"},null,{"$error":"#VALUE!"},"2068-03-01",{"$error":"#VALUE!"},{"$error":"#VALUE!"},{"$error":"#VALUE!"},{"$error":"#VALUE!"},null,{"$error":"#VALUE!"},"2068-03-01",{"$error":"#VALUE!"},{"$error":"#VALUE!"},{"$f":"0","v":0},{"$error":"#VALUE!"}]
[null,{"$error":"#VALUE!"},"2068-04-01",{"$error":"#VALUE!"},{"$error":"#VALUE!"},{"$f":"IF(AND(Calculator!$D$6=\"Active\",MONTH(C607)=7,D607<12),ROUND(E607*0.015*(D607/12),2),IF(AND(MONTH(C607)=7,OR(Calculator!$D$6=\"Retired\",D607>=12)),ROUND(E607*0.015,2),0))","v":{"$error":"#VALUE!"}},{"$error":"#VALUE!"},null,{"$error":"#VALUE!"},"2068-04-01",{"$error":"#VALUE!"},{"$error":"#VALUE!"},{"$error":"#VALUE!"},{"$error":"#VALUE!"},null,{"$error":"#VALUE!"},"2068-04-01",{"$error":"#VALUE!"},{"$error":"#VALUE!"},{"$f":"0","v":0},{"$error":"#VALUE!"}]
[null,{"$error":"#VALUE!"},"2068-05-01",{"$error":"#VALUE!"},{"$error":"#VALUE!"},{"$f":"IF(AND(Calculator!$D$6=\"Active\",MONTH(C608)=7,D608<12),ROUND(E608*0.015*(D608/12),2),IF(AND(MONTH(C608)=7,OR(Calculator!$D$6=\"Retired\",D608>=12)),ROUND(E608*0.015,2),0))","v":{"$error":"#VALUE!"}},{"$error":"#VALUE!"},null,{"$error":"#VALUE!"},"2068-05-01",{"$error":"#VALUE!"},{"$error":"#VALUE!"},{"$error":"#VALUE!"},{"$error":"#VALUE!"},null,{"$error":"#VALUE!"},"2068-05-01",{"$error":"#VALUE!"},{"$error":"#VALUE!"},{"$f":"0","v":0},{"$error":"#VALUE!"}]
[null,{"$error":"#VALUE!"},"2068-06-01",{"$error":"#VALUE!"},{"$error":"#VALUE!"},{"$f":"IF(AND(Calculator!$D$6=\"Active\",MONTH(C609)=7,D609<12),ROUND(E609*0.015*(D609/12),2),IF(AND(MONTH(C609)=7,OR(Calculator!$D$6=\"Retired\",D609>=12)),ROUND(E609*0.015,2),0))","v":{"$error":"#VALUE!"}},{"$error":"#VALUE!"},null,{"$error":"#VALUE!"},"2068-06-01",{"$error":"#VALUE!"},{"$error":"#VALUE!"},{"$error":"#VALUE!"},{"$error":"#VALUE!"},null,{"$error":"#VALUE!"},"2068-06-01",{"$error":"#VALUE!"},{"$error":"#VALUE!"},{"$f":"0","v":0},{"$error":"#VALUE!"}]
[null,{"$error":"#VALUE!"},"2068-07-01",{"$error":"#VALUE!"},{"$error":"#VALUE!"},{"$f":"IF(AND(Calculator!$D$6=\"Active\",MONTH(C610)=7,D610<12),ROUND(E610*0.015*(D610/12),2),IF(AND(MONTH(C610)=7,OR(Calculator!$D$6=\"Retired\",D610>=12)),ROUND(E610*0.015,2),0))","v":{"$error":"#VALUE!"}},{"$error":"#VALUE!"},null,{"$error":"#VALUE!"},"2068-07-01",{"$error":"#VALUE!"},{"$error":"#VALUE!"},{"$error":"#VALUE!"},{"$error":"#VALUE!"},null,{"$error":"#VALUE!"},"2068-07-01",{"$error":"#VALUE!"},{"$error":"#VALUE!"},{"$f":"0","v":0},{"$error":"#VALUE!"}]
[null,{"$error":"#VALUE!"},"2068-08-01",{"$error":"#VALUE!"},{"$error":"#VALUE!"},{"$f":"IF(AND(Calculator!$D$6=\"Active\",MONTH(C611)=7,D611<12),ROUND(E611*0.015*(D611/12),2),IF(AND(MONTH(C611)=7,OR(Calculator!$D$6=\"Retired\",D611>=12)),ROUND(E611*0.015,2),0))","v":{"$error":"#VALUE!"}},{"$error":"#VALUE!"},null,{"$error":"#VALUE!"},"2068-08-01",{"$error":"#VALUE!"},{"$error":"#VALUE!"},{"$error":"#VALUE!"},{"$error":"#VALUE!"},null,{"$error":"#VALUE!"},"2068-08-01",{"$error":"#VALUE!"},{"$error":"#VALUE!"},{"$f":"0","v":0},{"$error":"#VALUE!"}]
[null,{"$error":"#VALUE!"},"2068-09-01",{"$error":"#VALUE!"},{"$error":"#VALUE!"},{"$f":"IF(AND(Calculator!$D$6=\"Active\",MONTH(C612)=7,D612<12),ROUND(E612*0.015*(D612/12),2),IF(AND(MONTH(C612)=7,OR(Calculator!$D$6=\"Retired\",D612>=12)),ROUND(E612*0.015,2),0))","v":{"$error":"#VALUE!"}},{"$error":"#VALUE!"},null,{"$error":"#VALUE!"},"2068-09-01",{"$error":"#VALUE!"},{"$error":"#VALUE!"},{"$error":"#VALUE!"},{"$error":"#VALUE!"},null,{"$error":"#VALUE!"},"2068-09-01",{"$error":"#VALUE!"},{"$error":"#VALUE!"},{"$f":"0","v":0},{"$error":"#VALUE!"}]
[null,{"$error":"#VALUE!"},"2068-10-01",{"$error":"#VALUE!"},{"$error":"#VALUE!"},{"$f":"IF(AND(Calculator!$D$6=\"Active\",MONTH(C613)=7,D613<12),ROUND(E613*0.015*(D613/12),2),IF(AND(MONTH(C613)=7,OR(Calculator!$D$6=\"Retired\",D613>=12)),ROUND(E613*0.015,2),0))","v":{"$error":"#VALUE!"}},{"$error":"#VALUE!"},null,{"$error":"#VALUE!"},"2068-10-01",{"$error":"#VALUE!"},{"$error":"#VALUE!"},{"$error":"#VALUE!"},{"$error":"#VALUE!"},null,{"$error":"#VALUE!"},"2068-10-01",{"$error":"#VALUE!"},{"$error":"#VALUE!"},{"$f":"0","v":0},{"$error":"#VALUE!"}]
[null,{"$error":"#VALUE!"},"2068-11-01",{"$error":"#VALUE!"},{"$error":"#VALUE!"},{"$f":"IF(AND(Calculator!$D$6=\"Active\",MONTH(C614)=7,D614<12),ROUND(E614*0.015*(D614/12),2),IF(AND(MONTH(C614)=7,OR(Calculator!$D$6=\"Retired\",D614>=12)),ROUND(E614*0.015,2),0))","v":{"$error":"#VALUE!"}},{"$error":"#VALUE!"},null,{"$error":"#VALUE!"},"2068-11-01",{"$error":"#VALUE!"},{"$error":"#VALUE!"},{"$error":"#VALUE!"},{"$error":"#VALUE!"},null,{"$error":"#VALUE!"},"2068-11-01",{"$error":"#VALUE!"},{"$error":"#VALUE!"},{"$f":"0","v":0},{"$error":"#VALUE!"}]
[null,{"$error":"#VALUE!"},{"$f":"EDATE(C614,1)","v":"2068-12-01"},{"$error":"#VALUE!"},{"$f":"IF(D615=\"\",0,G614)","v":{"$error":"#VALUE!"}},{"$f":"IF(AND(Calculator!$D$6=\"Active\",MONTH(C615)=7,D615<12),ROUND(E615*0.015*(D615/12),2),IF(AND(MONTH(C615)=7,OR(Calculator!$D$6=\"Retired\",D615>=12)),ROUND(E615*0.015,2),0))","v":{"$error":"#VALUE!"}},{"$f":"E615+F615","v":{"$error":"#VALUE!"}},null,{"$error":"#VALUE!"},"2068-12-01",{"$error":"#VALUE!"},{"$error":"#VALUE!"},{"$error":"#VALUE!"},{"$error":"#VALUE!"},null,{"$error":"#VALUE!"},"2068-12-01",{"$error":"#VALUE!"},{"$error":"#VALUE!"},{"$f":"0","v":0},{"$error":"#VALUE!"}]
[null,{"$error":"#VALUE!"},"2069-01-01",{"$error":"#VALUE!"},{"$error":"#VALUE!"},{"$f":"IF(AND(Calculator!$D$6=\"Active\",MONTH(C616)=7,D616<12),ROUND(E616*0.015*(D616/12),2),IF(AND(MONTH(C616)=7,OR(Calculator!$D$6=\"Retired\",D616>=12)),ROUND(E616*0.015,2),0))","v":{"$error":"#VALUE!"}},{"$error":"#VALUE!"},null,{"$error":"#VALUE!"},"2069-01-01",{"$error":"#VALUE!"},{"$error":"#VALUE!"},{"$error":"#VALUE!"},{"$error":"#VALUE!"},null,{"$error":"#VALUE!"},"2069-01-01",{"$error":"#VALUE!"},{"$error":"#VALUE!"},{"$f":"0","v":0},{"$error":"#VALUE!"}]

{"sheet":"Life Expectancy","index":2,"n_rows":121,"n_cols":5,"rows_kept":121,"cut":false,"hidden":true,"merged":[]}
["Age","Factor","Expectancy",null,"Member Type"]
[0,83.564391000000001,{"$f":"ROUNDUP(A2+B2,0)","v":84},null,"Active"]
[1,82.564391000000001,{"$f":"ROUNDUP(A3+B3,0)","v":84},null,"Retired"]
[2,81.564391000000001,84]
[3,80.564391000000001,84]
[4,79.564391000000001,84]
[5,78.564391000000001,84]
[6,77.564391000000001,84]
[7,76.564391000000001,84]
[8,75.564391000000001,84]
[9,74.564391000000001,84]
[10,73.564391000000001,84]
[11,72.564391000000001,84]
[12,71.564391000000001,84]
[13,70.564391000000001,84]
[14,69.564391000000001,84]
[15,68.564391000000001,84]
[16,67.577042000000006,84]
[17,66.590069,84]
[18,65.603239000000002,84]
[19,64.616478000000001,84]
[20,63.629702000000002,84]
[21,62.642879000000001,84]
[22,61.656021000000003,84]
[23,60.669136000000002,84]
[24,59.682183999999999,84]
[25,58.695326999999999,84]
[26,57.708612000000002,84]
[27,56.722160000000002,84]
[28,55.736154999999997,84]
[29,54.750754000000001,84]
[30,53.766272999999998,84]
[31,52.783819999999999,84]
[32,51.803367999999999,84]
[33,50.824851000000002,84]
[34,49.848139000000003,84]
[35,48.873040000000003,84]
[36,47.899396000000003,84]
[37,46.927132,84]
[38,45.956304000000003,84]
[39,44.987020999999999,84]
[40,44.019516000000003,85]
[41,43.054082999999999,85]
[42,42.090992,85]
[43,41.130440999999998,85]
[44,40.172600000000003,85]
[45,39.217343,85]
[46,38.264698000000003,85]
[47,37.314621000000002,85]
[48,36.367145000000001,85]
[49,35.422350000000002,85]
[50,34.481295000000003,85]
[51,33.544437000000002,85]
[52,32.611396999999997,85]
[53,31.682590999999999,85]
[54,30.757715000000001,85]
[55,29.838618,85]
[56,28.925211000000001,85]
[57,28.01727,86]
[58,27.115279000000001,86]
[59,26.220013000000002,86]
[60,25.332349000000001,86]
[61,24.45374,86]
[62,23.584475000000001,86]
[63,22.727658000000002,86]
[64,21.882211000000002,86]
[65,21.048876,{"$f":"ROUNDUP(A67+B67,0)","v":87}]
[66,20.228190000000001,87]
[67,19.418403000000001,87]
[68,18.620282,87]
[69,17.834886999999998,87]
[70,17.065486,88]
[71,16.310331999999999,88]
[72,15.570653,88]
[73,14.847096000000001,88]
[74,14.139678999999999,89]
[75,13.447934,89]
[76,12.771611999999999,89]
[77,12.110835,90]
[78,11.466096,90]
[79,10.83803,90]
[80,10.227848,91]
[81,9.6360890000000001,91]
[82,9.0632940000000008,92]
[83,8.5100090000000002,92]
[84,7.9768249999999998,92]
[85,7.464467,93]
[86,6.9766240000000002,93]
[87,6.5141010000000001,94]
[88,6.07714,95]
[89,5.6650739999999997,95]
[90,5.2882199999999999,96]
[91,4.9461830000000004,96]
[92,4.6379359999999998,97]
[93,4.3620409999999996,98]
[94,4.1169140000000004,99]
[95,3.9011339999999999,99]
[96,3.7136840000000002,100]
[97,3.5480870000000002,101]
[98,3.3868640000000001,102]
[99,3.2383839999999999,103]
[100,3.0832570000000001,104]
[101,2.9364819999999998,104]
[102,2.7897470000000002,105]
[103,2.6605439999999998,106]
[104,2.5391879999999998,107]
[105,2.443022,108]
[106,2.3550450000000001,109]
[107,2.2760539999999998,110]
[108,2.2064159999999999,111]
[109,2.1460539999999999,112]
[110,2.0943010000000002,113]
[111,2.0495649999999999,114]
[112,2.0086569999999999,115]
[113,1.965578,115]
[114,1.909475,116]
[115,1.821347,117]
[116,1.6744669999999999,118]
[117,1.429667,119]
[118,1.0216670000000001,120]
[119,0.43333300000000002,120]